
BEGIN:VCALENDAR
VERSION:2.0
CALSCALE:GREGORIAN
PRODID:py_ics_file
BEGIN:VEVENT
CATEGORIES:Graduate
DTSTAMP;TZID=US/Eastern:20260422T134246.554488
DTSTART;TZID=US/Eastern:20260417T00000.0
DTEND;TZID=US/Eastern:20260418T00000.0
LOCATION:
SEQUENCE:0
SUMMARY:Purdue Engineering Students Secure T
 op NSF Graduate Research Fellowships
  
DESCRIPTION:Purdue University’s College of Eng
 ineering continues to demonstrate it
 s excellence on the national stage, 
 as its undergraduate student alumni 
 and graduate students have once agai
 n secured a remarkable number of Nat
 ional Science Foundation Graduate Re
 search Fellowship Program (NSF GRFP)
  awards. NSF handed out a record 2,5
 99 of its prestigious fellowships in
  2026, with Purdue Engineering maint
 aining a strong percentage of award 
 recipients.
UID:/Engr/Academics/Graduate/News/2026/p
 urdue-engineering-students-secure-to
 p-nsf-graduate-research-fellowships
URL:https://engineering.purdue.edu/Engr/
 Academics/Graduate/News/2026/purdue-
 engineering-students-secure-top-nsf-
 graduate-research-fellowships
END:VEVENT
BEGIN:VTIMEZONE
TZID:US/Eastern
LAST-MODIFIED:20050809T050000Z
TZURL:https://en.wikipedia.org/wiki/Eastern_Time_Zone
BEGIN:STANDARD
DTSTART:20071104T020000
RRULE:FREQ=YEARLY;BYMONTH=11;BYDAY=1SU
TZOFFSETFROM:-0400
TZOFFSETTO:-0500
TZNAME:EST
END:STANDARD
BEGIN:DAYLIGHT
DTSTART:20070311T020000
RRULE:FREQ=YEARLY;BYMONTH=3;BYDAY=2SU
TZOFFSETFROM:-0500
TZOFFSETTO:-0400
TZNAME:EDT
END:DAYLIGHT
END:VTIMEZONE
END:VCALENDAR
