1.00000000000000000
0.0
0.0
-1.00000000000000000
511439.50000000000
4459818.5000000000
