1.00000000000000000
0.0
0.0
-1.00000000000000000
503533.50000000000
4476608.5000000000
