1.00000000000000000
0.0
0.0
-1.00000000000000000
498893.50000000000
4483141.5000000000
