{"text_format":"1","workbook":"xlsx","n_sheets":26,"sheets":["Model","Inputs","Setback","Plots","Maps","AU Calc","Scratch","Links","Plotdata","GEPoints","Circ","notes","SrcFactors","Animal","Swine","Dairy","Poultry","ListsFlags","Wind","compr","OFFSET","Illinois","IOWA","NSW","Ontario MDS","NamedRanges1"],"not_rendered":{"charts":4,"images":2,"macros":1,"external_links":0,"defined_names":757,"comments":17,"pivot_tables":0},"unopened":[],"bounds":{"document_bytes":16777216,"sheet_cells":100000,"rows_first":2000,"rows_last":500,"rows_between":2000,"halvings":0,"cell_chars":16384,"cell_head_chars":4096},"cells_cut":0,"cells_raw":0,"read":"whole","date_system":"1900"}

{"sheet":"Model","index":0,"n_rows":100,"n_cols":9,"rows_kept":100,"cut":false,"hidden":false,"merged":[[39,0,39,4],[64,0,64,7],[57,0,57,7],[60,0,60,7],[52,0,52,1],[52,2,52,3],[39,5,39,6],[52,4,52,7],[0,0,0,7],[1,0,1,7],[8,4,8,7],[8,0,8,2],[26,0,27,0],[26,6,27,6],[25,0,25,6],[12,5,12,7],[26,4,26,5],[12,2,12,3],[26,1,26,3],[11,0,11,7],[7,0,7,7],[12,4,13,4],[12,0,13,0],[12,1,13,1],[76,0,76,7],[74,0,74,7],[70,0,70,7],[80,0,80,1],[56,0,56,7],[63,0,63,7],[67,0,67,7],[71,0,71,7],[79,0,79,1]]}
["Purdue Setback Model (2015)  "]
["Send questions and comments to purdueodor@gmail.com or heber@purdue.edu"]
["Step 1: Find the smallest rectangle that encompasses all of the emitting sources on the livestock production site"]
["Step 2: Mark the SW corner of this rectangle as the site reference point.  Individual emission source x-y origins are SW corners of rectangular sources and centers of circular sources."]
["Step 3: Input X-Y coordinates (distance in feet from source origin to east and north of site reference point) for each emission source (GoogleEarth or similar tool can be used)."]
["Step 4: Choose the orientation and input the dimensions of each emission source."]
[]
["PLOTTING INFORMATION"]
["SITE REFERENCE POINT (SRP)",null,null,"GE Lat/Long Locator","REFERENCE CIRCLE (OPTIONAL)"]
["Latitude (decimal)",45,"Longitude (decimal)",-86,"Circle radius, ft",2640,"Plot circle?","Yes"]
[]
["SOURCE LOCATIONS AND DIMENSIONS"]
["SOURCE","SHAPE","LOCATION OF SOURCE (x-y origin)",null,"ORIENTATION","DIMENSIONS OF EMISSION SOURCES"]
[null,null,"N DISTANCE (ft)","E DISTANCE (ft)",null,"LENGTH (ft)","WIDTH (ft)","RADIUS (ft)"]
[null,null,null,null,null,null,null,null,{"$f":"s1L*s1W","v":0}]
[null,null,null,null,null,null,null,null,{"$f":"s1L*s1W","v":0}]
[]
[]
[]
[]
[]
[]
[]
[]
[]
["SOURCE CHARACTERISTICS"]
["SOURCE","ODOR EMISSIONS PER SOURCE",null,null,"MANURE MANAGEMENT",null,"PLOT SETBACK?"]
[null,"SPECIES","EMISSION SOURCE","NUMBER or AU","REMOVAL FREQUENCY","DILUTION/DRYING/COLLECTION"]
[{"$f":"IF(A15=\"\",\"\",A15)","v":""}]
[""]
[""]
[""]
[""]
[""]
[""]
[""]
[""]
[""]
[]
["ODOR ABATEMENT",null,null,null,null,"EXPOSURE RECOMMENDATIONS:"]
["SOURCE","TECHNIQUE 1","TECHNIQUE 2","TECHNIQUE 3","OTHER (%)","LAND USE","EXPOSURE"]
[{"$f":"IF(A29=\"\",\"\",A29)","v":""},null,null,null,null,"Agricultural, Few Residences","91% odor free"]
["",null,null,null,null,"Rural Residential","94% odor free"]
["",null,null,null,null,"Small Residential ( < 50 homes)","96% odor free"]
["",null,null,null,null,"Large Residential (50+ homes)","97% odor free"]
["",null,null,null,null,"Town ( < 5000 people)","98% odor free"]
["",null,null,null,null,"City (5000+ people)","99% odor free"]
[""]
[""]
[""]
[""]
[]
["TERRAIN AROUND SITE",null,"EXPOSURE AROUND SITE",null,"HISTORICAL WIND DIRECTIONS FROM DATABASE"]
["SAME ALL DIRECTIONS?","UNIFORM TERRAIN","SAME ALL DIRECTIONS?","UNIFORM EXPOSURE","SELECT WEATHER STATION?","STATE","STATION","DISTANCE (miles)"]
["Yes","Treeline / shelterbelt","Yes","96% odor free","Yes","Indiana","West Lafayette",{"$f":"VLOOKUP(windstate,STATETABLE,12,FALSE)","v":320.46000795830486}]
[]
["DIRECTIONAL TERRAIN"]
["ENTER BELOW IF TERRAIN IS NOT THE SAME IN ALL DIRECTIONS"]
["NORTH","NORTHEAST","EAST","SOUTHEAST","SOUTH","SOUTHWEST","WEST","NORTHWEST"]
["No trees, relatively flat","No trees, relatively flat","No trees, relatively flat","Hillside/valley up-flow","Treeline / shelterbelt","No trees, relatively flat","No trees, relatively flat","Treeline / shelterbelt"]
["USED IN SETBACK CALCULATIONS (Depends on answer to \"Same All Directions?\" question above)"]
[{"$f":"IF(pallterrain=\"YES\",palltype,toponorthdir)","v":"Treeline / shelterbelt"},{"$f":"IF(pallterrain=\"YES\",palltype,toponortheastdir)","v":"Treeline / shelterbelt"},{"$f":"IF(pallterrain=\"YES\",palltype,topoeastdir)","v":"Treeline / shelterbelt"},{"$f":"IF(pallterrain=\"YES\",palltype,toposoutheastdir)","v":"Treeline / shelterbelt"},{"$f":"IF(pallterrain=\"YES\",palltype,toposouthdir)","v":"Treeline / shelterbelt"},{"$f":"IF(pallterrain=\"YES\",palltype,toposouthwestdir)","v":"Treeline / shelterbelt"},{"$f":"IF(pallterrain=\"YES\",palltype,topowestdir)","v":"Treeline / shelterbelt"},{"$f":"IF(pallterrain=\"YES\",palltype,toponorthwestdir)","v":"Treeline / shelterbelt"}]
[]
["DIRECTIONAL EXPOSURE"]
["ENTER BELOW IF LAND USE OR EXPOSURE IS NOT THE SAME IN ALL DIRECTIONS"]
["NORTH","NORTHEAST","EAST","SOUTHEAST","SOUTH","SOUTHWEST","WEST","NORTHWEST"]
["91% odor free","99% odor free","99% odor free","99% odor free","96% odor free","96% odor free","96% odor free","94% odor free"]
["USED IN SETBACK CALCULATIONS (Depends on answer to \"Same All Directions?\" question above)"]
[{"$f":"IF(pallland=\"YES\",pallexp,A67)","v":"96% odor free"},"96% odor free","96% odor free","96% odor free","96% odor free","96% odor free","96% odor free","96% odor free"]
[]
["DIRECTIONAL WIND FREQUENCIES (Blowing From)"]
["FROM DATABASE FOR  WEATHER STATION SELECTED ABOVE"]
["NORTH","NORTHEAST","EAST","SOUTHEAST","SOUTH","SOUTHWEST","WEST","NORTHWEST"]
[{"$f":"IF(windflag=\"OK\",VLOOKUP(windstate,STATETABLE,6,\"false\"),\"\")","v":8.0500000000000007},{"$f":"IF(windflag=\"OK\",VLOOKUP(windstate,STATETABLE,7,\"false\"),\"\")","v":7.9},{"$f":"IF(windflag=\"OK\",VLOOKUP(windstate,STATETABLE,8,\"false\"),\"\")","v":11.55},{"$f":"IF(windflag=\"OK\",VLOOKUP(windstate,STATETABLE,9,\"false\"),\"\")","v":6.45},{"$f":"IF(windflag=\"OK\",VLOOKUP(windstate,STATETABLE,2,\"false\"),\"\")","v":11.6},{"$f":"IF(windflag=\"OK\",VLOOKUP(windstate,STATETABLE,3,\"false\"),\"\")","v":14.8},{"$f":"IF(windflag=\"OK\",VLOOKUP(windstate,STATETABLE,4,\"false\"),\"\")","v":18.3},{"$f":"IF(windflag=\"OK\",VLOOKUP(windstate,STATETABLE,5,\"false\"),\"\")","v":8.5}]
["FROM USER ENTRY OF WIND FREQUENCIES BELOW"]
[{"$f":"Wind!C10","v":11.8},{"$f":"Wind!C11","v":11.8},{"$f":"Wind!C12","v":11.8},{"$f":"Wind!C13","v":11.8},{"$f":"Wind!C6","v":11.8},{"$f":"Wind!C7","v":11.8},{"$f":"Wind!C8","v":11.8},{"$f":"Wind!C9","v":11.8}]
["USED IN SETBACK CALCULATIONS (Depends on answer to \"Select Weather Station\" question above)"]
[{"$f":"Wind!D10","v":8.0500000000000007},{"$f":"Wind!D11","v":7.9},{"$f":"Wind!D12","v":11.55},{"$f":"Wind!D13","v":6.45},{"$f":"Wind!D6","v":11.6},{"$f":"Wind!D7","v":14.8},{"$f":"Wind!D8","v":18.3},{"$f":"Wind!D9","v":8.5}]
[]
["USER ENTRY OF WIND FREQUENCIES"]
["WIND FREQUENCY (BLOWING FROM)"]
[" DIRECTION","Frequency, %"]
["N",5.9]
["NNE",5.9]
["NE",5.9]
["ENE",5.9]
["E",5.9]
["ESE",5.9]
["SE",5.9]
["SSE",5.9]
["S",5.9]
["SSW",5.9]
["SW",5.9]
["WSW",5.9]
["W",5.9]
["WNW",5.9]
["NW",5.9]
["NNW",5.9]
["Calms",5.6]
["Total",{"$f":"SUM(B83:B99)","v":100.00000000000001}]

{"sheet":"Inputs","index":1,"n_rows":41,"n_cols":12,"rows_kept":41,"cut":false,"hidden":false,"merged":[[15,0,15,9],[29,1,29,8],[32,1,32,8],[35,1,35,8],[38,1,38,8]]}
[null,null,null,null,"SUMMARY OF MODEL INPUTS"]
[]
[null,"SOURCE ID","SOURCE NAME","BASELINE EMISSIONS (OU/s)","MANURE REMOVAL","MANURE DILUTION","ADJUSTED EMISSIONS (OU/s)","ODOR ABATEMENT","ABATED EMISSION (OU/s)",null,"NUMBER OF SOURCES:",{"$f":"COUNT(Model!C15:C24)","v":0}]
[null,{"$f":"IF(Number_of_Sources>0,1,\"\")","v":""},{"$f":"IF(ISNUMBER(B4)=TRUE,s1name,\"\")","v":""},{"$f":"s1emsn","v":""},{"$f":"s1rmvlfctr","v":""},{"$f":"s1dilfctr","v":""},{"$f":"(IF(D4=\"\",\"\",IF(AND(E4=\"\",F4=\"\"),D4,D4*(E4-F4))))","v":""},{"$f":"IF(AND(B4=\"\",s1abfctr=\"\"),\"\",IF(s1abfctr=\"\",1,s1abfctr))","v":""},{"$f":"(IF(D4=\"\",\"\",G4*H4))","v":""}]
[null,{"$f":"IF(Number_of_Sources>1,2,\"\")","v":""},{"$f":"IF(ISNUMBER(B5)=TRUE,s2name,\"\")","v":""},{"$f":"s2emsn","v":""},{"$f":"s2rmvlfctr","v":""},{"$f":"s2dilfctr","v":""},"",{"$f":"IF(AND(B5=\"\",s2abfctr=\"\"),\"\",IF(s2abfctr=\"\", 1,s2abfctr))","v":""},""]
[null,{"$f":"IF(Number_of_Sources>2,3,\"\")","v":""},{"$f":"IF(ISNUMBER(B6)=TRUE,s3name,\"\")","v":""},{"$f":"s3emsn","v":""},{"$f":"s3rmvlfctr","v":""},{"$f":"s3dilfctr","v":""},"",{"$f":"IF(AND(B6=\"\",s3abfctr=\"\"),\"\",IF(s3abfctr=\"\",1,s3abfctr))","v":""},""]
[null,{"$f":"IF(Number_of_Sources>3,4,\"\")","v":""},{"$f":"IF(ISNUMBER(B7)=TRUE,s4name,\"\")","v":""},{"$f":"s4emsn","v":""},{"$f":"s4rmvlfctr","v":""},{"$f":"s4dilfctr","v":""},"",{"$f":"IF(AND(B7=\"\",s4abfctr=\"\"),\"\",IF(s4abfctr=\"\",1,s4abfctr))","v":""},""]
[null,{"$f":"IF(Number_of_Sources>4,5,\"\")","v":""},{"$f":"IF(ISNUMBER(B8)=TRUE,s5name,\"\")","v":""},{"$f":"s5emsn","v":""},{"$f":"s5rmvlfctr","v":""},{"$f":"s5dilfctr","v":""},"",{"$f":"IF(AND(B8=\"\",s5abfctr=\"\"),\"\",IF(s5abfctr=\"\",1,s5abfctr))","v":""},""]
[null,{"$f":"IF(Number_of_Sources>5,6,\"\")","v":""},{"$f":"IF(ISNUMBER(B9)=TRUE,s6name,\"\")","v":""},{"$f":"s6emsn","v":""},{"$f":"s6rmvlfctr","v":""},{"$f":"s6dilfctr","v":""},"",{"$f":"IF(AND(B9=\"\",s6abfctr=\"\"),\"\",IF(s6abfctr=\"\",1,s6abfctr))","v":""},""]
[null,{"$f":"IF(Number_of_Sources>6,7,\"\")","v":""},{"$f":"IF(ISNUMBER(B10)=TRUE,s7name,\"\")","v":""},{"$f":"s7emsn","v":""},{"$f":"s7rmvlfctr","v":""},{"$f":"s7dilfctr","v":""},"",{"$f":"IF(AND(B10=\"\",s7abfctr=\"\"),\"\",IF(s7abfctr=\"\",1,s7abfctr))","v":""},""]
[null,{"$f":"IF(Number_of_Sources>7,8,\"\")","v":""},{"$f":"IF(ISNUMBER(B11)=TRUE,s8name,\"\")","v":""},{"$f":"s8emsn","v":""},{"$f":"s8rmvlfctr","v":""},{"$f":"s8dilfctr","v":""},"",{"$f":"IF(AND(B11=\"\",s8abfctr=\"\"),\"\",IF(s8abfctr=\"\",1,s8abfctr))","v":""},""]
[null,{"$f":"IF(Number_of_Sources>8,9,\"\")","v":""},{"$f":"IF(ISNUMBER(B12)=TRUE,s9name,\"\")","v":""},{"$f":"s9emsn","v":""},{"$f":"s9rmvlfctr","v":""},{"$f":"s9dilfctr","v":""},"",{"$f":"IF(AND(B12=\"\",s9abfctr=\"\"),\"\",IF(s9abfctr=\"\",1,s9abfctr))","v":""},""]
[null,{"$f":"IF(Number_of_Sources>9,10,\"\")","v":""},{"$f":"IF(ISNUMBER(B13)=TRUE,s10name,\"\")","v":""},{"$f":"s10emsn","v":""},{"$f":"s10rmvlfctr","v":""},{"$f":"s10dilfctr","v":""},"",{"$f":"IF(AND(B13=\"\",s10abfctr=\"\"),\"\",IF(s10abfctr=\"\",1,s10abfctr))","v":""},""]
[null,null,"TOTALS",{"$f":"SUM(D4:D13)","v":0},null,null,{"$f":"SUM(G4:G13)","v":0},null,{"$f":"SUM(I4:I13)","v":0}]
[]
["SHAPE FACTORS WITH ORIENTATION"]
["SOURCE ID","NAME","N","NE","E","SE","S","SW","W","NW"]
[{"$f":"IF($L$3>0,1,\"\")","v":""},{"$f":"IF(ISNUMBER(A18)=TRUE,s1name,\"\")","v":""},{"$f":"IF(OR(s1ORNT=\"\",s1name=\"\"),\"\",1+s1vfctr)","v":""},{"$f":"IF(OR(s1ORNT=\"\",s1name=\"\"),\"\",1+(s1vfctr/2))","v":""},{"$f":"IF(OR(s1ORNT=\"\",s1name=\"\"),\"\",1+s1vfctr)","v":""},{"$f":"IF(OR(s1ORNT=\"\",s1name=\"\"),\"\",1+(s1vfctr/2))","v":""},{"$f":"IF(OR(s1ORNT=\"\",s1name=\"\"),\"\",1+s1vfctr)","v":""},{"$f":"IF(OR(s1ORNT=\"\",s1name=\"\"),\"\",1+(s1vfctr/2))","v":""},{"$f":"IF(OR(s1ORNT=\"\",s1name=\"\"),\"\",1+s1vfctr)","v":""},{"$f":"IF(OR(s1ORNT=\"\",s1name=\"\"),\"\",1+(s1vfctr/2))","v":""}]
[{"$f":"IF($L$3>1,2,\"\")","v":""},{"$f":"IF(ISNUMBER(A19)=TRUE,s2name,\"\")","v":""},{"$f":"IF(OR(s2ORNT=\"\",s2name=\"\"),\"\",1+s2vfctr)","v":""},{"$f":"IF(OR(s2ORNT=\"\",s2name=\"\"),\"\",1+(s2vfctr/2))","v":""},{"$f":"IF(OR(s2ORNT=\"\",s2name=\"\"),\"\",1+s2vfctr)","v":""},{"$f":"IF(OR(s2ORNT=\"\",s2name=\"\"),\"\",1+(s2vfctr/2))","v":""},{"$f":"IF(OR(s2ORNT=\"\",s2name=\"\"),\"\",1+s2vfctr)","v":""},{"$f":"IF(OR(s2ORNT=\"\",s2name=\"\"),\"\",1+(s2vfctr/2))","v":""},{"$f":"IF(OR(s2ORNT=\"\",s2name=\"\"),\"\",1+s2vfctr)","v":""},{"$f":"IF(OR(s2ORNT=\"\",s2name=\"\"),\"\",1+(s2vfctr/2))","v":""}]
[{"$f":"IF($L$3>2,3,\"\")","v":""},{"$f":"IF(ISNUMBER(A20)=TRUE,s3name,\"\")","v":""},{"$f":"IF(OR(s3ORNT=\"\",s3name=\"\"),\"\",1+s3vfctr)","v":""},{"$f":"IF(OR(s3ORNT=\"\",s3name=\"\"),\"\",1+(s3vfctr/2))","v":""},{"$f":"IF(OR(s3ORNT=\"\",s3name=\"\"),\"\",1+s3vfctr)","v":""},{"$f":"IF(OR(s3ORNT=\"\",s3name=\"\"),\"\",1+(s3vfctr/2))","v":""},{"$f":"IF(OR(s3ORNT=\"\",s3name=\"\"),\"\",1+s3vfctr)","v":""},{"$f":"IF(OR(s3ORNT=\"\",s3name=\"\"),\"\",1+(s3vfctr/2))","v":""},{"$f":"IF(OR(s3ORNT=\"\",s3name=\"\"),\"\",1+s3vfctr)","v":""},{"$f":"IF(OR(s3ORNT=\"\",s3name=\"\"),\"\",1+(s3vfctr/2))","v":""}]
[{"$f":"IF($L$3>3,4,\"\")","v":""},{"$f":"IF(ISNUMBER(A21)=TRUE,s4name,\"\")","v":""},{"$f":"IF(OR(s4ORNT=\"\",s4name=\"\"),\"\",1+s4vfctr)","v":""},{"$f":"IF(OR(s4ORNT=\"\",s4name=\"\"),\"\",1+(s4vfctr/2))","v":""},{"$f":"IF(OR(s4ORNT=\"\",s4name=\"\"),\"\",1+s4vfctr)","v":""},{"$f":"IF(OR(s4ORNT=\"\",s4name=\"\"),\"\",1+(s4vfctr/2))","v":""},{"$f":"IF(OR(s4ORNT=\"\",s4name=\"\"),\"\",1+s4vfctr)","v":""},{"$f":"IF(OR(s4ORNT=\"\",s4name=\"\"),\"\",1+(s4vfctr/2))","v":""},{"$f":"IF(OR(s4ORNT=\"\",s4name=\"\"),\"\",1+s4vfctr)","v":""},{"$f":"IF(OR(s4ORNT=\"\",s4name=\"\"),\"\",1+(s4vfctr/2))","v":""}]
[{"$f":"IF($L$3>4,5,\"\")","v":""},{"$f":"IF(ISNUMBER(A22)=TRUE,s5name,\"\")","v":""},{"$f":"IF(OR(s5ORNT=\"\",s5name=\"\"),\"\",1+s5vfctr)","v":""},{"$f":"IF(OR(s5ORNT=\"\",s5name=\"\"),\"\",1+(s5vfctr/2))","v":""},{"$f":"IF(OR(s5ORNT=\"\",s5name=\"\"),\"\",1+s5vfctr)","v":""},{"$f":"IF(OR(s5ORNT=\"\",s5name=\"\"),\"\",1+(s5vfctr/2))","v":""},{"$f":"IF(OR(s5ORNT=\"\",s5name=\"\"),\"\",1+s5vfctr)","v":""},{"$f":"IF(OR(s5ORNT=\"\",s5name=\"\"),\"\",1+(s5vfctr/2))","v":""},{"$f":"IF(OR(s5ORNT=\"\",s5name=\"\"),\"\",1+s5vfctr)","v":""},{"$f":"IF(OR(s5ORNT=\"\",s5name=\"\"),\"\",1+(s5vfctr/2))","v":""}]
[{"$f":"IF($L$3>5,6,\"\")","v":""},{"$f":"IF(ISNUMBER(A23)=TRUE,s6name,\"\")","v":""},{"$f":"IF(OR(s6ORNT=\"\",s6name=\"\"),\"\",1+s6vfctr)","v":""},{"$f":"IF(OR(s6ORNT=\"\",s6name=\"\"),\"\",1+(s6vfctr/2))","v":""},{"$f":"IF(OR(s6ORNT=\"\",s6name=\"\"),\"\",1+s6vfctr)","v":""},{"$f":"IF(OR(s6ORNT=\"\",s6name=\"\"),\"\",1+(s6vfctr/2))","v":""},{"$f":"IF(OR(s6ORNT=\"\",s6name=\"\"),\"\",1+s6vfctr)","v":""},{"$f":"IF(OR(s6ORNT=\"\",s6name=\"\"),\"\",1+(s6vfctr/2))","v":""},{"$f":"IF(OR(s6ORNT=\"\",s6name=\"\"),\"\",1+s6vfctr)","v":""},{"$f":"IF(OR(s6ORNT=\"\",s6name=\"\"),\"\",1+(s6vfctr/2))","v":""}]
[{"$f":"IF($L$3>6,7,\"\")","v":""},{"$f":"IF(ISNUMBER(A24)=TRUE,s7name,\"\")","v":""},{"$f":"IF(OR(s7ORNT=\"\",s7name=\"\"),\"\",1+s7vfctr)","v":""},{"$f":"IF(OR(s7ORNT=\"\",s7name=\"\"),\"\",1+(s7vfctr/2))","v":""},{"$f":"IF(OR(s7ORNT=\"\",s7name=\"\"),\"\",1+s7vfctr)","v":""},{"$f":"IF(OR(s7ORNT=\"\",s7name=\"\"),\"\",1+(s7vfctr/2))","v":""},{"$f":"IF(OR(s7ORNT=\"\",s7name=\"\"),\"\",1+s7vfctr)","v":""},{"$f":"IF(OR(s7ORNT=\"\",s7name=\"\"),\"\",1+(s7vfctr/2))","v":""},{"$f":"IF(OR(s7ORNT=\"\",s7name=\"\"),\"\",1+s7vfctr)","v":""},{"$f":"IF(OR(s7ORNT=\"\",s7name=\"\"),\"\",1+(s7vfctr/2))","v":""}]
[{"$f":"IF($L$3>7,8,\"\")","v":""},{"$f":"IF(ISNUMBER(A25)=TRUE,s8name,\"\")","v":""},{"$f":"IF(OR(s8ORNT=\"\",s8name=\"\"),\"\",1+s8vfctr)","v":""},{"$f":"IF(OR(s8ORNT=\"\",s8name=\"\"),\"\",1+(s8vfctr/2))","v":""},{"$f":"IF(OR(s8ORNT=\"\",s8name=\"\"),\"\",1+s8vfctr)","v":""},{"$f":"IF(OR(s8ORNT=\"\",s8name=\"\"),\"\",1+(s8vfctr/2))","v":""},{"$f":"IF(OR(s8ORNT=\"\",s8name=\"\"),\"\",1+s8vfctr)","v":""},{"$f":"IF(OR(s8ORNT=\"\",s8name=\"\"),\"\",1+(s8vfctr/2))","v":""},{"$f":"IF(OR(s8ORNT=\"\",s8name=\"\"),\"\",1+s8vfctr)","v":""},{"$f":"IF(OR(s8ORNT=\"\",s8name=\"\"),\"\",1+(s8vfctr/2))","v":""}]
[{"$f":"IF($L$3>8,9,\"\")","v":""},{"$f":"IF(ISNUMBER(A26)=TRUE,s9name,\"\")","v":""},{"$f":"IF(OR(s9ORNT=\"\",s9name=\"\"),\"\",1+s9vfctr)","v":""},{"$f":"IF(OR(s9ORNT=\"\",s9name=\"\"),\"\",1+(s9vfctr/2))","v":""},{"$f":"IF(OR(s9ORNT=\"\",s9name=\"\"),\"\",1+s9vfctr)","v":""},{"$f":"IF(OR(s9ORNT=\"\",s9name=\"\"),\"\",1+(s9vfctr/2))","v":""},{"$f":"IF(OR(s9ORNT=\"\",s9name=\"\"),\"\",1+s9vfctr)","v":""},{"$f":"IF(OR(s9ORNT=\"\",s9name=\"\"),\"\",1+(s9vfctr/2))","v":""},{"$f":"IF(OR(s9ORNT=\"\",s9name=\"\"),\"\",1+s9vfctr)","v":""},{"$f":"IF(OR(s9ORNT=\"\",s9name=\"\"),\"\",1+(s9vfctr/2))","v":""}]
[{"$f":"IF($L$3>9,10,\"\")","v":""},{"$f":"IF(ISNUMBER(A27)=TRUE,s10name,\"\")","v":""},{"$f":"IF(OR(s10ORNT=\"\",s10name=\"\"),\"\",1+s10vfctr)","v":""},{"$f":"IF(OR(s10ORNT=\"\",s10name=\"\"),\"\",1+(s10vfctr/2))","v":""},{"$f":"IF(OR(s10ORNT=\"\",s10name=\"\"),\"\",1+s10vfctr)","v":""},{"$f":"IF(OR(s10ORNT=\"\",s10name=\"\"),\"\",1+(s10vfctr/2))","v":""},{"$f":"IF(OR(s10ORNT=\"\",s10name=\"\"),\"\",1+s10vfctr)","v":""},{"$f":"IF(OR(s10ORNT=\"\",s10name=\"\"),\"\",1+(s10vfctr/2))","v":""},{"$f":"IF(OR(s10ORNT=\"\",s10name=\"\"),\"\",1+s10vfctr)","v":""},{"$f":"IF(OR(s10ORNT=\"\",s10name=\"\"),\"\",1+(s10vfctr/2))","v":""}]
[null,"PERIMETER",{"$f":"IF(B35=\"\",\"\",1+pvfctr)","v":{"$error":"#DIV/0!"}},{"$f":"IF(C35=\"\",\"\",1+(pvfctr/2))","v":{"$error":"#DIV/0!"}},{"$f":"IF(D35=\"\",\"\",1+pvfctr)","v":{"$error":"#DIV/0!"}},{"$f":"IF(E35=\"\",\"\",1+(pvfctr/2))","v":{"$error":"#DIV/0!"}},{"$f":"IF(F35=\"\",\"\",1+pvfctr)","v":{"$error":"#DIV/0!"}},{"$f":"IF(G35=\"\",\"\",1+(pvfctr/2))","v":{"$error":"#DIV/0!"}},{"$f":"IF(H35=\"\",\"\",1+pvfctr)","v":{"$error":"#DIV/0!"}},{"$f":"IF(I35=\"\",\"\",1+(pvfctr/2))","v":{"$error":"#DIV/0!"}}]
[]
[null,"TERRAIN FACTORS"]
[null,"N","NE","E","SE","S","SW","W","NW"]
[null,{"$f":"IF(Model!A62=\"\",\"\",VLOOKUP(Model!A62,topotable,2,\"false\"))","v":0.8},{"$f":"IF(Model!B62=\"\",\"\",VLOOKUP(Model!B62,topotable,2,\"false\"))","v":0.8},{"$f":"IF(Model!C62=\"\",\"\",VLOOKUP(Model!C62,topotable,2,\"false\"))","v":0.8},{"$f":"IF(Model!D62=\"\",\"\",VLOOKUP(Model!D62,topotable,2,\"false\"))","v":0.8},{"$f":"IF(Model!E62=\"\",\"\",VLOOKUP(Model!E62,topotable,2,\"false\"))","v":0.8},{"$f":"IF(Model!F62=\"\",\"\",VLOOKUP(Model!F62,topotable,2,\"false\"))","v":0.8},{"$f":"IF(Model!G62=\"\",\"\",VLOOKUP(Model!G62,topotable,2,\"false\"))","v":0.8},{"$f":"IF(Model!H62=\"\",\"\",VLOOKUP(Model!H62,topotable,2,\"false\"))","v":0.8}]
[null,"EXPOSURE FACTORS"]
[null,"N","NE","E","SE","S","SW","W","NW"]
[null,{"$f":"IF(Model!A69=\"\",\"\",VLOOKUP(Model!A69,landusetable,2,\"false\"))","v":0.7},{"$f":"IF(Model!B69=\"\",\"\",VLOOKUP(Model!B69,landusetable,2,\"false\"))","v":0.7},{"$f":"IF(Model!C69=\"\",\"\",VLOOKUP(Model!C69,landusetable,2,\"false\"))","v":0.7},{"$f":"IF(Model!D69=\"\",\"\",VLOOKUP(Model!D69,landusetable,2,\"false\"))","v":0.7},{"$f":"IF(Model!E69=\"\",\"\",VLOOKUP(Model!E69,landusetable,2,\"false\"))","v":0.7},{"$f":"IF(Model!F69=\"\",\"\",VLOOKUP(Model!F69,landusetable,2,\"false\"))","v":0.7},{"$f":"IF(Model!G69=\"\",\"\",VLOOKUP(Model!G69,landusetable,2,\"false\"))","v":0.7},{"$f":"IF(Model!H69=\"\",\"\",VLOOKUP(Model!H69,landusetable,2,\"false\"))","v":0.7}]
[null,"WIND FREQUENCY FACTORS"]
[null,"N","NE","E","SE","S","SW","W","NW"]
[null,{"$f":"Wind!E$6","v":0.86349999999999993},{"$f":"Wind!E$7","v":0.92749999999999999},{"$f":"Wind!E$8","v":0.99749999999999994},{"$f":"Wind!E$9","v":0.80149999999999999},{"$f":"Wind!E$10","v":0.79249999999999998},{"$f":"Wind!E$11","v":0.78949999999999998},{"$f":"Wind!E$12","v":0.86249999999999993},{"$f":"Wind!E$13","v":0.76049999999999995}]
[null,"WIND FREQUENCY DOWNWIND (BLOWING TO)"]
[null,"N","NE","E","SE","S","SW","W","NW"]
[null,{"$f":"Wind!D$6","v":11.6},{"$f":"Wind!D$7","v":14.8},{"$f":"Wind!D$8","v":18.3},{"$f":"Wind!D$9","v":8.5},{"$f":"Wind!D$10","v":8.0500000000000007},{"$f":"Wind!D$11","v":7.9},{"$f":"Wind!D$12","v":11.55},{"$f":"Wind!D$13","v":6.45}]

{"sheet":"Setback","index":2,"n_rows":25,"n_cols":16,"rows_kept":25,"cut":false,"hidden":false,"merged":[[1,1,1,8],[1,0,2,0],[13,1,13,8]]}
["SETBACK CALCULATION RESULTS"]
["SOURCE","SETBACK DISTANCES FROM EACH INDIVIDUAL SOURCE, FT."]
[null,"N","NE","E","SE","S","SW","W","NW",null,null,null,null,null,null,"Test"]
[{"$f":"IF(ISNUMBER(Inputs!$B4),s1name,\"\")","v":""},{"$f":"IF(OR(terrain_north=\"\",exposure_north=\"\",windfreq_north=\"\",s1shape_north=\"\"),\"\",20*windfreq_north*terrain_north*exposure_north*s1shape_north*((s1emission*s1abate)^PowerExpo))","v":""},{"$f":"IF(OR(terrain_ne=\"\",exposure_ne=\"\",windfreq_ne=\"\",s1shape_ne=\"\"),\"\",20*windfreq_ne*terrain_ne*exposure_ne*s1shape_ne*((s1emission*s1abate)^PowerExpo))","v":""},{"$f":"IF(OR(terrain_east=\"\",exposure_east=\"\",windfreq_east=\"\",s1shape_east=\"\"),\"\",20*windfreq_east*terrain_east*exposure_east*s1shape_east*((s1emission*s1abate)^PowerExpo))","v":""},{"$f":"IF(OR(terrain_se=\"\",exposure_se=\"\",windfreq_se=\"\",s1shape_se=\"\"),\"\",20*windfreq_se*terrain_se*exposure_se*s1shape_se*((s1emission*s1abate)^PowerExpo))","v":""},{"$f":"IF(OR(terrain_south=\"\",exposure_south=\"\",windfreq_south=\"\",s1shape_south=\"\"),\"\",20*windfreq_south*terrain_south*exposure_south*s1shape_south*((s1emission*s1abate)^PowerExpo))","v":""},{"$f":"IF(OR(terrain_sw=\"\",exposure_sw=\"\",windfreq_sw=\"\",s1shape_sw=\"\"),\"\",20*windfreq_sw*terrain_sw*exposure_sw*s1shape_sw*((s1emission*s1abate)^PowerExpo))","v":""},{"$f":"IF(OR(terrain_west=\"\",exposure_west=\"\",windfreq_west=\"\",s1shape_west=\"\"),\"\",20*windfreq_west*terrain_west*exposure_west*s1shape_west*((s1emission*s1abate)^PowerExpo))","v":""},{"$f":"IF(OR(terrain_nw=\"\",exposure_nw=\"\",windfreq_nw=\"\",s1shape_nw=\"\"),\"\",20*windfreq_nw*terrain_nw*exposure_nw*s1shape_nw*((s1emission*s1abate)^PowerExpo))","v":""}]
[{"$f":"IF(ISNUMBER(Inputs!$B5),s2name,\"\")","v":""},{"$f":"IF(OR(terrain_north=\"\",exposure_north=\"\",windfreq_north=\"\",s2shape_north=\"\"),\"\",20*windfreq_north*terrain_north*exposure_north*s2shape_north*((s2emission*s2abate)^PowerExpo))","v":""},{"$f":"IF(OR(terrain_ne=\"\",exposure_ne=\"\",windfreq_ne=\"\",s2shape_ne=\"\"),\"\",20*windfreq_ne*terrain_ne*exposure_ne*s2shape_ne*((s2emission*s2abate)^PowerExpo))","v":""},{"$f":"IF(OR(terrain_east=\"\",exposure_east=\"\",windfreq_east=\"\",s2shape_east=\"\"),\"\",20*windfreq_east*terrain_east*exposure_east*s2shape_east*((s2emission*s2abate)^PowerExpo))","v":""},{"$f":"IF(OR(terrain_se=\"\",exposure_se=\"\",windfreq_se=\"\",s2shape_se=\"\"),\"\",20*windfreq_se*terrain_se*exposure_se*s2shape_se*((s2emission*s2abate)^PowerExpo))","v":""},{"$f":"IF(OR(terrain_south=\"\",exposure_south=\"\",windfreq_south=\"\",s2shape_south=\"\"),\"\",20*windfreq_south*terrain_south*exposure_south*s2shape_south*((s2emission*s2abate)^PowerExpo))","v":""},{"$f":"IF(OR(terrain_sw=\"\",exposure_sw=\"\",windfreq_sw=\"\",s2shape_sw=\"\"),\"\",20*windfreq_sw*terrain_sw*exposure_sw*s2shape_sw*((s2emission*s2abate)^PowerExpo))","v":""},{"$f":"IF(OR(terrain_west=\"\",exposure_west=\"\",windfreq_west=\"\",s2shape_west=\"\"),\"\",20*windfreq_west*terrain_west*exposure_west*s2shape_west*((s2emission*s2abate)^PowerExpo))","v":""},{"$f":"IF(OR(terrain_nw=\"\",exposure_nw=\"\",windfreq_nw=\"\",s2shape_nw=\"\"),\"\",20*windfreq_nw*terrain_nw*exposure_nw*s2shape_nw*((s2emission*s2abate)^PowerExpo))","v":""}]
[{"$f":"IF(ISNUMBER(Inputs!$B6),s3name,\"\")","v":""},{"$f":"IF(OR(terrain_north=\"\",exposure_north=\"\",windfreq_north=\"\",s3shape_north=\"\"),\"\",20*windfreq_north*terrain_north*exposure_north*s3shape_north*((s3emission*s3abate)^PowerExpo))","v":""},{"$f":"IF(OR(terrain_ne=\"\",exposure_ne=\"\",windfreq_ne=\"\",s3shape_ne=\"\"),\"\",20*windfreq_ne*terrain_ne*exposure_ne*s3shape_ne*((s3emission*s3abate)^PowerExpo))","v":""},{"$f":"IF(OR(terrain_east=\"\",exposure_east=\"\",windfreq_east=\"\",s3shape_east=\"\"),\"\",20*windfreq_east*terrain_east*exposure_east*s3shape_east*((s3emission*s3abate)^PowerExpo))","v":""},{"$f":"IF(OR(terrain_se=\"\",exposure_se=\"\",windfreq_se=\"\",s3shape_se=\"\"),\"\",20*windfreq_se*terrain_se*exposure_se*s3shape_se*((s3emission*s3abate)^PowerExpo))","v":""},{"$f":"IF(OR(terrain_south=\"\",exposure_south=\"\",windfreq_south=\"\",s3shape_south=\"\"),\"\",20*windfreq_south*terrain_south*exposure_south*s3shape_south*((s3emission*s3abate)^PowerExpo))","v":""},{"$f":"IF(OR(terrain_sw=\"\",exposure_sw=\"\",windfreq_sw=\"\",s3shape_sw=\"\"),\"\",20*windfreq_sw*terrain_sw*exposure_sw*s3shape_sw*((s3emission*s3abate)^PowerExpo))","v":""},{"$f":"IF(OR(terrain_west=\"\",exposure_west=\"\",windfreq_west=\"\",s3shape_west=\"\"),\"\",20*windfreq_west*terrain_west*exposure_west*s3shape_west*((s3emission*s3abate)^PowerExpo))","v":""},{"$f":"IF(OR(terrain_nw=\"\",exposure_nw=\"\",windfreq_nw=\"\",s3shape_nw=\"\"),\"\",20*windfreq_nw*terrain_nw*exposure_nw*s3shape_nw*((s3emission*s3abate)^PowerExpo))","v":""},null,null,null,null,null,null,{"$f":"IF(OR(terrain_nw=\"\",exposure_nw=\"\",windfreq_nw=\"\",s3shape_nw=\"\"),\"\",20*windfreq_nw*terrain_nw*exposure_nw*s3shape_nw*((s3emission*s3abate)^PowerExpo))","v":""}]
[{"$f":"IF(ISNUMBER(Inputs!$B7),s4name,\"\")","v":""},{"$f":"IF(OR(terrain_north=\"\",exposure_north=\"\",windfreq_north=\"\",s4shape_north=\"\"),\"\",20*windfreq_north*terrain_north*exposure_north*s4shape_north*((s4emission*s4abate)^PowerExpo))","v":""},{"$f":"IF(OR(terrain_ne=\"\",exposure_ne=\"\",windfreq_ne=\"\",s4shape_ne=\"\"),\"\",20*windfreq_ne*terrain_ne*exposure_ne*s4shape_ne*((s4emission*s4abate)^PowerExpo))","v":""},{"$f":"IF(OR(terrain_east=\"\",exposure_east=\"\",windfreq_east=\"\",s4shape_east=\"\"),\"\",20*windfreq_east*terrain_east*exposure_east*s4shape_east*((s4emission*s4abate)^PowerExpo))","v":""},{"$f":"IF(OR(terrain_se=\"\",exposure_se=\"\",windfreq_se=\"\",s4shape_se=\"\"),\"\",20*windfreq_se*terrain_se*exposure_se*s4shape_se*((s4emission*s4abate)^PowerExpo))","v":""},{"$f":"IF(OR(terrain_south=\"\",exposure_south=\"\",windfreq_south=\"\",s4shape_south=\"\"),\"\",20*windfreq_south*terrain_south*exposure_south*s4shape_south*((s4emission*s4abate)^PowerExpo))","v":""},{"$f":"IF(OR(terrain_sw=\"\",exposure_sw=\"\",windfreq_sw=\"\",s4shape_sw=\"\"),\"\",20*windfreq_sw*terrain_sw*exposure_sw*s4shape_sw*((s4emission*s4abate)^PowerExpo))","v":""},{"$f":"IF(OR(terrain_west=\"\",exposure_west=\"\",windfreq_west=\"\",s4shape_west=\"\"),\"\",20*windfreq_west*terrain_west*exposure_west*s4shape_west*((s4emission*s4abate)^PowerExpo))","v":""},{"$f":"IF(OR(terrain_nw=\"\",exposure_nw=\"\",windfreq_nw=\"\",s4shape_nw=\"\"),\"\",20*windfreq_nw*terrain_nw*exposure_nw*s4shape_nw*((s4emission*s4abate)^PowerExpo))","v":""},null,null,null,null,null,null,{"$f":"IF(OR(terrain_nw=\"\",exposure_nw=\"\",windfreq_nw=\"\",s4shape_nw=\"\"),\"\",20*windfreq_nw*terrain_nw*exposure_nw*s4shape_nw*((s4emission*s4abate)^PowerExpo))","v":""}]
[{"$f":"IF(ISNUMBER(Inputs!$B8),s5name,\"\")","v":""},{"$f":"IF(OR(terrain_north=\"\",exposure_north=\"\",windfreq_north=\"\",s5shape_north=\"\"),\"\",20*windfreq_north*terrain_north*exposure_north*s5shape_north*((s5emission*s5abate)^PowerExpo))","v":""},{"$f":"IF(OR(terrain_ne=\"\",exposure_ne=\"\",windfreq_ne=\"\",s5shape_ne=\"\"),\"\",20*windfreq_ne*terrain_ne*exposure_ne*s5shape_ne*((s5emission*s5abate)^PowerExpo))","v":""},{"$f":"IF(OR(terrain_east=\"\",exposure_east=\"\",windfreq_east=\"\",s5shape_east=\"\"),\"\",20*windfreq_east*terrain_east*exposure_east*s5shape_east*((s5emission*s5abate)^PowerExpo))","v":""},{"$f":"IF(OR(terrain_se=\"\",exposure_se=\"\",windfreq_se=\"\",s5shape_se=\"\"),\"\",20*windfreq_se*terrain_se*exposure_se*s5shape_se*((s5emission*s5abate)^PowerExpo))","v":""},{"$f":"IF(OR(terrain_south=\"\",exposure_south=\"\",windfreq_south=\"\",s5shape_south=\"\"),\"\",20*windfreq_south*terrain_south*exposure_south*s5shape_south*((s5emission*s5abate)^PowerExpo))","v":""},{"$f":"IF(OR(terrain_sw=\"\",exposure_sw=\"\",windfreq_sw=\"\",s5shape_sw=\"\"),\"\",20*windfreq_sw*terrain_sw*exposure_sw*s5shape_sw*((s5emission*s5abate)^PowerExpo))","v":""},{"$f":"IF(OR(terrain_west=\"\",exposure_west=\"\",windfreq_west=\"\",s5shape_west=\"\"),\"\",20*windfreq_west*terrain_west*exposure_west*s5shape_west*((s5emission*s5abate)^PowerExpo))","v":""},{"$f":"IF(OR(terrain_nw=\"\",exposure_nw=\"\",windfreq_nw=\"\",s5shape_nw=\"\"),\"\",20*windfreq_nw*terrain_nw*exposure_nw*s5shape_nw*((s5emission*s5abate)^PowerExpo))","v":""},null,null,null,null,null,null,{"$f":"IF(OR(terrain_nw=\"\",exposure_nw=\"\",windfreq_nw=\"\",s5shape_nw=\"\"),\"\",20*windfreq_nw*terrain_nw*exposure_nw*s5shape_nw*((s5emission*s5abate)^PowerExpo))","v":""}]
[{"$f":"IF(ISNUMBER(Inputs!$B9),s6name,\"\")","v":""},{"$f":"IF(OR(terrain_north=\"\",exposure_north=\"\",windfreq_north=\"\",s6shape_north=\"\"),\"\",20*windfreq_north*terrain_north*exposure_north*s6shape_north*((s6emission*s6abate)^PowerExpo))","v":""},{"$f":"IF(OR(terrain_ne=\"\",exposure_ne=\"\",windfreq_ne=\"\",s6shape_ne=\"\"),\"\",20*windfreq_ne*terrain_ne*exposure_ne*s6shape_ne*((s6emission*s6abate)^PowerExpo))","v":""},{"$f":"IF(OR(terrain_east=\"\",exposure_east=\"\",windfreq_east=\"\",s6shape_east=\"\"),\"\",20*windfreq_east*terrain_east*exposure_east*s6shape_east*((s6emission*s6abate)^PowerExpo))","v":""},{"$f":"IF(OR(terrain_se=\"\",exposure_se=\"\",windfreq_se=\"\",s6shape_se=\"\"),\"\",20*windfreq_se*terrain_se*exposure_se*s6shape_se*((s6emission*s6abate)^PowerExpo))","v":""},{"$f":"IF(OR(terrain_south=\"\",exposure_south=\"\",windfreq_south=\"\",s6shape_south=\"\"),\"\",20*windfreq_south*terrain_south*exposure_south*s6shape_south*((s6emission*s6abate)^PowerExpo))","v":""},{"$f":"IF(OR(terrain_sw=\"\",exposure_sw=\"\",windfreq_sw=\"\",s6shape_sw=\"\"),\"\",20*windfreq_sw*terrain_sw*exposure_sw*s6shape_sw*((s6emission*s6abate)^PowerExpo))","v":""},{"$f":"IF(OR(terrain_west=\"\",exposure_west=\"\",windfreq_west=\"\",s6shape_west=\"\"),\"\",20*windfreq_west*terrain_west*exposure_west*s6shape_west*((s6emission*s6abate)^PowerExpo))","v":""},{"$f":"IF(OR(terrain_nw=\"\",exposure_nw=\"\",windfreq_nw=\"\",s6shape_nw=\"\"),\"\",20*windfreq_nw*terrain_nw*exposure_nw*s6shape_nw*((s6emission*s6abate)^PowerExpo))","v":""},null,null,null,null,null,null,{"$f":"IF(OR(terrain_nw=\"\",exposure_nw=\"\",windfreq_nw=\"\",s6shape_nw=\"\"),\"\",20*windfreq_nw*terrain_nw*exposure_nw*s6shape_nw*((s6emission*s6abate)^PowerExpo))","v":""}]
[{"$f":"IF(ISNUMBER(Inputs!$B10),s7name,\"\")","v":""},{"$f":"IF(OR(terrain_north=\"\",exposure_north=\"\",windfreq_north=\"\",s7shape_north=\"\"),\"\",20*windfreq_north*terrain_north*exposure_north*s7shape_north*((s7emission*s7abate)^PowerExpo))","v":""},{"$f":"IF(OR(terrain_ne=\"\",exposure_ne=\"\",windfreq_ne=\"\",s7shape_ne=\"\"),\"\",20*windfreq_ne*terrain_ne*exposure_ne*s7shape_ne*((s7emission*s7abate)^PowerExpo))","v":""},{"$f":"IF(OR(terrain_east=\"\",exposure_east=\"\",windfreq_east=\"\",s7shape_east=\"\"),\"\",20*windfreq_east*terrain_east*exposure_east*s7shape_east*((s7emission*s7abate)^PowerExpo))","v":""},{"$f":"IF(OR(terrain_se=\"\",exposure_se=\"\",windfreq_se=\"\",s7shape_se=\"\"),\"\",20*windfreq_se*terrain_se*exposure_se*s7shape_se*((s7emission*s7abate)^PowerExpo))","v":""},{"$f":"IF(OR(terrain_south=\"\",exposure_south=\"\",windfreq_south=\"\",s7shape_south=\"\"),\"\",20*windfreq_south*terrain_south*exposure_south*s7shape_south*((s7emission*s7abate)^PowerExpo))","v":""},{"$f":"IF(OR(terrain_sw=\"\",exposure_sw=\"\",windfreq_sw=\"\",s7shape_sw=\"\"),\"\",20*windfreq_sw*terrain_sw*exposure_sw*s7shape_sw*((s7emission*s7abate)^PowerExpo))","v":""},{"$f":"IF(OR(terrain_west=\"\",exposure_west=\"\",windfreq_west=\"\",s7shape_west=\"\"),\"\",20*windfreq_west*terrain_west*exposure_west*s7shape_west*((s7emission*s7abate)^PowerExpo))","v":""},{"$f":"IF(OR(terrain_nw=\"\",exposure_nw=\"\",windfreq_nw=\"\",s7shape_nw=\"\"),\"\",20*windfreq_nw*terrain_nw*exposure_nw*s7shape_nw*((s7emission*s7abate)^PowerExpo))","v":""},null,null,null,null,null,null,{"$f":"IF(OR(terrain_nw=\"\",exposure_nw=\"\",windfreq_nw=\"\",s7shape_nw=\"\"),\"\",20*windfreq_nw*terrain_nw*exposure_nw*s7shape_nw*((s7emission*s7abate)^PowerExpo))","v":""}]
[{"$f":"IF(ISNUMBER(Inputs!$B11),s8name,\"\")","v":""},{"$f":"IF(OR(terrain_north=\"\",exposure_north=\"\",windfreq_north=\"\",s8shape_north=\"\"),\"\",20*windfreq_north*terrain_north*exposure_north*s8shape_north*((s8emission*s8abate)^PowerExpo))","v":""},{"$f":"IF(OR(terrain_ne=\"\",exposure_ne=\"\",windfreq_ne=\"\",s8shape_ne=\"\"),\"\",20*windfreq_ne*terrain_ne*exposure_ne*s8shape_ne*((s8emission*s8abate)^PowerExpo))","v":""},{"$f":"IF(OR(terrain_east=\"\",exposure_east=\"\",windfreq_east=\"\",s8shape_east=\"\"),\"\",20*windfreq_east*terrain_east*exposure_east*s8shape_east*((s8emission*s8abate)^PowerExpo))","v":""},{"$f":"IF(OR(terrain_se=\"\",exposure_se=\"\",windfreq_se=\"\",s8shape_se=\"\"),\"\",20*windfreq_se*terrain_se*exposure_se*s8shape_se*((s8emission*s8abate)^PowerExpo))","v":""},{"$f":"IF(OR(terrain_south=\"\",exposure_south=\"\",windfreq_south=\"\",s8shape_south=\"\"),\"\",20*windfreq_south*terrain_south*exposure_south*s8shape_south*((s8emission*s8abate)^PowerExpo))","v":""},{"$f":"IF(OR(terrain_sw=\"\",exposure_sw=\"\",windfreq_sw=\"\",s8shape_sw=\"\"),\"\",20*windfreq_sw*terrain_sw*exposure_sw*s8shape_sw*((s8emission*s8abate)^PowerExpo))","v":""},{"$f":"IF(OR(terrain_west=\"\",exposure_west=\"\",windfreq_west=\"\",s8shape_west=\"\"),\"\",20*windfreq_west*terrain_west*exposure_west*s8shape_west*((s8emission*s8abate)^PowerExpo))","v":""},{"$f":"IF(OR(terrain_nw=\"\",exposure_nw=\"\",windfreq_nw=\"\",s8shape_nw=\"\"),\"\",20*windfreq_nw*terrain_nw*exposure_nw*s8shape_nw*((s8emission*s8abate)^PowerExpo))","v":""},null,null,null,null,null,null,{"$f":"IF(OR(terrain_nw=\"\",exposure_nw=\"\",windfreq_nw=\"\",s8shape_nw=\"\"),\"\",20*windfreq_nw*terrain_nw*exposure_nw*s8shape_nw*((s8emission*s8abate)^PowerExpo))","v":""}]
[{"$f":"IF(ISNUMBER(Inputs!$B12),s9name,\"\")","v":""},{"$f":"IF(OR(terrain_north=\"\",exposure_north=\"\",windfreq_north=\"\",s9shape_north=\"\"),\"\",20*windfreq_north*terrain_north*exposure_north*s9shape_north*((s9emission*s9abate)^PowerExpo))","v":""},{"$f":"IF(OR(terrain_ne=\"\",exposure_ne=\"\",windfreq_ne=\"\",s9shape_ne=\"\"),\"\",20*windfreq_ne*terrain_ne*exposure_ne*s9shape_ne*((s9emission*s9abate)^PowerExpo))","v":""},{"$f":"IF(OR(terrain_east=\"\",exposure_east=\"\",windfreq_east=\"\",s9shape_east=\"\"),\"\",20*windfreq_east*terrain_east*exposure_east*s9shape_east*((s9emission*s9abate)^PowerExpo))","v":""},{"$f":"IF(OR(terrain_se=\"\",exposure_se=\"\",windfreq_se=\"\",s9shape_se=\"\"),\"\",20*windfreq_se*terrain_se*exposure_se*s9shape_se*((s9emission*s9abate)^PowerExpo))","v":""},{"$f":"IF(OR(terrain_south=\"\",exposure_south=\"\",windfreq_south=\"\",s9shape_south=\"\"),\"\",20*windfreq_south*terrain_south*exposure_south*s9shape_south*((s9emission*s9abate)^PowerExpo))","v":""},{"$f":"IF(OR(terrain_sw=\"\",exposure_sw=\"\",windfreq_sw=\"\",s9shape_sw=\"\"),\"\",20*windfreq_sw*terrain_sw*exposure_sw*s9shape_sw*((s9emission*s9abate)^PowerExpo))","v":""},{"$f":"IF(OR(terrain_west=\"\",exposure_west=\"\",windfreq_west=\"\",s9shape_west=\"\"),\"\",20*windfreq_west*terrain_west*exposure_west*s9shape_west*((s9emission*s9abate)^PowerExpo))","v":""},{"$f":"IF(OR(terrain_nw=\"\",exposure_nw=\"\",windfreq_nw=\"\",s9shape_nw=\"\"),\"\",20*windfreq_nw*terrain_nw*exposure_nw*s9shape_nw*((s9emission*s9abate)^PowerExpo))","v":""},null,null,null,null,null,null,{"$f":"IF(OR(terrain_nw=\"\",exposure_nw=\"\",windfreq_nw=\"\",s9shape_nw=\"\"),\"\",20*windfreq_nw*terrain_nw*exposure_nw*s9shape_nw*((s9emission*s9abate)^PowerExpo))","v":""}]
[{"$f":"IF(ISNUMBER(Inputs!$B13),s10name,\"\")","v":""},{"$f":"IF(OR(terrain_north=\"\",exposure_north=\"\",windfreq_north=\"\",s10shape_north=\"\"),\"\",20*windfreq_north*terrain_north*exposure_north*s10shape_north*((s10emission*s10abate)^PowerExpo))","v":""},{"$f":"IF(OR(terrain_ne=\"\",exposure_ne=\"\",windfreq_ne=\"\",s10shape_ne=\"\"),\"\",20*windfreq_ne*terrain_ne*exposure_ne*s10shape_ne*((s10emission*s10abate)^PowerExpo))","v":""},{"$f":"IF(OR(terrain_east=\"\",exposure_east=\"\",windfreq_east=\"\",s10shape_east=\"\"),\"\",20*windfreq_east*terrain_east*exposure_east*s10shape_east*((s10emission*s10abate)^PowerExpo))","v":""},{"$f":"IF(OR(terrain_se=\"\",exposure_se=\"\",windfreq_se=\"\",s10shape_se=\"\"),\"\",20*windfreq_se*terrain_se*exposure_se*s10shape_se*((s10emission*s10abate)^PowerExpo))","v":""},{"$f":"IF(OR(terrain_south=\"\",exposure_south=\"\",windfreq_south=\"\",s10shape_south=\"\"),\"\",20*windfreq_south*terrain_south*exposure_south*s10shape_south*((s10emission*s10abate)^PowerExpo))","v":""},{"$f":"IF(OR(terrain_sw=\"\",exposure_sw=\"\",windfreq_sw=\"\",s10shape_sw=\"\"),\"\",20*windfreq_sw*terrain_sw*exposure_sw*s10shape_sw*((s10emission*s10abate)^PowerExpo))","v":""},{"$f":"IF(OR(terrain_west=\"\",exposure_west=\"\",windfreq_west=\"\",s10shape_west=\"\"),\"\",20*windfreq_west*terrain_west*exposure_west*s10shape_west*((s10emission*s10abate)^PowerExpo))","v":""},{"$f":"IF(OR(terrain_nw=\"\",exposure_nw=\"\",windfreq_nw=\"\",s10shape_nw=\"\"),\"\",20*windfreq_nw*terrain_nw*exposure_nw*s10shape_nw*((s10emission*s10abate)^PowerExpo))","v":""},null,null,null,null,null,null,{"$f":"IF(OR(terrain_nw=\"\",exposure_nw=\"\",windfreq_nw=\"\",s10shape_nw=\"\"),\"\",20*windfreq_nw*terrain_nw*exposure_nw*s10shape_nw*((s10emission*s10abate)^PowerExpo))","v":""}]
["SITE","SETBACK DISTANCES FROM SITE"]
["Unadjusted site setback, ft.",{"$f":"IF(OR(terrain_north=\"\",exposure_north=\"\",windfreq_north=\"\",pshape_north=\"\"),\"\",20*windfreq_north*exposure_north*terrain_north*pshape_north*((site_emission_abated)^PowerExpo))","v":{"$error":"#DIV/0!"}},{"$f":"IF(OR(terrain_ne=\"\",exposure_ne=\"\",windfreq_ne=\"\",pshape_ne=\"\"),\"\",20*windfreq_ne*exposure_ne*terrain_ne*pshape_ne*((site_emission_abated)^PowerExpo))","v":{"$error":"#DIV/0!"}},{"$f":"IF(OR(terrain_east=\"\",exposure_east=\"\",windfreq_east=\"\",pshape_east=\"\"),\"\",20*windfreq_east*exposure_east*terrain_east*pshape_east*((site_emission_abated)^PowerExpo))","v":{"$error":"#DIV/0!"}},{"$f":"IF(OR(terrain_se=\"\",exposure_se=\"\",windfreq_se=\"\",pshape_se=\"\"),\"\",20*windfreq_se*exposure_se*terrain_se*pshape_se*((site_emission_abated)^PowerExpo))","v":{"$error":"#DIV/0!"}},{"$f":"IF(OR(terrain_south=\"\",exposure_south=\"\",windfreq_south=\"\",pshape_south=\"\"),\"\",20*windfreq_south*exposure_south*terrain_south*pshape_south*((site_emission_abated)^PowerExpo))","v":{"$error":"#DIV/0!"}},{"$f":"IF(OR(terrain_sw=\"\",exposure_sw=\"\",windfreq_sw=\"\",pshape_sw=\"\"),\"\",20*windfreq_sw*exposure_sw*terrain_sw*pshape_sw*((site_emission_abated)^PowerExpo))","v":{"$error":"#DIV/0!"}},{"$f":"IF(OR(terrain_west=\"\",exposure_west=\"\",windfreq_west=\"\",pshape_west=\"\"),\"\",20*windfreq_west*exposure_west*terrain_west*pshape_west*((site_emission_abated)^PowerExpo))","v":{"$error":"#DIV/0!"}},{"$f":"IF(OR(terrain_nw=\"\",exposure_nw=\"\",windfreq_nw=\"\",pshape_nw=\"\"),\"\",20*windfreq_nw*exposure_nw*terrain_nw*pshape_nw*((site_emission_abated)^PowerExpo))","v":{"$error":"#DIV/0!"}},null,null,null,null,null,null,{"$f":"AVERAGE(B15:I15)","v":{"$error":"#DIV/0!"}}]
["Site Setback, ft.",{"$f":"IF(Site_Setback_N=\"\",\"\",Site_Setback_N-com_diff_N)","v":{"$error":"#DIV/0!"}},{"$f":"SQRT((Site_Setback_NE*COS(PI()*45/180)-com_diff_N)^2+(Site_Setback_NE*SIN(PI()*45/180)-com_diff_E)^2)","v":{"$error":"#DIV/0!"}},{"$f":"IF(Site_Setback_E=\"\",\"\",Site_Setback_E-com_diff_E)","v":{"$error":"#DIV/0!"}},{"$f":"SQRT((Site_Setback_Se*COS(PI()*45/180)+com_diff_N)^2+(Site_Setback_Se*SIN(PI()*45/180)-com_diff_E)^2)","v":{"$error":"#DIV/0!"}},{"$f":"IF(Site_Setback_S=\"\",\"\",Site_Setback_S+com_diff_N)","v":{"$error":"#DIV/0!"}},{"$f":"SQRT((Site_Setback_SW*COS(PI()*45/180)+com_diff_N)^2+(Site_Setback_SW*SIN(PI()*45/180)+com_diff_E)^2)","v":{"$error":"#DIV/0!"}},{"$f":"IF(Site_Setback_W=\"\",\"\",Site_Setback_W+com_diff_E)","v":{"$error":"#DIV/0!"}},{"$f":"SQRT((Site_Setback_NW*COS(PI()*45/180)-com_diff_N)^2+(Site_Setback_NW*SIN(PI()*45/180)+com_diff_E)^2)","v":{"$error":"#DIV/0!"}},null,"Min",{"$f":"MIN(B16:I16)","v":{"$error":"#DIV/0!"}},"Max",{"$f":"MAX(B16:I16)","v":{"$error":"#DIV/0!"}},null,2560]
["Site Setback, m",{"$f":"B16/3.28","v":{"$error":"#DIV/0!"}},{"$error":"#DIV/0!"},{"$f":"D16/3.28","v":{"$error":"#DIV/0!"}},{"$error":"#DIV/0!"},{"$error":"#DIV/0!"},{"$error":"#DIV/0!"},{"$error":"#DIV/0!"},{"$error":"#DIV/0!"},null,null,null,null,null,null,{"$f":"P16/3.28","v":780.48780487804879}]
["Site Setback, yd",{"$f":"B16/3","v":{"$error":"#DIV/0!"}},{"$f":"C16/3","v":{"$error":"#DIV/0!"}},{"$f":"D16/3","v":{"$error":"#DIV/0!"}},{"$error":"#DIV/0!"},{"$error":"#DIV/0!"},{"$error":"#DIV/0!"},{"$error":"#DIV/0!"},{"$error":"#DIV/0!"},null,null,null,null,null,null,{"$f":"P16/3","v":853.33333333333337}]
["Site Setback, miles",{"$f":"B16/5280","v":{"$error":"#DIV/0!"}},{"$f":"C16/5280","v":{"$error":"#DIV/0!"}},{"$f":"D16/5280","v":{"$error":"#DIV/0!"}},{"$error":"#DIV/0!"},{"$error":"#DIV/0!"},{"$error":"#DIV/0!"},{"$error":"#DIV/0!"},{"$error":"#DIV/0!"},null,null,null,null,null,null,{"$f":"P16/5280","v":0.48484848484848486}]
["Site Setback, km",{"$f":"B17/1000","v":{"$error":"#DIV/0!"}},{"$f":"C17/1000","v":{"$error":"#DIV/0!"}},{"$error":"#DIV/0!"},{"$error":"#DIV/0!"},{"$error":"#DIV/0!"},{"$error":"#DIV/0!"},{"$error":"#DIV/0!"},{"$error":"#DIV/0!"},null,null,null,null,null,null,{"$f":"P17/1000","v":0.78048780487804881}]
["Bearing, deg",0,45,90,135,180,225,270,315,null,null,null,null,null,null,90]
["Latitude 2",{"$f":"DEGREES(ASIN(SIN(RADIANS(sitelatitude))*COS(B17/RadiusEarth)+COS(RADIANS(sitelatitude))*SIN(B17/RadiusEarth)*COS(RADIANS(B21))))","v":{"$error":"#DIV/0!"}},{"$error":"#DIV/0!"},{"$error":"#DIV/0!"},{"$error":"#DIV/0!"},{"$error":"#DIV/0!"},{"$error":"#DIV/0!"},{"$error":"#DIV/0!"},{"$error":"#DIV/0!"},null,null,null,null,null,null,{"$f":"DEGREES(ASIN(SIN(RADIANS(sitelatitude))*COS(P17/RadiusEarth)+COS(RADIANS(sitelatitude))*SIN(P17/RadiusEarth)*COS(RADIANS(P21))))","v":44.999999570054598}]
["Longitude 2",{"$f":"sitelongitude+DEGREES(ATAN2(COS(B17/RadiusEarth)-SIN(RADIANS(sitelatitude))*SIN(RADIANS(B22)),SIN(RADIANS(B21))*SIN(B17/RadiusEarth)*COS(RADIANS(sitelatitude))))","v":{"$error":"#DIV/0!"}},{"$error":"#DIV/0!"},{"$error":"#DIV/0!"},{"$error":"#DIV/0!"},{"$error":"#DIV/0!"},{"$error":"#DIV/0!"},{"$error":"#DIV/0!"},{"$error":"#DIV/0!"},null,null,null,null,null,null,{"$f":"sitelongitude+DEGREES(ATAN2(COS(P17/RadiusEarth)-SIN(RADIANS(sitelatitude))*SIN(RADIANS(P22)),SIN(RADIANS(P21))*SIN(P17/RadiusEarth)*COS(RADIANS(sitelatitude))))","v":-85.990073458419261}]
[]
["Check Distance, ft",{"$f":"3.28*RadiusEarth*((2*ASIN(SQRT((SIN((RADIANS(sitelatitude)-RADIANS(B22))/2)^2)+COS(RADIANS(sitelatitude))*COS(RADIANS(B22))*(SIN((RADIANS(sitelongitude)-RADIANS(B23))/2)^2)))))","v":{"$error":"#DIV/0!"}},{"$error":"#DIV/0!"},{"$error":"#DIV/0!"},{"$error":"#DIV/0!"},{"$error":"#DIV/0!"},{"$error":"#DIV/0!"},{"$error":"#DIV/0!"},{"$error":"#DIV/0!"},null,null,null,null,null,null,{"$f":"3.28*RadiusEarth*((2*ASIN(SQRT((SIN((RADIANS(sitelatitude)-RADIANS(P22))/2)^2)+COS(RADIANS(sitelatitude))*COS(RADIANS(P22))*(SIN((RADIANS(sitelongitude)-RADIANS(P23))/2)^2)))))","v":2560.0000000005762}]

{"sheet":"Plots","index":3,"n_rows":46,"n_cols":24,"rows_kept":46,"cut":false,"hidden":false,"merged":[]}
[null,"LAYOUT OF EMITTING SOURCES (aspect ratio may be not to scale as it changes automatically)"]
[null,null,null,null,null,null,null,null,null,null,null,null,null,null,null,null,"Legend"]
[null,null,null,null,null,null,null,null,null,null,null,null,null,null,null,null,{"$f":"IF(s1name=\"\",\"\",s1name)","v":""}]
[null,null,null,null,null,null,null,null,null,null,null,null,null,null,null,null,{"$f":"IF(s2name=\"\",\"\",s2name)","v":""}]
[null,null,null,null,null,null,null,null,null,null,null,null,null,null,null,null,{"$f":"IF(s3name=\"\",\"\",s3name)","v":""}]
[null,null,null,null,null,null,null,null,null,null,null,null,null,null,null,null,{"$f":"IF(s4name=\"\",\"\",s4name)","v":""}]
[null,null,null,null,null,null,null,null,null,null,null,null,null,null,null,null,{"$f":"IF(s5name=\"\",\"\",s5name)","v":""}]
[null,null,null,null,null,null,null,null,null,null,null,null,null,null,null,null,{"$f":"IF(s6name=\"\",\"\",s6name)","v":""}]
[null,null,null,null,null,null,null,null,null,null,null,null,null,null,null,null,{"$f":"IF(s7name=\"\",\"\",s7name)","v":""}]
[null,null,null,null,null,null,null,null,null,null,null,null,null,null,null,null,{"$f":"IF(s8name=\"\",\"\",s8name)","v":""}]
[null,null,null,null,null,null,null,null,null,null,null,null,null,null,null,null,{"$f":"IF(s9name=\"\",\"\",s9name)","v":""}]
[null,null,null,null,null,null,null,null,null,null,null,null,null,null,null,null,{"$f":"IF(s10name=\"\",\"\",s10name)","v":""}]
[]
[]
[]
[]
[]
[]
[]
[]
[]
[]
[]
[]
[]
[]
[]
[]
[]
[]
[]
[]
[]
[]
[null,"LAYOUT OF EMITTING SOURCES AND SETBACK DISTANCES (see legend to the right)",null,null,null,null,null,null,null,null,null,null,null,null,"LEGEND",null,"Solid = Source",null,null,"Dashed = Ref. Circle",null,null,"Dotted = Setback"]
[null,null,null,null,null,null,null,null,null,null,null,null,null,null,{"$f":"IF(s1name=\"\",\"\",s1name)","v":""},{"$f":"IF(s2name=\"\",\"\",s2name)","v":""},{"$f":"IF(s3name=\"\",\"\",s3name)","v":""},{"$f":"IF(s4name=\"\",\"\",s4name)","v":""},{"$f":"IF(s5name=\"\",\"\",s5name)","v":""},{"$f":"IF(s6name=\"\",\"\",s6name)","v":""},{"$f":"IF(s7name=\"\",\"\",s7name)","v":""},{"$f":"IF(s8name=\"\",\"\",s8name)","v":""},{"$f":"IF(s9name=\"\",\"\",s9name)","v":""},{"$f":"IF(s10name=\"\",\"\",s10name)","v":""}]
[]
[]
[]
[]
[]
[]
[]
[]
[]
[null,"LAYOUT OF EMITTING SOURCES AND SETBACK DISTANCES"]

{"sheet":"Maps","index":4,"n_rows":24,"n_cols":2,"rows_kept":24,"cut":false,"hidden":false,"merged":[]}
["Follow these steps to view the calculated odor setback on Google Earth, Google Maps, etc."]
[]
["Requirements"]
["1. Have Google Earth installed on your computer."]
["2. Name the file to which your GPS data will be saved in the cell to the right.","datapoints"]
["3. Note: Be sure that the site reference point has the correct latitude and longitude."]
["4. Use this \"Click Here\" button to create a new workbook that contains the calculated GPS data."]
["5. Search your computer for the file name you entered in step 2 and note the location."]
[]
[]
["Earth Point"]
["1. Pressing Earth Point button will take you to the web site (http://www.earthpoint.us/ExcelToKml.aspx)"]
["2. Browse for the file you named in the first step above."]
["3. Click on the \"View on Google Earth\" button."]
["4. If asked, select \"Open in Google Earth\" and \"Allow\"."]
["5. You can save the plotted points on Google Earth as a reference later."]
[]
[]
["GPS Visualizer"]
["1. Go to GPS Visualizer website ('http://www.gpsvisualizer.com)"]
["2. Hit the \"browse…\" button and select GE Points from your documents."]
["3. Select what type of output you would like to view your data in (ie, Google Earth, Google Maps, etc)."]
["4. Click the [Go!] box and you will be brought to a new page with access to your KML or KMZ files."]
["5. Click on the file and choose to either open  file with Google Earth or save the file to your computer."]

{"sheet":"AU Calc","index":5,"n_rows":23,"n_cols":4,"rows_kept":23,"cut":false,"hidden":false,"merged":[[2,1,2,3],[21,1,21,2],[22,1,22,3]]}
[]
[]
[null,"MANURE STORAGE = ANIMAL UNITS CALCULATOR"]
[null,"Animal Type","Enter Number","Animal Units       "]
[null,"Dairy"]
[null,"Lactating Cow (Holstein)",0,{"$f":"Animal!W5*C6","v":0}]
[null,"Dry Cow (Holstein)",0,{"$f":"Animal!W6*C7","v":0}]
[null,"Heifer (Holstein)",0,{"$f":"Animal!W7*C8","v":0}]
[null,"Calves (0-2 mo.)",0,{"$f":"Animal!W13*C9","v":0}]
[null,"Swine"]
[null,"Nursery pig",0,{"$f":"Animal!W16*C11","v":0}]
[null,"Grower pig",0,{"$f":"Animal!W17*C12","v":0}]
[null,"Finishing pig",4000,{"$f":"Animal!W18*C13","v":544.21768707483}]
[null,"Gilt",0,{"$f":"Animal!W19*C14","v":0}]
[null,"Gestating sow",0,{"$f":"Animal!W20*C15","v":0}]
[null,"Sow and litter",0,{"$f":"Animal!W21*C16","v":0}]
[null,"Boar",0,{"$f":"Animal!W22*C17","v":0}]
[null,"Poultry"]
[null,"Laying hen",0,{"$f":"Animal!W25*C19","v":0}]
[null,"Pullet",0,{"$f":"Animal!W26*C20","v":0}]
[null,"Broiler",0,{"$f":"Animal!W27*C21","v":0}]
[null,"Total Animal Units",null,{"$f":"SUM(D6:D21)","v":544.21768707483}]
[null,"*One Animal Unit = 500 kg or 1,100 lb live weight"]

{"sheet":"Scratch","index":6,"n_rows":0,"n_cols":0,"rows_kept":0,"cut":false,"hidden":false,"merged":[]}

{"sheet":"Links","index":7,"n_rows":16,"n_cols":1,"rows_kept":16,"cut":false,"hidden":false,"merged":[]}
["IDEM CFOs/CAFOs Web Site"]
["Indiana Beef Cattle Association"]
["Indiana Corn Growers"]
["Indiana Pork Producers Association"]
["Indiana Soybean Alliance"]
["Indiana State Dairy Association"]
["Indiana State Poultry Association"]
["Purdue Agricultural Air Quality Laboratory"]
["Purdue Agricultural and Biological Engineering Department"]
["Purdue BioEnergy Web Page"]
["Purdue CAFO Web Site"]
["Purdue Dairy Page"]
["Purdue Extension"]
["Purdue Manure Management Website"]
["Purdue Pork Page"]
["Purdue Poultry Page"]

{"sheet":"Plotdata","index":8,"n_rows":143,"n_cols":17,"rows_kept":143,"cut":false,"hidden":true,"merged":[]}
[]
["PLOT SETBACK DISTANCES BY SOURCE"]
[null,null,null,null,null,null,null,null,null,null,"PLOT ENCOMPASSING RECTANGLE"]
["SOURCE","SxSWy?","CORNER POINTS:","N-DIRECTION","E-DIRECTION",null,"SOURCE","45 DEGREE CORNERS","POINTS",null,"CORNER POINTS:","N-DIRECTION","E-DIRECTION","Latitude","Longitude"]
[1,{"$f":"ISNUMBER(s1SWy)","v":false},"W-SW",{"$f":"IF(s1plot=\"NO\",NA(),IF(s1shape=rectangle_shape,SrcFactors!CE8,IF(s1shape=circle_shape,Circ!C10,NA())))","v":{"$error":"#N/A"}},{"$f":"IF(s1plot=\"NO\",NA(),IF(s1shape=rectangle_shape,SrcFactors!CF8-Setback!H4,IF(s1shape=circle_shape,Circ!D10-Setback!H4,NA())))","v":{"$error":"#N/A"}},null,{"$f":"A5","v":1},"NW",{"$f":"IF(Setback!I4=\"\",\"\",Setback!I4*((SQRT(2)/2)))","v":""},null,"SW",{"$f":"North_min","v":0},{"$f":"East_min","v":0},{"$f":"IF(AND(L5=0,M5=0),sitelatitude,(DEGREES(ASIN(SIN(RADIANS(sitelatitude))*COS((SQRT(L5^2+M5^2)/3.28)/RadiusEarth)+COS(RADIANS(sitelatitude))*SIN((SQRT(L5^2+M5^2)/3.28)/RadiusEarth)*COS(RADIANS((IF(M5>=0,DEGREES(ATAN2(L5,M5)),360+DEGREES(ATAN2(L5,M5))))))))))","v":45},{"$f":"sitelongitude+IF(AND(L5=0,M5=0),0,DEGREES(ATAN2(COS((SQRT(L5^2+M5^2)/3.28)/RadiusEarth)-SIN(RADIANS(sitelatitude))*SIN(RADIANS(Plotdata!N5)),SIN(RADIANS((IF(M5>=0,DEGREES(ATAN2(L5,M5)),360+DEGREES(ATAN2(L5,M5))))))*SIN((SQRT(L5^2+M5^2)/3.28)/RadiusEarth)*COS(RADIANS(sitelatitude)))))","v":-86},null,"SW Source site"]
[{"$f":"IF(s1name=\"\",\"\",s1name)","v":""},null,"W-NW",{"$f":"IF(s1plot=\"NO\",NA(),IF(s1shape=rectangle_shape,SrcFactors!CE9,IF(s1shape=circle_shape,Circ!C10,NA())))","v":{"$error":"#N/A"}},{"$f":"IF(s1plot=\"NO\",NA(),IF(s1shape=rectangle_shape,SrcFactors!CF9-Setback!H4,IF(s1shape=circle_shape,Circ!D10-Setback!H4,NA())))","v":{"$error":"#N/A"}},null,null,"NE",{"$f":"IF(Setback!C4=\"\",\"\",Setback!C4*((SQRT(2)/2)))","v":""},null,"NW",{"$f":"North_max","v":0},{"$f":"East_min","v":0},{"$f":"IF(AND(L6=0,M6=0),sitelatitude,(DEGREES(ASIN(SIN(RADIANS(sitelatitude))*COS((SQRT(L6^2+M6^2)/3.28)/RadiusEarth)+COS(RADIANS(sitelatitude))*SIN((SQRT(L6^2+M6^2)/3.28)/RadiusEarth)*COS(RADIANS((IF(M6>=0,DEGREES(ATAN2(L6,M6)),360+DEGREES(ATAN2(L6,M6))))))))))","v":45},{"$f":"sitelongitude+IF(AND(L6=0,M6=0),0,DEGREES(ATAN2(COS((SQRT(L6^2+M6^2)/3.28)/RadiusEarth)-SIN(RADIANS(sitelatitude))*SIN(RADIANS(Plotdata!N6)),SIN(RADIANS((IF(M6>=0,DEGREES(ATAN2(L6,M6)),360+DEGREES(ATAN2(L6,M6))))))*SIN((SQRT(L6^2+M6^2)/3.28)/RadiusEarth)*COS(RADIANS(sitelatitude)))))","v":-86},null,"NW Source site"]
[null,null,"NW pt",{"$f":"IF(s1plot=\"NO\",NA(),IF(s1shape=rectangle_shape,SrcFactors!CE9+I5,IF(s1shape=circle_shape,Circ!C11+I5,NA())))","v":{"$error":"#N/A"}},{"$f":"IF(s1plot=\"NO\",NA(),IF(s1shape=rectangle_shape,SrcFactors!CF9-I5,IF(s1shape=circle_shape,Circ!D11-I5,NA())))","v":{"$error":"#N/A"}},null,null,"SE",{"$f":"IF(Setback!E4=\"\",\"\",Setback!E4*((SQRT(2)/2)))","v":""},null,"NE",{"$f":"North_max","v":0},{"$f":"East_max","v":0},{"$f":"IF(AND(L7=0,M7=0),sitelatitude,(DEGREES(ASIN(SIN(RADIANS(sitelatitude))*COS((SQRT(L7^2+M7^2)/3.28)/RadiusEarth)+COS(RADIANS(sitelatitude))*SIN((SQRT(L7^2+M7^2)/3.28)/RadiusEarth)*COS(RADIANS((IF(M7>=0,DEGREES(ATAN2(L7,M7)),360+DEGREES(ATAN2(L7,M7))))))))))","v":45},{"$f":"sitelongitude+IF(AND(L7=0,M7=0),0,DEGREES(ATAN2(COS((SQRT(L7^2+M7^2)/3.28)/RadiusEarth)-SIN(RADIANS(sitelatitude))*SIN(RADIANS(Plotdata!N7)),SIN(RADIANS((IF(M7>=0,DEGREES(ATAN2(L7,M7)),360+DEGREES(ATAN2(L7,M7))))))*SIN((SQRT(L7^2+M7^2)/3.28)/RadiusEarth)*COS(RADIANS(sitelatitude)))))","v":-86},null,"NE Source site"]
["Plot?",{"$f":"s1plot","v":0},"N-NW",{"$f":"IF(s1plot=\"NO\",NA(),IF(s1shape=rectangle_shape,SrcFactors!CE9+Setback!B4,IF(s1shape=circle_shape,Circ!C12+Setback!B4,NA())))","v":{"$error":"#N/A"}},{"$f":"IF(s1plot=\"NO\",NA(),IF(s1shape=rectangle_shape,SrcFactors!CF9,IF(s1shape=circle_shape,Circ!D12,NA())))","v":{"$error":"#N/A"}},null,null,"SW",{"$f":"IF(Setback!G4=\"\",\"\",Setback!G4*((SQRT(2)/2)))","v":""},null,"SE",{"$f":"North_min","v":0},{"$f":"East_max","v":0},{"$f":"IF(AND(L8=0,M8=0),sitelatitude,(DEGREES(ASIN(SIN(RADIANS(sitelatitude))*COS((SQRT(L8^2+M8^2)/3.28)/RadiusEarth)+COS(RADIANS(sitelatitude))*SIN((SQRT(L8^2+M8^2)/3.28)/RadiusEarth)*COS(RADIANS((IF(M8>=0,DEGREES(ATAN2(L8,M8)),360+DEGREES(ATAN2(L8,M8))))))))))","v":45},{"$f":"sitelongitude+IF(AND(L8=0,M8=0),0,DEGREES(ATAN2(COS((SQRT(L8^2+M8^2)/3.28)/RadiusEarth)-SIN(RADIANS(sitelatitude))*SIN(RADIANS(Plotdata!N8)),SIN(RADIANS((IF(M8>=0,DEGREES(ATAN2(L8,M8)),360+DEGREES(ATAN2(L8,M8))))))*SIN((SQRT(L8^2+M8^2)/3.28)/RadiusEarth)*COS(RADIANS(sitelatitude)))))","v":-86},null,"SE Source site"]
[null,null,"N-NE",{"$f":"IF(s1plot=\"NO\",NA(),IF(s1shape=rectangle_shape,SrcFactors!CE10+Setback!B4,IF(s1shape=circle_shape,Circ!C12+Setback!B4,NA())))","v":{"$error":"#N/A"}},{"$f":"IF(s1plot=\"NO\",NA(),IF(s1shape=rectangle_shape,SrcFactors!CF10,IF(s1shape=circle_shape,Circ!D12,NA())))","v":{"$error":"#N/A"}},null,null,null,null,null,"SW",{"$f":"North_min","v":0},{"$f":"East_min","v":0},{"$f":"IF(AND(L9=0,M9=0),sitelatitude,(DEGREES(ASIN(SIN(RADIANS(sitelatitude))*COS((SQRT(L9^2+M9^2)/3.28)/RadiusEarth)+COS(RADIANS(sitelatitude))*SIN((SQRT(L9^2+M9^2)/3.28)/RadiusEarth)*COS(RADIANS((IF(M9>=0,DEGREES(ATAN2(L9,M9)),360+DEGREES(ATAN2(L9,M9))))))))))","v":45},{"$f":"sitelongitude+IF(AND(L9=0,M9=0),0,DEGREES(ATAN2(COS((SQRT(L9^2+M9^2)/3.28)/RadiusEarth)-SIN(RADIANS(sitelatitude))*SIN(RADIANS(Plotdata!N9)),SIN(RADIANS((IF(M9>=0,DEGREES(ATAN2(L9,M9)),360+DEGREES(ATAN2(L9,M9))))))*SIN((SQRT(L9^2+M9^2)/3.28)/RadiusEarth)*COS(RADIANS(sitelatitude)))))","v":-86},null,"SW Source site"]
[null,null,"NE pt",{"$f":"IF(s1plot=\"NO\",NA(),IF(s1shape=rectangle_shape,SrcFactors!CE10+I6,IF(s1shape=circle_shape,Circ!C13+I6,NA())))","v":{"$error":"#N/A"}},{"$f":"IF(s1plot=\"NO\",NA(),IF(s1shape=rectangle_shape,SrcFactors!CF10+I6,IF(s1shape=circle_shape,Circ!D13+I6,NA())))","v":{"$error":"#N/A"}},null,{"$f":"A19","v":2},"NW",{"$f":"IF(Setback!I5=\"\",\"\",Setback!I5*((SQRT(2)/2)))","v":""}]
[null,null,"E-NE",{"$f":"IF(s1plot=\"NO\",NA(),IF(s1shape=rectangle_shape,SrcFactors!CE10,IF(s1shape=circle_shape,Circ!C14,NA())))","v":{"$error":"#N/A"}},{"$f":"IF(s1plot=\"NO\",NA(),IF(s1shape=rectangle_shape,SrcFactors!CF10+Setback!D4,IF(s1shape=circle_shape,Circ!D14+Setback!D4,NA())))","v":{"$error":"#N/A"}},null,null,"NE",{"$f":"IF(Setback!C5=\"\",\"\",Setback!C5*((SQRT(2)/2)))","v":""},null,"PLOT SETBACK FROM ENCOMPASSING RECTANGLE"]
[null,null,"E-SE",{"$f":"IF(s1plot=\"NO\",NA(),IF(s1shape=rectangle_shape,SrcFactors!CE11,IF(s1shape=circle_shape,Circ!C14,NA())))","v":{"$error":"#N/A"}},{"$f":"IF(s1plot=\"NO\",NA(),IF(s1shape=rectangle_shape,SrcFactors!CF11+Setback!D4,IF(s1shape=circle_shape,Circ!D14+Setback!D4,NA())))","v":{"$error":"#N/A"}},null,null,"SE",{"$f":"IF(Setback!E5=\"\",\"\",Setback!E5*((SQRT(2)/2)))","v":""},null,"CORNER POINTS:","N-DIRECTION","E-DIRECTION","Latitude","Longitude","SW Distance, m","Compass brg"]
[null,null,"SE pt",{"$f":"IF(s1plot=\"NO\",NA(),IF(s1shape=rectangle_shape,SrcFactors!CE11-I7,IF(s1shape=circle_shape,Circ!C15-I7,NA())))","v":{"$error":"#N/A"}},{"$f":"IF(s1plot=\"NO\",NA(),IF(s1shape=rectangle_shape,SrcFactors!CF11+I7,IF(s1shape=circle_shape,Circ!D15+I7,NA())))","v":{"$error":"#N/A"}},null,null,"SW",{"$f":"IF(Setback!G5=\"\",\"\",Setback!G5*((SQRT(2)/2)))","v":""},null,"W-SW",{"$f":"North_min","v":0},{"$f":"East_min-Setback!H15-com_diff_E","v":{"$error":"#DIV/0!"}},{"$f":"IF(AND(L13=0,M13=0),sitelatitude,(DEGREES(ASIN(SIN(RADIANS(sitelatitude))*COS((SQRT(L13^2+M13^2)/3.28)/RadiusEarth)+COS(RADIANS(sitelatitude))*SIN((SQRT(L13^2+M13^2)/3.28)/RadiusEarth)*COS(RADIANS((IF(M13>=0,DEGREES(ATAN2(L13,M13)),360+DEGREES(ATAN2(L13,M13))))))))))","v":{"$error":"#DIV/0!"}},{"$f":"sitelongitude+IF(AND(L13=0,M13=0),0,DEGREES(ATAN2(COS((SQRT(L13^2+M13^2)/3.28)/RadiusEarth)-SIN(RADIANS(sitelatitude))*SIN(RADIANS(Plotdata!N13)),SIN(RADIANS((IF(M13>=0,DEGREES(ATAN2(L13,M13)),360+DEGREES(ATAN2(L13,M13))))))*SIN((SQRT(L13^2+M13^2)/3.28)/RadiusEarth)*COS(RADIANS(sitelatitude)))))","v":{"$error":"#DIV/0!"}},{"$f":"(SQRT(L13^2+M13^2)/3.28)","v":{"$error":"#DIV/0!"}},{"$f":"(IF(M13>=0,DEGREES(ATAN2(L13,M13)),360+DEGREES(ATAN2(L13,M13))))","v":{"$error":"#DIV/0!"}}]
[null,null,"S-SE",{"$f":"IF(s1plot=\"NO\",NA(),IF(s1shape=rectangle_shape,SrcFactors!CE11-Setback!F4,IF(s1shape=circle_shape,Circ!C16-Setback!F4,NA())))","v":{"$error":"#N/A"}},{"$f":"IF(s1plot=\"NO\",NA(),IF(s1shape=rectangle_shape,SrcFactors!CF11,IF(s1shape=circle_shape,Circ!D16,NA())))","v":{"$error":"#N/A"}},null,null,null,null,null,"W-NW",{"$f":"North_max","v":0},{"$f":"East_min-Setback!H15-com_diff_E","v":{"$error":"#DIV/0!"}},{"$error":"#DIV/0!"},{"$f":"sitelongitude+IF(AND(L14=0,M14=0),0,DEGREES(ATAN2(COS((SQRT(L14^2+M14^2)/3.28)/RadiusEarth)-SIN(RADIANS(sitelatitude))*SIN(RADIANS(Plotdata!N14)),SIN(RADIANS((IF(M14>=0,DEGREES(ATAN2(L14,M14)),360+DEGREES(ATAN2(L14,M14))))))*SIN((SQRT(L14^2+M14^2)/3.28)/RadiusEarth)*COS(RADIANS(sitelatitude)))))","v":{"$error":"#DIV/0!"}},{"$f":"SQRT(L14^2+M14^2)/3.28","v":{"$error":"#DIV/0!"}},{"$error":"#DIV/0!"}]
[null,null,"S-SW",{"$f":"IF(s1plot=\"NO\",NA(),IF(s1shape=rectangle_shape,SrcFactors!CE12-Setback!F4,IF(s1shape=circle_shape,Circ!C16-Setback!F4,NA())))","v":{"$error":"#N/A"}},{"$f":"IF(s1plot=\"NO\",NA(),IF(s1shape=rectangle_shape,SrcFactors!CF12,IF(s1shape=circle_shape,Circ!D16,NA())))","v":{"$error":"#N/A"}},null,{"$f":"A33","v":3},"NW",{"$f":"IF(Setback!I6=\"\",\"\",Setback!I6*((SQRT(2)/2)))","v":""},null,"NW pt",{"$f":"North_max+I55-com_diff_N","v":{"$error":"#DIV/0!"}},{"$f":"East_min-I55-com_diff_E","v":{"$error":"#DIV/0!"}},{"$error":"#DIV/0!"},{"$f":"sitelongitude+IF(AND(L15=0,M15=0),0,DEGREES(ATAN2(COS((SQRT(L15^2+M15^2)/3.28)/RadiusEarth)-SIN(RADIANS(sitelatitude))*SIN(RADIANS(Plotdata!N15)),SIN(RADIANS((IF(M15>=0,DEGREES(ATAN2(L15,M15)),360+DEGREES(ATAN2(L15,M15))))))*SIN((SQRT(L15^2+M15^2)/3.28)/RadiusEarth)*COS(RADIANS(sitelatitude)))))","v":{"$error":"#DIV/0!"}},{"$error":"#DIV/0!"},{"$error":"#DIV/0!"}]
[null,null,"SW pt",{"$f":"IF(s1plot=\"NO\",NA(),IF(s1shape=rectangle_shape,SrcFactors!CE11-I8,IF(s1shape=circle_shape,Circ!C17-I8,NA())))","v":{"$error":"#N/A"}},{"$f":"IF(s1plot=\"NO\",NA(),IF(s1shape=rectangle_shape,SrcFactors!CF12-I8,IF(s1shape=circle_shape,Circ!D17-I8,NA())))","v":{"$error":"#N/A"}},null,null,"NE",{"$f":"IF(Setback!C6=\"\",\"\",Setback!C6*((SQRT(2)/2)))","v":""},null,"N-NW",{"$f":"North_max+Setback!B15-com_diff_N","v":{"$error":"#DIV/0!"}},{"$f":"East_min","v":0},{"$error":"#DIV/0!"},{"$f":"sitelongitude+IF(AND(L16=0,M16=0),0,DEGREES(ATAN2(COS((SQRT(L16^2+M16^2)/3.28)/RadiusEarth)-SIN(RADIANS(sitelatitude))*SIN(RADIANS(Plotdata!N16)),SIN(RADIANS((IF(M16>=0,DEGREES(ATAN2(L16,M16)),360+DEGREES(ATAN2(L16,M16))))))*SIN((SQRT(L16^2+M16^2)/3.28)/RadiusEarth)*COS(RADIANS(sitelatitude)))))","v":{"$error":"#DIV/0!"}},{"$error":"#DIV/0!"},{"$error":"#DIV/0!"}]
[null,null,"W-SW",{"$f":"D5","v":{"$error":"#N/A"}},{"$f":"E5","v":{"$error":"#N/A"}},null,null,"SE",{"$f":"IF(Setback!E6=\"\",\"\",Setback!E6*((SQRT(2)/2)))","v":""},null,"N-NE",{"$f":"North_max+Setback!B15-com_diff_N","v":{"$error":"#DIV/0!"}},{"$f":"East_max","v":0},{"$error":"#DIV/0!"},{"$f":"sitelongitude+IF(AND(L17=0,M17=0),0,DEGREES(ATAN2(COS((SQRT(L17^2+M17^2)/3.28)/RadiusEarth)-SIN(RADIANS(sitelatitude))*SIN(RADIANS(Plotdata!N17)),SIN(RADIANS((IF(M17>=0,DEGREES(ATAN2(L17,M17)),360+DEGREES(ATAN2(L17,M17))))))*SIN((SQRT(L17^2+M17^2)/3.28)/RadiusEarth)*COS(RADIANS(sitelatitude)))))","v":{"$error":"#DIV/0!"}},{"$error":"#DIV/0!"},{"$error":"#DIV/0!"}]
[null,null,null,null,null,null,null,"SW",{"$f":"IF(Setback!G6=\"\",\"\",Setback!G6*((SQRT(2)/2)))","v":""},null,"NE pt",{"$f":"North_max+I56-com_diff_N","v":{"$error":"#DIV/0!"}},{"$f":"East_max+I56-com_diff_E","v":{"$error":"#DIV/0!"}},{"$error":"#DIV/0!"},{"$f":"sitelongitude+IF(AND(L18=0,M18=0),0,DEGREES(ATAN2(COS((SQRT(L18^2+M18^2)/3.28)/RadiusEarth)-SIN(RADIANS(sitelatitude))*SIN(RADIANS(Plotdata!N18)),SIN(RADIANS((IF(M18>=0,DEGREES(ATAN2(L18,M18)),360+DEGREES(ATAN2(L18,M18))))))*SIN((SQRT(L18^2+M18^2)/3.28)/RadiusEarth)*COS(RADIANS(sitelatitude)))))","v":{"$error":"#DIV/0!"}},{"$error":"#DIV/0!"},{"$error":"#DIV/0!"}]
[2,{"$f":"ISNUMBER(s2SWy)","v":false},"W-SW",{"$f":"IF(s2plot=\"NO\",NA(),IF(s2shape=rectangle_shape,SrcFactors!CG8,IF(s2shape=circle_shape,Circ!H10,NA())))","v":{"$error":"#N/A"}},{"$f":"IF(s2plot=\"NO\",NA(),IF(s2shape=rectangle_shape,SrcFactors!CH8-Setback!H5,IF(s2shape=circle_shape,Circ!I10-Setback!H5,NA())))","v":{"$error":"#N/A"}},null,null,null,null,null,"E-NE",{"$f":"North_max","v":0},{"$f":"East_max+Setback!D15-com_diff_E","v":{"$error":"#DIV/0!"}},{"$error":"#DIV/0!"},{"$f":"sitelongitude+IF(AND(L19=0,M19=0),0,DEGREES(ATAN2(COS((SQRT(L19^2+M19^2)/3.28)/RadiusEarth)-SIN(RADIANS(sitelatitude))*SIN(RADIANS(Plotdata!N19)),SIN(RADIANS((IF(M19>=0,DEGREES(ATAN2(L19,M19)),360+DEGREES(ATAN2(L19,M19))))))*SIN((SQRT(L19^2+M19^2)/3.28)/RadiusEarth)*COS(RADIANS(sitelatitude)))))","v":{"$error":"#DIV/0!"}},{"$error":"#DIV/0!"},{"$error":"#DIV/0!"}]
[{"$f":"IF(s2name=\"\",\"\",s2name)","v":""},null,"W-NW",{"$f":"IF(s2plot=\"NO\",NA(),IF(s2shape=rectangle_shape,SrcFactors!CG9,IF(s2shape=circle_shape,Circ!H10,NA())))","v":{"$error":"#N/A"}},{"$f":"IF(s2plot=\"NO\",NA(),IF(s2shape=rectangle_shape,SrcFactors!CH9-Setback!H5,IF(s2shape=circle_shape,Circ!I10-Setback!H5,NA())))","v":{"$error":"#N/A"}},null,{"$f":"A47","v":4},"NW",{"$f":"IF(Setback!I7=\"\",\"\",Setback!I7*((SQRT(2)/2)))","v":""},null,"E-SE",{"$f":"North_min","v":0},{"$f":"East_max+Setback!D15-com_diff_E","v":{"$error":"#DIV/0!"}},{"$error":"#DIV/0!"},{"$f":"sitelongitude+IF(AND(L20=0,M20=0),0,DEGREES(ATAN2(COS((SQRT(L20^2+M20^2)/3.28)/RadiusEarth)-SIN(RADIANS(sitelatitude))*SIN(RADIANS(Plotdata!N20)),SIN(RADIANS((IF(M20>=0,DEGREES(ATAN2(L20,M20)),360+DEGREES(ATAN2(L20,M20))))))*SIN((SQRT(L20^2+M20^2)/3.28)/RadiusEarth)*COS(RADIANS(sitelatitude)))))","v":{"$error":"#DIV/0!"}},{"$error":"#DIV/0!"},{"$error":"#DIV/0!"}]
[null,null,"NW pt",{"$f":"IF(s2plot=\"NO\",NA(),IF(s2shape=rectangle_shape,SrcFactors!CG9+I10,IF(s2shape=circle_shape,Circ!H11+I10,NA())))","v":{"$error":"#N/A"}},{"$f":"IF(s2plot=\"NO\",NA(),IF(s2shape=rectangle_shape,SrcFactors!CH9-I10,IF(s2shape=circle_shape,Circ!I11-I10,NA())))","v":{"$error":"#N/A"}},null,null,"NE",{"$f":"IF(Setback!C7=\"\",\"\",Setback!C7*((SQRT(2)/2)))","v":""},null,"SE pt",{"$f":"North_min-I57-com_diff_N","v":{"$error":"#DIV/0!"}},{"$f":"East_max+I57-com_diff_E","v":{"$error":"#DIV/0!"}},{"$error":"#DIV/0!"},{"$f":"sitelongitude+IF(AND(L21=0,M21=0),0,DEGREES(ATAN2(COS((SQRT(L21^2+M21^2)/3.28)/RadiusEarth)-SIN(RADIANS(sitelatitude))*SIN(RADIANS(Plotdata!N21)),SIN(RADIANS((IF(M21>=0,DEGREES(ATAN2(L21,M21)),360+DEGREES(ATAN2(L21,M21))))))*SIN((SQRT(L21^2+M21^2)/3.28)/RadiusEarth)*COS(RADIANS(sitelatitude)))))","v":{"$error":"#DIV/0!"}},{"$error":"#DIV/0!"},{"$error":"#DIV/0!"}]
["Plot?",{"$f":"s2plot","v":0},"N-NW",{"$f":"IF(s2plot=\"NO\",NA(),IF(s2shape=rectangle_shape,SrcFactors!CG9+Setback!B5,IF(s2shape=circle_shape,Circ!H12+Setback!B5,NA())))","v":{"$error":"#N/A"}},{"$f":"IF(s2plot=\"NO\",NA(),IF(s2shape=rectangle_shape,SrcFactors!CH9,IF(s2shape=circle_shape,Circ!I12,NA())))","v":{"$error":"#N/A"}},null,null,"SE",{"$f":"IF(Setback!E7=\"\",\"\",Setback!E7*((SQRT(2)/2)))","v":""},null,"S-SE",{"$f":"North_min-Setback!F15-com_diff_N","v":{"$error":"#DIV/0!"}},{"$f":"East_max","v":0},{"$error":"#DIV/0!"},{"$f":"sitelongitude+IF(AND(L22=0,M22=0),0,DEGREES(ATAN2(COS((SQRT(L22^2+M22^2)/3.28)/RadiusEarth)-SIN(RADIANS(sitelatitude))*SIN(RADIANS(Plotdata!N22)),SIN(RADIANS((IF(M22>=0,DEGREES(ATAN2(L22,M22)),360+DEGREES(ATAN2(L22,M22))))))*SIN((SQRT(L22^2+M22^2)/3.28)/RadiusEarth)*COS(RADIANS(sitelatitude)))))","v":{"$error":"#DIV/0!"}},{"$error":"#DIV/0!"},{"$error":"#DIV/0!"}]
[null,null,"N-NE",{"$f":"IF(s2plot=\"NO\",NA(),IF(s2shape=rectangle_shape,SrcFactors!CG10+Setback!B5,IF(s2shape=circle_shape,Circ!H12+Setback!B5,NA())))","v":{"$error":"#N/A"}},{"$f":"IF(s2plot=\"NO\",NA(),IF(s2shape=rectangle_shape,SrcFactors!CH10,IF(s2shape=circle_shape,Circ!I12,NA())))","v":{"$error":"#N/A"}},null,null,"SW",{"$f":"IF(Setback!G7=\"\",\"\",Setback!G7*((SQRT(2)/2)))","v":""},null,"S-SW",{"$f":"North_min-Setback!F15-com_diff_N","v":{"$error":"#DIV/0!"}},{"$f":"East_min","v":0},{"$error":"#DIV/0!"},{"$f":"sitelongitude+IF(AND(L23=0,M23=0),0,DEGREES(ATAN2(COS((SQRT(L23^2+M23^2)/3.28)/RadiusEarth)-SIN(RADIANS(sitelatitude))*SIN(RADIANS(Plotdata!N23)),SIN(RADIANS((IF(M23>=0,DEGREES(ATAN2(L23,M23)),360+DEGREES(ATAN2(L23,M23))))))*SIN((SQRT(L23^2+M23^2)/3.28)/RadiusEarth)*COS(RADIANS(sitelatitude)))))","v":{"$error":"#DIV/0!"}},{"$error":"#DIV/0!"},{"$error":"#DIV/0!"}]
[null,null,"NE pt",{"$f":"IF(s2plot=\"NO\",NA(),IF(s2shape=rectangle_shape,SrcFactors!CG10+I11,IF(s2shape=circle_shape,Circ!H13+I11,NA())))","v":{"$error":"#N/A"}},{"$f":"IF(s2plot=\"NO\",NA(),IF(s2shape=rectangle_shape,SrcFactors!CH10+I11,IF(s2shape=circle_shape,Circ!I13+I11,NA())))","v":{"$error":"#N/A"}},null,null,null,null,null,"SW pt",{"$f":"North_min-I58-com_diff_N","v":{"$error":"#DIV/0!"}},{"$f":"East_min-I58-com_diff_E","v":{"$error":"#DIV/0!"}},{"$error":"#DIV/0!"},{"$f":"sitelongitude+IF(AND(L24=0,M24=0),0,DEGREES(ATAN2(COS((SQRT(L24^2+M24^2)/3.28)/RadiusEarth)-SIN(RADIANS(sitelatitude))*SIN(RADIANS(Plotdata!N24)),SIN(RADIANS((IF(M24>=0,DEGREES(ATAN2(L24,M24)),360+DEGREES(ATAN2(L24,M24))))))*SIN((SQRT(L24^2+M24^2)/3.28)/RadiusEarth)*COS(RADIANS(sitelatitude)))))","v":{"$error":"#DIV/0!"}},{"$error":"#DIV/0!"},{"$error":"#DIV/0!"}]
[null,null,"E-NE",{"$f":"IF(s2plot=\"NO\",NA(),IF(s2shape=rectangle_shape,SrcFactors!CG10,IF(s2shape=circle_shape,Circ!H14,NA())))","v":{"$error":"#N/A"}},{"$f":"IF(s2plot=\"NO\",NA(),IF(s2shape=rectangle_shape,SrcFactors!CH10+Setback!D5,IF(s2shape=circle_shape,Circ!I14+Setback!D5,NA())))","v":{"$error":"#N/A"}},null,{"$f":"A61","v":5},"NW",{"$f":"IF(Setback!I8=\"\",\"\",Setback!I8*((SQRT(2)/2)))","v":""},null,"W-SW",{"$f":"North_min","v":0},{"$f":"East_min-Setback!H15-com_diff_E","v":{"$error":"#DIV/0!"}},{"$error":"#DIV/0!"},{"$f":"sitelongitude+IF(AND(L25=0,M25=0),0,DEGREES(ATAN2(COS((SQRT(L25^2+M25^2)/3.28)/RadiusEarth)-SIN(RADIANS(sitelatitude))*SIN(RADIANS(Plotdata!N25)),SIN(RADIANS((IF(M25>=0,DEGREES(ATAN2(L25,M25)),360+DEGREES(ATAN2(L25,M25))))))*SIN((SQRT(L25^2+M25^2)/3.28)/RadiusEarth)*COS(RADIANS(sitelatitude)))))","v":{"$error":"#DIV/0!"}},{"$error":"#DIV/0!"},{"$error":"#DIV/0!"}]
[null,null,"E-SE",{"$f":"IF(s2plot=\"NO\",NA(),IF(s2shape=rectangle_shape,SrcFactors!CG11,IF(s2shape=circle_shape,Circ!H14,NA())))","v":{"$error":"#N/A"}},{"$f":"IF(s2plot=\"NO\",NA(),IF(s2shape=rectangle_shape,SrcFactors!CH11+Setback!D5,IF(s2shape=circle_shape,Circ!I14+Setback!D5,NA())))","v":{"$error":"#N/A"}},null,null,"NE",{"$f":"IF(Setback!C8=\"\",\"\",Setback!C8*((SQRT(2)/2)))","v":""}]
[null,null,"SE pt",{"$f":"IF(s2plot=\"NO\",NA(),IF(s2shape=rectangle_shape,SrcFactors!CG11-I12,IF(s2shape=circle_shape,Circ!H15-I12,NA())))","v":{"$error":"#N/A"}},{"$f":"IF(s2plot=\"NO\",NA(),IF(s2shape=rectangle_shape,SrcFactors!CH11+I12,IF(s2shape=circle_shape,Circ!I15+I12,NA())))","v":{"$error":"#N/A"}},null,null,"SE",{"$f":"IF(Setback!E8=\"\",\"\",Setback!E8*((SQRT(2)/2)))","v":""}]
[null,null,"S-SE",{"$f":"IF(s2plot=\"NO\",NA(),IF(s2shape=rectangle_shape,SrcFactors!CG11-Setback!F5,IF(s2shape=circle_shape,Circ!H16-Setback!F5,NA())))","v":{"$error":"#N/A"}},{"$f":"IF(s2plot=\"NO\",NA(),IF(s2shape=rectangle_shape,SrcFactors!CH11,IF(s2shape=circle_shape,Circ!I16,NA())))","v":{"$error":"#N/A"}},null,null,"SW",{"$f":"IF(Setback!G8=\"\",\"\",Setback!G8*((SQRT(2)/2)))","v":""},null,"CENTER PT (GEO):",{"$f":"((North_max-North_min)/2)+North_min","v":0},{"$f":"((East_max-East_min)/2)+East_min","v":0}]
[null,null,"S-SW",{"$f":"IF(s2plot=\"NO\",NA(),IF(s2shape=rectangle_shape,SrcFactors!CG12-Setback!F5,IF(s2shape=circle_shape,Circ!H16-Setback!F5,NA())))","v":{"$error":"#N/A"}},{"$f":"IF(s2plot=\"NO\",NA(),IF(s2shape=rectangle_shape,SrcFactors!CH12,IF(s2shape=circle_shape,Circ!I16,NA())))","v":{"$error":"#N/A"}},null,null,null,null,null,"CENTER PT (MASS):",{"$f":"SUMPRODUCT(Inputs!I4:I13,com_northerlies/Inputs!I14)","v":{"$error":"#DIV/0!"}},{"$f":"SUMPRODUCT(Inputs!I4:I13,com_easterlies/Inputs!I14)","v":{"$error":"#DIV/0!"}}]
[null,null,"SW pt",{"$f":"IF(s2plot=\"NO\",NA(),IF(s2shape=rectangle_shape,SrcFactors!CG11-I13,IF(s2shape=circle_shape,Circ!H17-I13,NA())))","v":{"$error":"#N/A"}},{"$f":"IF(s2plot=\"NO\",NA(),IF(s2shape=rectangle_shape,SrcFactors!CH12-I13,IF(s2shape=circle_shape,Circ!I17-I13,NA())))","v":{"$error":"#N/A"}},null,{"$f":"A75","v":6},"NW",{"$f":"IF(Setback!I9=\"\",\"\",Setback!I9*((SQRT(2)/2)))","v":""},null,"CoM DIFF:",{"$f":"L28-L29","v":{"$error":"#DIV/0!"}},{"$f":"M28-M29","v":{"$error":"#DIV/0!"}}]
[null,null,"W-SW",{"$f":"D19","v":{"$error":"#N/A"}},{"$f":"E19","v":{"$error":"#N/A"}},null,null,"NE",{"$f":"IF(Setback!C9=\"\",\"\",Setback!C9*((SQRT(2)/2)))","v":""}]
[null,null,null,null,null,null,null,"SE",{"$f":"IF(Setback!E9=\"\",\"\",Setback!E9*((SQRT(2)/2)))","v":""}]
[3,{"$f":"ISNUMBER(s3SWy)","v":false},"W-SW",{"$f":"IF(s3plot=\"NO\",NA(),IF(s3shape=rectangle_shape,SrcFactors!CI8,IF(s3shape=circle_shape,Circ!L10,NA())))","v":{"$error":"#N/A"}},{"$f":"IF(s3plot=\"NO\",NA(),IF(s3shape=rectangle_shape,SrcFactors!CJ8-Setback!H6,IF(s3shape=circle_shape,Circ!M10-Setback!H6,NA())))","v":{"$error":"#N/A"}},null,null,"SW",{"$f":"IF(Setback!G9=\"\",\"\",Setback!G9*((SQRT(2)/2)))","v":""}]
[{"$f":"IF(s3name=\"\",\"\",s3name)","v":""},null,"W-NW",{"$f":"IF(s3plot=\"NO\",NA(),IF(s3shape=rectangle_shape,SrcFactors!CI9,IF(s3shape=circle_shape,Circ!L10,NA())))","v":{"$error":"#N/A"}},{"$f":"IF(s3plot=\"NO\",NA(),IF(s3shape=rectangle_shape,SrcFactors!CJ9-Setback!H6,IF(s3shape=circle_shape,Circ!M10-Setback!H6,NA())))","v":{"$error":"#N/A"}}]
[null,null,"NW pt",{"$f":"IF(s3plot=\"NO\",NA(),IF(s3shape=rectangle_shape,SrcFactors!CI9+I15,IF(s3shape=circle_shape,Circ!L11+I15,NA())))","v":{"$error":"#N/A"}},{"$f":"IF(s3plot=\"NO\",NA(),IF(s3shape=rectangle_shape,SrcFactors!CJ9-I15,IF(s3shape=circle_shape,Circ!M11-I15,NA())))","v":{"$error":"#N/A"}},null,{"$f":"A89","v":7},"NW",{"$f":"IF(Setback!I10=\"\",\"\",Setback!I10*((SQRT(2)/2)))","v":""}]
["Plot?",{"$f":"s3plot","v":0},"N-NW",{"$f":"IF(s3plot=\"NO\",NA(),IF(s3shape=rectangle_shape,SrcFactors!CI9+Setback!B6,IF(s3shape=circle_shape,Circ!L12+Setback!B6,NA())))","v":{"$error":"#N/A"}},{"$f":"IF(s3plot=\"NO\",NA(),IF(s3shape=rectangle_shape,SrcFactors!CJ9,IF(s3shape=circle_shape,Circ!M12,NA())))","v":{"$error":"#N/A"}},null,null,"NE",{"$f":"IF(Setback!C10=\"\",\"\",Setback!C10*((SQRT(2)/2)))","v":""}]
[null,null,"N-NE",{"$f":"IF(s3plot=\"NO\",NA(),IF(s3shape=rectangle_shape,SrcFactors!CI10+Setback!B6,IF(s3shape=circle_shape,Circ!L12+Setback!B6,NA())))","v":{"$error":"#N/A"}},{"$f":"IF(s3plot=\"NO\",NA(),IF(s3shape=rectangle_shape,SrcFactors!CJ10,IF(s3shape=circle_shape,Circ!M12,NA())))","v":{"$error":"#N/A"}},null,null,"SE",{"$f":"IF(Setback!E10=\"\",\"\",Setback!E10*((SQRT(2)/2)))","v":""}]
[null,null,"NE pt",{"$f":"IF(s3plot=\"NO\",NA(),IF(s3shape=rectangle_shape,SrcFactors!CI10+I16,IF(s3shape=circle_shape,Circ!L13+I16,NA())))","v":{"$error":"#N/A"}},{"$f":"IF(s3plot=\"NO\",NA(),IF(s3shape=rectangle_shape,SrcFactors!CJ10+I16,IF(s3shape=circle_shape,Circ!M13+I16,NA())))","v":{"$error":"#N/A"}},null,null,"SW",{"$f":"IF(Setback!G10=\"\",\"\",Setback!G10*((SQRT(2)/2)))","v":""}]
[null,null,"E-NE",{"$f":"IF(s3plot=\"NO\",NA(),IF(s3shape=rectangle_shape,SrcFactors!CI10,IF(s3shape=circle_shape,Circ!L14,NA())))","v":{"$error":"#N/A"}},{"$f":"IF(s3plot=\"NO\",NA(),IF(s3shape=rectangle_shape,SrcFactors!CJ10+Setback!D6,IF(s3shape=circle_shape,Circ!M14+Setback!D6,NA())))","v":{"$error":"#N/A"}}]
[null,null,"E-SE",{"$f":"IF(s3plot=\"NO\",NA(),IF(s3shape=rectangle_shape,SrcFactors!CI11,IF(s3shape=circle_shape,Circ!L14,NA())))","v":{"$error":"#N/A"}},{"$f":"IF(s3plot=\"NO\",NA(),IF(s3shape=rectangle_shape,SrcFactors!CJ11+Setback!D6,IF(s3shape=circle_shape,Circ!M14+Setback!D6,NA())))","v":{"$error":"#N/A"}},null,{"$f":"A103","v":8},"NW",{"$f":"IF(Setback!I11=\"\",\"\",Setback!I11*((SQRT(2)/2)))","v":""}]
[null,null,"SE pt",{"$f":"IF(s3plot=\"NO\",NA(),IF(s3shape=rectangle_shape,SrcFactors!CI11-I17,IF(s3shape=circle_shape,Circ!L15-I17,NA())))","v":{"$error":"#N/A"}},{"$f":"IF(s3plot=\"NO\",NA(),IF(s3shape=rectangle_shape,SrcFactors!CJ11+I17,IF(s3shape=circle_shape,Circ!M15+I17,NA())))","v":{"$error":"#N/A"}},null,null,"NE",{"$f":"IF(Setback!C11=\"\",\"\",Setback!C11*((SQRT(2)/2)))","v":""}]
[null,null,"S-SE",{"$f":"IF(s3plot=\"NO\",NA(),IF(s3shape=rectangle_shape,SrcFactors!CI11-Setback!F6,IF(s3shape=circle_shape,Circ!L16-Setback!F6,NA())))","v":{"$error":"#N/A"}},{"$f":"IF(s3plot=\"NO\",NA(),IF(s3shape=rectangle_shape,SrcFactors!CJ11,IF(s3shape=circle_shape,Circ!M16,NA())))","v":{"$error":"#N/A"}},null,null,"SE",{"$f":"IF(Setback!E11=\"\",\"\",Setback!E11*((SQRT(2)/2)))","v":""}]
[null,null,"S-SW",{"$f":"IF(s3plot=\"NO\",NA(),IF(s3shape=rectangle_shape,SrcFactors!CI12-Setback!F6,IF(s3shape=circle_shape,Circ!L16-Setback!F6,NA())))","v":{"$error":"#N/A"}},{"$f":"IF(s3plot=\"NO\",NA(),IF(s3shape=rectangle_shape,SrcFactors!CJ12,IF(s3shape=circle_shape,Circ!M16,NA())))","v":{"$error":"#N/A"}},null,null,"SW",{"$f":"IF(Setback!G11=\"\",\"\",Setback!G11*((SQRT(2)/2)))","v":""}]
[null,null,"SW pt",{"$f":"IF(s3plot=\"NO\",NA(),IF(s3shape=rectangle_shape,SrcFactors!CI11-I18,IF(s3shape=circle_shape,Circ!L17-I18,NA())))","v":{"$error":"#N/A"}},{"$f":"IF(s3plot=\"NO\",NA(),IF(s3shape=rectangle_shape,SrcFactors!CJ12-I18,IF(s3shape=circle_shape,Circ!M17-I18,NA())))","v":{"$error":"#N/A"}}]
[null,null,"W-SW",{"$f":"D33","v":{"$error":"#N/A"}},{"$f":"E33","v":{"$error":"#N/A"}},null,{"$f":"A117","v":9},"NW",{"$f":"IF(Setback!I12=\"\",\"\",Setback!I12*((SQRT(2)/2)))","v":""}]
[null,null,null,null,null,null,null,"NE",{"$f":"IF(Setback!C12=\"\",\"\",Setback!C12*((SQRT(2)/2)))","v":""}]
[4,{"$f":"ISNUMBER(s4SWy)","v":false},"W-SW",{"$f":"IF(s4plot=\"NO\",NA(),IF(s4shape=rectangle_shape,SrcFactors!CK8,IF(s4shape=circle_shape,Circ!P10,NA())))","v":{"$error":"#N/A"}},{"$f":"IF(s4plot=\"NO\",NA(),IF(s4shape=rectangle_shape,SrcFactors!CL8-Setback!H7,IF(s4shape=circle_shape,Circ!Q10-Setback!H7,NA())))","v":{"$error":"#N/A"}},null,null,"SE",{"$f":"IF(Setback!E12=\"\",\"\",Setback!E12*((SQRT(2)/2)))","v":""}]
[{"$f":"IF(s4name=\"\",\"\",s4name)","v":""},null,"W-NW",{"$f":"IF(s4plot=\"NO\",NA(),IF(s4shape=rectangle_shape,SrcFactors!CK9,IF(s4shape=circle_shape,Circ!P10,NA())))","v":{"$error":"#N/A"}},{"$f":"IF(s4plot=\"NO\",NA(),IF(s4shape=rectangle_shape,SrcFactors!CL9-Setback!H7,IF(s4shape=circle_shape,Circ!Q10-Setback!H7,NA())))","v":{"$error":"#N/A"}},null,null,"SW",{"$f":"IF(Setback!G12=\"\",\"\",Setback!G12*((SQRT(2)/2)))","v":""}]
[null,null,"NW pt",{"$f":"IF(s4plot=\"NO\",NA(),IF(s4shape=rectangle_shape,SrcFactors!CK9+I20,IF(s4shape=circle_shape,Circ!P11+I20,NA())))","v":{"$error":"#N/A"}},{"$f":"IF(s4plot=\"NO\",NA(),IF(s4shape=rectangle_shape,SrcFactors!CL9-I20,IF(s4shape=circle_shape,Circ!Q11-I20,NA())))","v":{"$error":"#N/A"}}]
["Plot?",{"$f":"s4plot","v":0},"N-NW",{"$f":"IF(s4plot=\"NO\",NA(),IF(s4shape=rectangle_shape,SrcFactors!CK9+Setback!B7,IF(s4shape=circle_shape,Circ!P12+Setback!B7,NA())))","v":{"$error":"#N/A"}},{"$f":"IF(s4plot=\"NO\",NA(),IF(s4shape=rectangle_shape,SrcFactors!CL9,IF(s4shape=circle_shape,Circ!Q12,NA())))","v":{"$error":"#N/A"}},null,{"$f":"A131","v":10},"NW",{"$f":"IF(Setback!I13=\"\",\"\",Setback!I13*((SQRT(2)/2)))","v":""}]
[null,null,"N-NE",{"$f":"IF(s4plot=\"NO\",NA(),IF(s4shape=rectangle_shape,SrcFactors!CK10+Setback!B7,IF(s4shape=circle_shape,Circ!P12+Setback!B7,NA())))","v":{"$error":"#N/A"}},{"$f":"IF(s4plot=\"NO\",NA(),IF(s4shape=rectangle_shape,SrcFactors!CL10,IF(s4shape=circle_shape,Circ!Q12,NA())))","v":{"$error":"#N/A"}},null,null,"NE",{"$f":"IF(Setback!C13=\"\",\"\",Setback!C13*((SQRT(2)/2)))","v":""}]
[null,null,"NE pt",{"$f":"IF(s4plot=\"NO\",NA(),IF(s4shape=rectangle_shape,SrcFactors!CK10+I21,IF(s4shape=circle_shape,Circ!P13+I21,NA())))","v":{"$error":"#N/A"}},{"$f":"IF(s4plot=\"NO\",NA(),IF(s4shape=rectangle_shape,SrcFactors!CL10+I21,IF(s4shape=circle_shape,Circ!Q13+I21,NA())))","v":{"$error":"#N/A"}},null,null,"SE",{"$f":"IF(Setback!E13=\"\",\"\",Setback!E13*((SQRT(2)/2)))","v":""}]
[null,null,"E-NE",{"$f":"IF(s4plot=\"NO\",NA(),IF(s4shape=rectangle_shape,SrcFactors!CK10,IF(s4shape=circle_shape,Circ!P14,NA())))","v":{"$error":"#N/A"}},{"$f":"IF(s4plot=\"NO\",NA(),IF(s4shape=rectangle_shape,SrcFactors!CL10+Setback!D7,IF(s4shape=circle_shape,Circ!Q14+Setback!D7,NA())))","v":{"$error":"#N/A"}},null,null,"SW",{"$f":"IF(Setback!G13=\"\",\"\",Setback!G13*((SQRT(2)/2)))","v":""}]
[null,null,"E-SE",{"$f":"IF(s4plot=\"NO\",NA(),IF(s4shape=rectangle_shape,SrcFactors!CK11,IF(s4shape=circle_shape,Circ!P14,NA())))","v":{"$error":"#N/A"}},{"$f":"IF(s4plot=\"NO\",NA(),IF(s4shape=rectangle_shape,SrcFactors!CL11+Setback!D7,IF(s4shape=circle_shape,Circ!Q14+Setback!D7,NA())))","v":{"$error":"#N/A"}}]
[null,null,"SE pt",{"$f":"IF(s4plot=\"NO\",NA(),IF(s4shape=rectangle_shape,SrcFactors!CK11-I22,IF(s4shape=circle_shape,Circ!P15-I22,NA())))","v":{"$error":"#N/A"}},{"$f":"IF(s4plot=\"NO\",NA(),IF(s4shape=rectangle_shape,SrcFactors!CL11+I22,IF(s4shape=circle_shape,Circ!Q15+I22,NA())))","v":{"$error":"#N/A"}},null,"PERIMETER","NW",{"$f":"IF(Setback!I15=\"\",\"\",Setback!I15*((SQRT(2)/2)))","v":{"$error":"#DIV/0!"}}]
[null,null,"S-SE",{"$f":"IF(s4plot=\"NO\",NA(),IF(s4shape=rectangle_shape,SrcFactors!CK11-Setback!F7,IF(s4shape=circle_shape,Circ!P16-Setback!F7,NA())))","v":{"$error":"#N/A"}},{"$f":"IF(s4plot=\"NO\",NA(),IF(s4shape=rectangle_shape,SrcFactors!CL11,IF(s4shape=circle_shape,Circ!Q16,NA())))","v":{"$error":"#N/A"}},null,null,"NE",{"$f":"IF(Setback!C15=\"\",\"\",Setback!C15*((SQRT(2)/2)))","v":{"$error":"#DIV/0!"}}]
[null,null,"S-SW",{"$f":"IF(s4plot=\"NO\",NA(),IF(s4shape=rectangle_shape,SrcFactors!CK12-Setback!F7,IF(s4shape=circle_shape,Circ!P16-Setback!F7,NA())))","v":{"$error":"#N/A"}},{"$f":"IF(s4plot=\"NO\",NA(),IF(s4shape=rectangle_shape,SrcFactors!CL12,IF(s4shape=circle_shape,Circ!Q16,NA())))","v":{"$error":"#N/A"}},null,null,"SE",{"$f":"IF(Setback!E15=\"\",\"\",Setback!E15*((SQRT(2)/2)))","v":{"$error":"#DIV/0!"}}]
[null,null,"SW pt",{"$f":"IF(s4plot=\"NO\",NA(),IF(s4shape=rectangle_shape,SrcFactors!CK11-I23,IF(s4shape=circle_shape,Circ!P17-I23,NA())))","v":{"$error":"#N/A"}},{"$f":"IF(s4plot=\"NO\",NA(),IF(s4shape=rectangle_shape,SrcFactors!CL12-I23,IF(s4shape=circle_shape,Circ!Q17-I23,NA())))","v":{"$error":"#N/A"}},null,null,"SW",{"$f":"IF(Setback!G15=\"\",\"\",Setback!G15*((SQRT(2)/2)))","v":{"$error":"#DIV/0!"}}]
[null,null,"W-SW",{"$f":"D47","v":{"$error":"#N/A"}},{"$f":"E47","v":{"$error":"#N/A"}}]
[]
[5,{"$f":"ISNUMBER(s5SWy)","v":false},"W-SW",{"$f":"IF(s5plot=\"NO\",NA(),IF(s5shape=rectangle_shape,SrcFactors!CM8,IF(s5shape=circle_shape,Circ!T10,NA())))","v":{"$error":"#N/A"}},{"$f":"IF(s5plot=\"NO\",NA(),IF(s5shape=rectangle_shape,SrcFactors!CN8-Setback!H8,IF(s5shape=circle_shape,Circ!U10-Setback!H8,NA())))","v":{"$error":"#N/A"}}]
[{"$f":"IF(s5name=\"\",\"\",s5name)","v":""},null,"W-NW",{"$f":"IF(s5plot=\"NO\",NA(),IF(s5shape=rectangle_shape,SrcFactors!CM9,IF(s5shape=circle_shape,Circ!T10,NA())))","v":{"$error":"#N/A"}},{"$f":"IF(s5plot=\"NO\",NA(),IF(s5shape=rectangle_shape,SrcFactors!CN9-Setback!H8,IF(s5shape=circle_shape,Circ!U10-Setback!H8,NA())))","v":{"$error":"#N/A"}}]
[null,null,"NW pt",{"$f":"IF(s5plot=\"NO\",NA(),IF(s5shape=rectangle_shape,SrcFactors!CM9+I25,IF(s5shape=circle_shape,Circ!T11+I25,NA())))","v":{"$error":"#N/A"}},{"$f":"IF(s5plot=\"NO\",NA(),IF(s5shape=rectangle_shape,SrcFactors!CN9-I25,IF(s5shape=circle_shape,Circ!U11-I25,NA())))","v":{"$error":"#N/A"}}]
["Plot?",{"$f":"s5plot","v":0},"N-NW",{"$f":"IF(s5plot=\"NO\",NA(),IF(s5shape=rectangle_shape,SrcFactors!CM9+Setback!B8,IF(s5shape=circle_shape,Circ!T12+Setback!B8,NA())))","v":{"$error":"#N/A"}},{"$f":"IF(s5plot=\"NO\",NA(),IF(s5shape=rectangle_shape,SrcFactors!CN9,IF(s5shape=circle_shape,Circ!U12,NA())))","v":{"$error":"#N/A"}}]
[null,null,"N-NE",{"$f":"IF(s5plot=\"NO\",NA(),IF(s5shape=rectangle_shape,SrcFactors!CM10+Setback!B8,IF(s5shape=circle_shape,Circ!T12+Setback!B8,NA())))","v":{"$error":"#N/A"}},{"$f":"IF(s5plot=\"NO\",NA(),IF(s5shape=rectangle_shape,SrcFactors!CN10,IF(s5shape=circle_shape,Circ!U12,NA())))","v":{"$error":"#N/A"}}]
[null,null,"NE pt",{"$f":"IF(s5plot=\"NO\",NA(),IF(s5shape=rectangle_shape,SrcFactors!CM10+I26,IF(s5shape=circle_shape,Circ!T13+I26,NA())))","v":{"$error":"#N/A"}},{"$f":"IF(s5plot=\"NO\",NA(),IF(s5shape=rectangle_shape,SrcFactors!CN10+I26,IF(s5shape=circle_shape,Circ!U13+I26,NA())))","v":{"$error":"#N/A"}}]
[null,null,"E-NE",{"$f":"IF(s5plot=\"NO\",NA(),IF(s5shape=rectangle_shape,SrcFactors!CM10,IF(s5shape=circle_shape,Circ!T14,NA())))","v":{"$error":"#N/A"}},{"$f":"IF(s5plot=\"NO\",NA(),IF(s5shape=rectangle_shape,SrcFactors!CN10+Setback!D8,IF(s5shape=circle_shape,Circ!U14+Setback!D8,NA())))","v":{"$error":"#N/A"}}]
[null,null,"E-SE",{"$f":"IF(s5plot=\"NO\",NA(),IF(s5shape=rectangle_shape,SrcFactors!CM11,IF(s5shape=circle_shape,Circ!T14,NA())))","v":{"$error":"#N/A"}},{"$f":"IF(s5plot=\"NO\",NA(),IF(s5shape=rectangle_shape,SrcFactors!CN11+Setback!D8,IF(s5shape=circle_shape,Circ!U14+Setback!D8,NA())))","v":{"$error":"#N/A"}}]
[null,null,"SE pt",{"$f":"IF(s5plot=\"NO\",NA(),IF(s5shape=rectangle_shape,SrcFactors!CM11-I27,IF(s5shape=circle_shape,Circ!T15-I27,NA())))","v":{"$error":"#N/A"}},{"$f":"IF(s5plot=\"NO\",NA(),IF(s5shape=rectangle_shape,SrcFactors!CN11+I27,IF(s5shape=circle_shape,Circ!U15+I27,NA())))","v":{"$error":"#N/A"}}]
[null,null,"S-SE",{"$f":"IF(s5plot=\"NO\",NA(),IF(s5shape=rectangle_shape,SrcFactors!CM11-Setback!F8,IF(s5shape=circle_shape,Circ!T16-Setback!F8,NA())))","v":{"$error":"#N/A"}},{"$f":"IF(s5plot=\"NO\",NA(),IF(s5shape=rectangle_shape,SrcFactors!CN11,IF(s5shape=circle_shape,Circ!U16,NA())))","v":{"$error":"#N/A"}}]
[null,null,"S-SW",{"$f":"IF(s5plot=\"NO\",NA(),IF(s5shape=rectangle_shape,SrcFactors!CM12-Setback!F8,IF(s5shape=circle_shape,Circ!T16-Setback!F8,NA())))","v":{"$error":"#N/A"}},{"$f":"IF(s5plot=\"NO\",NA(),IF(s5shape=rectangle_shape,SrcFactors!CN12,IF(s5shape=circle_shape,Circ!U16,NA())))","v":{"$error":"#N/A"}}]
[null,null,"SW pt",{"$f":"IF(s5plot=\"NO\",NA(),IF(s5shape=rectangle_shape,SrcFactors!CM11-I28,IF(s5shape=circle_shape,Circ!T17-I28,NA())))","v":{"$error":"#N/A"}},{"$f":"IF(s5plot=\"NO\",NA(),IF(s5shape=rectangle_shape,SrcFactors!CN12-I28,IF(s5shape=circle_shape,Circ!U17-I28,NA())))","v":{"$error":"#N/A"}}]
[null,null,"W-SW",{"$f":"D61","v":{"$error":"#N/A"}},{"$f":"E61","v":{"$error":"#N/A"}}]
[]
[6,{"$f":"ISNUMBER(s6SWy)","v":false},"W-SW",{"$f":"IF(s6plot=\"NO\",NA(),IF(s6shape=rectangle_shape,SrcFactors!CO8,IF(s6shape=circle_shape,Circ!X10,NA())))","v":{"$error":"#N/A"}},{"$f":"IF(s6plot=\"NO\",NA(),IF(s6shape=rectangle_shape,SrcFactors!CP8-Setback!H9,IF(s6shape=circle_shape,Circ!Y10-Setback!H9,NA())))","v":{"$error":"#N/A"}}]
[{"$f":"IF(s6name=\"\",\"\",s6name)","v":""},null,"W-NW",{"$f":"IF(s6plot=\"NO\",NA(),IF(s6shape=rectangle_shape,SrcFactors!CO9,IF(s6shape=circle_shape,Circ!X10,NA())))","v":{"$error":"#N/A"}},{"$f":"IF(s6plot=\"NO\",NA(),IF(s6shape=rectangle_shape,SrcFactors!CP9-Setback!H9,IF(s6shape=circle_shape,Circ!Y10-Setback!H9,NA())))","v":{"$error":"#N/A"}}]
[null,null,"NW pt",{"$f":"IF(s6plot=\"NO\",NA(),IF(s6shape=rectangle_shape,SrcFactors!CO9+I30,IF(s6shape=circle_shape,Circ!X11+I30,NA())))","v":{"$error":"#N/A"}},{"$f":"IF(s6plot=\"NO\",NA(),IF(s6shape=rectangle_shape,SrcFactors!CP9-I30,IF(s6shape=circle_shape,Circ!Y11-I30,NA())))","v":{"$error":"#N/A"}}]
["Plot?",{"$f":"s6plot","v":0},"N-NW",{"$f":"IF(s6plot=\"NO\",NA(),IF(s6shape=rectangle_shape,SrcFactors!CO9+Setback!B9,IF(s6shape=circle_shape,Circ!X12+Setback!B9,NA())))","v":{"$error":"#N/A"}},{"$f":"IF(s6plot=\"NO\",NA(),IF(s6shape=rectangle_shape,SrcFactors!CP9,IF(s6shape=circle_shape,Circ!Y12,NA())))","v":{"$error":"#N/A"}}]
[null,null,"N-NE",{"$f":"IF(s6plot=\"NO\",NA(),IF(s6shape=rectangle_shape,SrcFactors!CO10+Setback!B9,IF(s6shape=circle_shape,Circ!X12+Setback!B9,NA())))","v":{"$error":"#N/A"}},{"$f":"IF(s6plot=\"NO\",NA(),IF(s6shape=rectangle_shape,SrcFactors!CP10,IF(s6shape=circle_shape,Circ!Y12,NA())))","v":{"$error":"#N/A"}}]
[null,null,"NE pt",{"$f":"IF(s6plot=\"NO\",NA(),IF(s6shape=rectangle_shape,SrcFactors!CO10+I31,IF(s6shape=circle_shape,Circ!X13+I31,NA())))","v":{"$error":"#N/A"}},{"$f":"IF(s6plot=\"NO\",NA(),IF(s6shape=rectangle_shape,SrcFactors!CP10+I31,IF(s6shape=circle_shape,Circ!Y13+I31,NA())))","v":{"$error":"#N/A"}}]
[null,null,"E-NE",{"$f":"IF(s6plot=\"NO\",NA(),IF(s6shape=rectangle_shape,SrcFactors!CO10,IF(s6shape=circle_shape,Circ!X14,NA())))","v":{"$error":"#N/A"}},{"$f":"IF(s6plot=\"NO\",NA(),IF(s6shape=rectangle_shape,SrcFactors!CP10+Setback!D9,IF(s6shape=circle_shape,Circ!Y14+Setback!D9,NA())))","v":{"$error":"#N/A"}}]
[null,null,"E-SE",{"$f":"IF(s6plot=\"NO\",NA(),IF(s6shape=rectangle_shape,SrcFactors!CO11,IF(s6shape=circle_shape,Circ!X14,NA())))","v":{"$error":"#N/A"}},{"$f":"IF(s6plot=\"NO\",NA(),IF(s6shape=rectangle_shape,SrcFactors!CP11+Setback!D9,IF(s6shape=circle_shape,Circ!Y14+Setback!D9,NA())))","v":{"$error":"#N/A"}}]
[null,null,"SE pt",{"$f":"IF(s6plot=\"NO\",NA(),IF(s6shape=rectangle_shape,SrcFactors!CO11-I32,IF(s6shape=circle_shape,Circ!X15-I32,NA())))","v":{"$error":"#N/A"}},{"$f":"IF(s6plot=\"NO\",NA(),IF(s6shape=rectangle_shape,SrcFactors!CP11+I32,IF(s6shape=circle_shape,Circ!Y15+I32,NA())))","v":{"$error":"#N/A"}}]
[null,null,"S-SE",{"$f":"IF(s6plot=\"NO\",NA(),IF(s6shape=rectangle_shape,SrcFactors!CO11-Setback!F9,IF(s6shape=circle_shape,Circ!X16-Setback!F9,NA())))","v":{"$error":"#N/A"}},{"$f":"IF(s6plot=\"NO\",NA(),IF(s6shape=rectangle_shape,SrcFactors!CP11,IF(s6shape=circle_shape,Circ!Y16,NA())))","v":{"$error":"#N/A"}}]
[null,null,"S-SW",{"$f":"IF(s6plot=\"NO\",NA(),IF(s6shape=rectangle_shape,SrcFactors!CO12-Setback!F9,IF(s6shape=circle_shape,Circ!X16-Setback!F9,NA())))","v":{"$error":"#N/A"}},{"$f":"IF(s6plot=\"NO\",NA(),IF(s6shape=rectangle_shape,SrcFactors!CP12,IF(s6shape=circle_shape,Circ!Y16,NA())))","v":{"$error":"#N/A"}}]
[null,null,"SW pt",{"$f":"IF(s6plot=\"NO\",NA(),IF(s6shape=rectangle_shape,SrcFactors!CO11-I33,IF(s6shape=circle_shape,Circ!X17-I33,NA())))","v":{"$error":"#N/A"}},{"$f":"IF(s6plot=\"NO\",NA(),IF(s6shape=rectangle_shape,SrcFactors!CP12-I33,IF(s6shape=circle_shape,Circ!Y17-I33,NA())))","v":{"$error":"#N/A"}}]
[null,null,"W-SW",{"$f":"D75","v":{"$error":"#N/A"}},{"$f":"E75","v":{"$error":"#N/A"}}]
[]
[7,{"$f":"ISNUMBER(s7SWy)","v":false},"W-SW",{"$f":"IF(s7plot=\"NO\",NA(),IF(s7shape=rectangle_shape,SrcFactors!CQ8,IF(s7shape=circle_shape,Circ!AB10,NA())))","v":{"$error":"#N/A"}},{"$f":"IF(s7plot=\"NO\",NA(),IF(s7shape=rectangle_shape,SrcFactors!CR8-Setback!H10,IF(s7shape=circle_shape,Circ!AC10-Setback!H10,NA())))","v":{"$error":"#N/A"}}]
[{"$f":"IF(s7name=\"\",\"\",s7name)","v":""},null,"W-NW",{"$f":"IF(s7plot=\"NO\",NA(),IF(s7shape=rectangle_shape,SrcFactors!CQ9,IF(s7shape=circle_shape,Circ!AB10,NA())))","v":{"$error":"#N/A"}},{"$f":"IF(s7plot=\"NO\",NA(),IF(s7shape=rectangle_shape,SrcFactors!CR9-Setback!H10,IF(s7shape=circle_shape,Circ!AC10-Setback!H10,NA())))","v":{"$error":"#N/A"}}]
[null,null,"NW pt",{"$f":"IF(s7plot=\"NO\",NA(),IF(s7shape=rectangle_shape,SrcFactors!CQ9+I35,IF(s7shape=circle_shape,Circ!AB11+I35,NA())))","v":{"$error":"#N/A"}},{"$f":"IF(s7plot=\"NO\",NA(),IF(s7shape=rectangle_shape,SrcFactors!CR9-I35,IF(s7shape=circle_shape,Circ!AC11-I35,NA())))","v":{"$error":"#N/A"}}]
["Plot?",{"$f":"s7plot","v":0},"N-NW",{"$f":"IF(s7plot=\"NO\",NA(),IF(s7shape=rectangle_shape,SrcFactors!CQ9+Setback!B10,IF(s7shape=circle_shape,Circ!AB12+Setback!B10,NA())))","v":{"$error":"#N/A"}},{"$f":"IF(s7plot=\"NO\",NA(),IF(s7shape=rectangle_shape,SrcFactors!CR9,IF(s7shape=circle_shape,Circ!AC12,NA())))","v":{"$error":"#N/A"}}]
[null,null,"N-NE",{"$f":"IF(s7plot=\"NO\",NA(),IF(s7shape=rectangle_shape,SrcFactors!CQ10+Setback!B10,IF(s7shape=circle_shape,Circ!AB12+Setback!B10,NA())))","v":{"$error":"#N/A"}},{"$f":"IF(s7plot=\"NO\",NA(),IF(s7shape=rectangle_shape,SrcFactors!CR10,IF(s7shape=circle_shape,Circ!AC12,NA())))","v":{"$error":"#N/A"}}]
[null,null,"NE pt",{"$f":"IF(s7plot=\"NO\",NA(),IF(s7shape=rectangle_shape,SrcFactors!CQ10+I36,IF(s7shape=circle_shape,Circ!AB13+I36,NA())))","v":{"$error":"#N/A"}},{"$f":"IF(s7plot=\"NO\",NA(),IF(s7shape=rectangle_shape,SrcFactors!CR10+I36,IF(s7shape=circle_shape,Circ!AC13+I36,NA())))","v":{"$error":"#N/A"}}]
[null,null,"E-NE",{"$f":"IF(s7plot=\"NO\",NA(),IF(s7shape=rectangle_shape,SrcFactors!CQ10,IF(s7shape=circle_shape,Circ!AB14,NA())))","v":{"$error":"#N/A"}},{"$f":"IF(s7plot=\"NO\",NA(),IF(s7shape=rectangle_shape,SrcFactors!CR10+Setback!D10,IF(s7shape=circle_shape,Circ!AC14+Setback!D10,NA())))","v":{"$error":"#N/A"}}]
[null,null,"E-SE",{"$f":"IF(s7plot=\"NO\",NA(),IF(s7shape=rectangle_shape,SrcFactors!CQ11,IF(s7shape=circle_shape,Circ!AB14,NA())))","v":{"$error":"#N/A"}},{"$f":"IF(s7plot=\"NO\",NA(),IF(s7shape=rectangle_shape,SrcFactors!CR11+Setback!D10,IF(s7shape=circle_shape,Circ!AC14+Setback!D10,NA())))","v":{"$error":"#N/A"}}]
[null,null,"SE pt",{"$f":"IF(s7plot=\"NO\",NA(),IF(s7shape=rectangle_shape,SrcFactors!CQ11-I37,IF(s7shape=circle_shape,Circ!AB15-I37,NA())))","v":{"$error":"#N/A"}},{"$f":"IF(s7plot=\"NO\",NA(),IF(s7shape=rectangle_shape,SrcFactors!CR11+I37,IF(s7shape=circle_shape,Circ!AC15+I37,NA())))","v":{"$error":"#N/A"}}]
[null,null,"S-SE",{"$f":"IF(s7plot=\"NO\",NA(),IF(s7shape=rectangle_shape,SrcFactors!CQ11-Setback!F10,IF(s7shape=circle_shape,Circ!AB16-Setback!F10,NA())))","v":{"$error":"#N/A"}},{"$f":"IF(s7plot=\"NO\",NA(),IF(s7shape=rectangle_shape,SrcFactors!CR11,IF(s7shape=circle_shape,Circ!AC16,NA())))","v":{"$error":"#N/A"}}]
[null,null,"S-SW",{"$f":"IF(s7plot=\"NO\",NA(),IF(s7shape=rectangle_shape,SrcFactors!CQ12-Setback!F10,IF(s7shape=circle_shape,Circ!AB16-Setback!F10,NA())))","v":{"$error":"#N/A"}},{"$f":"IF(s7plot=\"NO\",NA(),IF(s7shape=rectangle_shape,SrcFactors!CR12,IF(s7shape=circle_shape,Circ!AC16,NA())))","v":{"$error":"#N/A"}}]
[null,null,"SW pt",{"$f":"IF(s7plot=\"NO\",NA(),IF(s7shape=rectangle_shape,SrcFactors!CQ11-I38,IF(s7shape=circle_shape,Circ!AB17-I38,NA())))","v":{"$error":"#N/A"}},{"$f":"IF(s7plot=\"NO\",NA(),IF(s7shape=rectangle_shape,SrcFactors!CR12-I38,IF(s7shape=circle_shape,Circ!AC17-I38,NA())))","v":{"$error":"#N/A"}}]
[null,null,"W-SW",{"$f":"D89","v":{"$error":"#N/A"}},{"$f":"E89","v":{"$error":"#N/A"}}]
[]
[8,{"$f":"ISNUMBER(s8SWy)","v":false},"W-SW",{"$f":"IF(s8plot=\"NO\",NA(),IF(s8shape=rectangle_shape,SrcFactors!CS8,IF(s8shape=circle_shape,Circ!AF10,NA())))","v":{"$error":"#N/A"}},{"$f":"IF(s8plot=\"NO\",NA(),IF(s8shape=rectangle_shape,SrcFactors!CT8-Setback!H11,IF(s8shape=circle_shape,Circ!AG10-Setback!H11,NA())))","v":{"$error":"#N/A"}}]
[{"$f":"IF(s8name=\"\",\"\",s8name)","v":""},null,"W-NW",{"$f":"IF(s8plot=\"NO\",NA(),IF(s8shape=rectangle_shape,SrcFactors!CS9,IF(s8shape=circle_shape,Circ!AF10,NA())))","v":{"$error":"#N/A"}},{"$f":"IF(s8plot=\"NO\",NA(),IF(s8shape=rectangle_shape,SrcFactors!CT9-Setback!H11,IF(s8shape=circle_shape,Circ!AG10-Setback!H11,NA())))","v":{"$error":"#N/A"}}]
[null,null,"NW pt",{"$f":"IF(s8plot=\"NO\",NA(),IF(s8shape=rectangle_shape,SrcFactors!CS9+I40,IF(s8shape=circle_shape,Circ!AF11+I40,NA())))","v":{"$error":"#N/A"}},{"$f":"IF(s8plot=\"NO\",NA(),IF(s8shape=rectangle_shape,SrcFactors!CT9-I40,IF(s8shape=circle_shape,Circ!AG11-I40,NA())))","v":{"$error":"#N/A"}}]
["Plot?",{"$f":"s8plot","v":0},"N-NW",{"$f":"IF(s8plot=\"NO\",NA(),IF(s8shape=rectangle_shape,SrcFactors!CS9+Setback!B11,IF(s8shape=circle_shape,Circ!AF12+Setback!B11,NA())))","v":{"$error":"#N/A"}},{"$f":"IF(s8plot=\"NO\",NA(),IF(s8shape=rectangle_shape,SrcFactors!CT9,IF(s8shape=circle_shape,Circ!AG12,NA())))","v":{"$error":"#N/A"}}]
[null,null,"N-NE",{"$f":"IF(s8plot=\"NO\",NA(),IF(s8shape=rectangle_shape,SrcFactors!CS10+Setback!B11,IF(s8shape=circle_shape,Circ!AF12+Setback!B11,NA())))","v":{"$error":"#N/A"}},{"$f":"IF(s8plot=\"NO\",NA(),IF(s8shape=rectangle_shape,SrcFactors!CT10,IF(s8shape=circle_shape,Circ!AG12,NA())))","v":{"$error":"#N/A"}}]
[null,null,"NE pt",{"$f":"IF(s8plot=\"NO\",NA(),IF(s8shape=rectangle_shape,SrcFactors!CS10+I41,IF(s8shape=circle_shape,Circ!AF13+I41,NA())))","v":{"$error":"#N/A"}},{"$f":"IF(s8plot=\"NO\",NA(),IF(s8shape=rectangle_shape,SrcFactors!CT10+I41,IF(s8shape=circle_shape,Circ!AG13+I41,NA())))","v":{"$error":"#N/A"}}]
[null,null,"E-NE",{"$f":"IF(s8plot=\"NO\",NA(),IF(s8shape=rectangle_shape,SrcFactors!CS10,IF(s8shape=circle_shape,Circ!AF14,NA())))","v":{"$error":"#N/A"}},{"$f":"IF(s8plot=\"NO\",NA(),IF(s8shape=rectangle_shape,SrcFactors!CT10+Setback!D11,IF(s8shape=circle_shape,Circ!AG14+Setback!D11,NA())))","v":{"$error":"#N/A"}}]
[null,null,"E-SE",{"$f":"IF(s8plot=\"NO\",NA(),IF(s8shape=rectangle_shape,SrcFactors!CS11,IF(s8shape=circle_shape,Circ!AF14,NA())))","v":{"$error":"#N/A"}},{"$f":"IF(s8plot=\"NO\",NA(),IF(s8shape=rectangle_shape,SrcFactors!CT11+Setback!D11,IF(s8shape=circle_shape,Circ!AG14+Setback!D11,NA())))","v":{"$error":"#N/A"}}]
[null,null,"SE pt",{"$f":"IF(s8plot=\"NO\",NA(),IF(s8shape=rectangle_shape,SrcFactors!CS11-I42,IF(s8shape=circle_shape,Circ!AF15-I42,NA())))","v":{"$error":"#N/A"}},{"$f":"IF(s8plot=\"NO\",NA(),IF(s8shape=rectangle_shape,SrcFactors!CT11+I42,IF(s8shape=circle_shape,Circ!AG15+I42,NA())))","v":{"$error":"#N/A"}}]
[null,null,"S-SE",{"$f":"IF(s8plot=\"NO\",NA(),IF(s8shape=rectangle_shape,SrcFactors!CS11-Setback!F11,IF(s8shape=circle_shape,Circ!AF16-Setback!F11,NA())))","v":{"$error":"#N/A"}},{"$f":"IF(s8plot=\"NO\",NA(),IF(s8shape=rectangle_shape,SrcFactors!CT11,IF(s8shape=circle_shape,Circ!AG16,NA())))","v":{"$error":"#N/A"}}]
[null,null,"S-SW",{"$f":"IF(s8plot=\"NO\",NA(),IF(s8shape=rectangle_shape,SrcFactors!CS12-Setback!F11,IF(s8shape=circle_shape,Circ!AF16-Setback!F11,NA())))","v":{"$error":"#N/A"}},{"$f":"IF(s8plot=\"NO\",NA(),IF(s8shape=rectangle_shape,SrcFactors!CT12,IF(s8shape=circle_shape,Circ!AG16,NA())))","v":{"$error":"#N/A"}}]
[null,null,"SW pt",{"$f":"IF(s8plot=\"NO\",NA(),IF(s8shape=rectangle_shape,SrcFactors!CS11-I43,IF(s8shape=circle_shape,Circ!AF17-I43,NA())))","v":{"$error":"#N/A"}},{"$f":"IF(s8plot=\"NO\",NA(),IF(s8shape=rectangle_shape,SrcFactors!CT12-I43,IF(s8shape=circle_shape,Circ!AG17-I43,NA())))","v":{"$error":"#N/A"}}]
[null,null,"W-SW",{"$f":"D103","v":{"$error":"#N/A"}},{"$f":"E103","v":{"$error":"#N/A"}}]
[]
[9,{"$f":"ISNUMBER(s9SWy)","v":false},"W-SW",{"$f":"IF(s9plot=\"NO\",NA(),IF(s9shape=rectangle_shape,SrcFactors!CU8,IF(s9shape=circle_shape,Circ!AJ10,NA())))","v":{"$error":"#N/A"}},{"$f":"IF(s9plot=\"NO\",NA(),IF(s9shape=rectangle_shape,SrcFactors!CV8-Setback!H12,IF(s9shape=circle_shape,Circ!AK10-Setback!H12,NA())))","v":{"$error":"#N/A"}}]
[{"$f":"IF(s9name=\"\",\"\",s9name)","v":""},null,"W-NW",{"$f":"IF(s9plot=\"NO\",NA(),IF(s9shape=rectangle_shape,SrcFactors!CU9,IF(s9shape=circle_shape,Circ!AJ10,NA())))","v":{"$error":"#N/A"}},{"$f":"IF(s9plot=\"NO\",NA(),IF(s9shape=rectangle_shape,SrcFactors!CV9-Setback!H12,IF(s9shape=circle_shape,Circ!AK10-Setback!H12,NA())))","v":{"$error":"#N/A"}}]
[null,null,"NW pt",{"$f":"IF(s9plot=\"NO\",NA(),IF(s9shape=rectangle_shape,SrcFactors!CU9+I45,IF(s9shape=circle_shape,Circ!AJ11+I45,NA())))","v":{"$error":"#N/A"}},{"$f":"IF(s9plot=\"NO\",NA(),IF(s9shape=rectangle_shape,SrcFactors!CV9-I45,IF(s9shape=circle_shape,Circ!AK11-I45,NA())))","v":{"$error":"#N/A"}}]
["Plot?",{"$f":"s9plot","v":0},"N-NW",{"$f":"IF(s9plot=\"NO\",NA(),IF(s9shape=rectangle_shape,SrcFactors!CU9+Setback!B12,IF(s9shape=circle_shape,Circ!AJ12+Setback!B12,NA())))","v":{"$error":"#N/A"}},{"$f":"IF(s9plot=\"NO\",NA(),IF(s9shape=rectangle_shape,SrcFactors!CV9,IF(s9shape=circle_shape,Circ!AK12,NA())))","v":{"$error":"#N/A"}}]
[null,null,"N-NE",{"$f":"IF(s9plot=\"NO\",NA(),IF(s9shape=rectangle_shape,SrcFactors!CU10+Setback!B12,IF(s9shape=circle_shape,Circ!AJ12+Setback!B12,NA())))","v":{"$error":"#N/A"}},{"$f":"IF(s9plot=\"NO\",NA(),IF(s9shape=rectangle_shape,SrcFactors!CV10,IF(s9shape=circle_shape,Circ!AK12,NA())))","v":{"$error":"#N/A"}}]
[null,null,"NE pt",{"$f":"IF(s9plot=\"NO\",NA(),IF(s9shape=rectangle_shape,SrcFactors!CU10+I46,IF(s9shape=circle_shape,Circ!AJ13+I46,NA())))","v":{"$error":"#N/A"}},{"$f":"IF(s9plot=\"NO\",NA(),IF(s9shape=rectangle_shape,SrcFactors!CV10+I46,IF(s9shape=circle_shape,Circ!AK13+I46,NA())))","v":{"$error":"#N/A"}}]
[null,null,"E-NE",{"$f":"IF(s9plot=\"NO\",NA(),IF(s9shape=rectangle_shape,SrcFactors!CU10,IF(s9shape=circle_shape,Circ!AJ14,NA())))","v":{"$error":"#N/A"}},{"$f":"IF(s9plot=\"NO\",NA(),IF(s9shape=rectangle_shape,SrcFactors!CV10+Setback!D12,IF(s9shape=circle_shape,Circ!AK14+Setback!D12,NA())))","v":{"$error":"#N/A"}}]
[null,null,"E-SE",{"$f":"IF(s9plot=\"NO\",NA(),IF(s9shape=rectangle_shape,SrcFactors!CU11,IF(s9shape=circle_shape,Circ!AJ14,NA())))","v":{"$error":"#N/A"}},{"$f":"IF(s9plot=\"NO\",NA(),IF(s9shape=rectangle_shape,SrcFactors!CV11+Setback!D12,IF(s9shape=circle_shape,Circ!AK14+Setback!D12,NA())))","v":{"$error":"#N/A"}}]
[null,null,"SE pt",{"$f":"IF(s9plot=\"NO\",NA(),IF(s9shape=rectangle_shape,SrcFactors!CU11-I47,IF(s9shape=circle_shape,Circ!AJ15-I47,NA())))","v":{"$error":"#N/A"}},{"$f":"IF(s9plot=\"NO\",NA(),IF(s9shape=rectangle_shape,SrcFactors!CV11+I47,IF(s9shape=circle_shape,Circ!AK15+I47,NA())))","v":{"$error":"#N/A"}}]
[null,null,"S-SE",{"$f":"IF(s9plot=\"NO\",NA(),IF(s9shape=rectangle_shape,SrcFactors!CU11-Setback!F12,IF(s9shape=circle_shape,Circ!AJ16-Setback!F12,NA())))","v":{"$error":"#N/A"}},{"$f":"IF(s9plot=\"NO\",NA(),IF(s9shape=rectangle_shape,SrcFactors!CV11,IF(s9shape=circle_shape,Circ!AK16,NA())))","v":{"$error":"#N/A"}}]
[null,null,"S-SW",{"$f":"IF(s9plot=\"NO\",NA(),IF(s9shape=rectangle_shape,SrcFactors!CU12-Setback!F12,IF(s9shape=circle_shape,Circ!AJ16-Setback!F12,NA())))","v":{"$error":"#N/A"}},{"$f":"IF(s9plot=\"NO\",NA(),IF(s9shape=rectangle_shape,SrcFactors!CV12,IF(s9shape=circle_shape,Circ!AK16,NA())))","v":{"$error":"#N/A"}}]
[null,null,"SW pt",{"$f":"IF(s9plot=\"NO\",NA(),IF(s9shape=rectangle_shape,SrcFactors!CU11-I48,IF(s9shape=circle_shape,Circ!AJ17-I48,NA())))","v":{"$error":"#N/A"}},{"$f":"IF(s9plot=\"NO\",NA(),IF(s9shape=rectangle_shape,SrcFactors!CV12-I48,IF(s9shape=circle_shape,Circ!AK17-I48,NA())))","v":{"$error":"#N/A"}}]
[null,null,"W-SW",{"$f":"D117","v":{"$error":"#N/A"}},{"$f":"E117","v":{"$error":"#N/A"}}]
[]
[10,{"$f":"ISNUMBER(s10SWy)","v":false},"W-SW",{"$f":"IF(s10plot=\"NO\",NA(),IF(s10shape=rectangle_shape,SrcFactors!CW8,IF(s10shape=circle_shape,Circ!AN10,NA())))","v":{"$error":"#N/A"}},{"$f":"IF(s10plot=\"NO\",NA(),IF(s10shape=rectangle_shape,SrcFactors!CX8-Setback!H13,IF(s10shape=circle_shape,Circ!AO10-Setback!H13,NA())))","v":{"$error":"#N/A"}}]
[{"$f":"IF(s10name=\"\",\"\",s10name)","v":""},null,"W-NW",{"$f":"IF(s10plot=\"NO\",NA(),IF(s10shape=rectangle_shape,SrcFactors!CW9,IF(s10shape=circle_shape,Circ!AN10,NA())))","v":{"$error":"#N/A"}},{"$f":"IF(s10plot=\"NO\",NA(),IF(s10shape=rectangle_shape,SrcFactors!CX9-Setback!H13,IF(s10shape=circle_shape,Circ!AO10-Setback!H13,NA())))","v":{"$error":"#N/A"}}]
[null,null,"NW pt",{"$f":"IF(s10plot=\"NO\",NA(),IF(s10shape=rectangle_shape,SrcFactors!CW9+I50,IF(s10shape=circle_shape,Circ!AN11+I50,NA())))","v":{"$error":"#N/A"}},{"$f":"IF(s10plot=\"NO\",NA(),IF(s10shape=rectangle_shape,SrcFactors!CX9-I50,IF(s10shape=circle_shape,Circ!AO11-I50,NA())))","v":{"$error":"#N/A"}}]
["Plot?",{"$f":"s10plot","v":0},"N-NW",{"$f":"IF(s10plot=\"NO\",NA(),IF(s10shape=rectangle_shape,SrcFactors!CW9+Setback!B13,IF(s10shape=circle_shape,Circ!AN12+Setback!B13,NA())))","v":{"$error":"#N/A"}},{"$f":"IF(s10plot=\"NO\",NA(),IF(s10shape=rectangle_shape,SrcFactors!CX9,IF(s10shape=circle_shape,Circ!AO12,NA())))","v":{"$error":"#N/A"}}]
[null,null,"N-NE",{"$f":"IF(s10plot=\"NO\",NA(),IF(s10shape=rectangle_shape,SrcFactors!CW10+Setback!B13,IF(s10shape=circle_shape,Circ!AN12+Setback!B13,NA())))","v":{"$error":"#N/A"}},{"$f":"IF(s10plot=\"NO\",NA(),IF(s10shape=rectangle_shape,SrcFactors!CX10,IF(s10shape=circle_shape,Circ!AO12,NA())))","v":{"$error":"#N/A"}}]
[null,null,"NE pt",{"$f":"IF(s10plot=\"NO\",NA(),IF(s10shape=rectangle_shape,SrcFactors!CW10+I51,IF(s10shape=circle_shape,Circ!AN13+I51,NA())))","v":{"$error":"#N/A"}},{"$f":"IF(s10plot=\"NO\",NA(),IF(s10shape=rectangle_shape,SrcFactors!CX10+I51,IF(s10shape=circle_shape,Circ!AO13+I51,NA())))","v":{"$error":"#N/A"}}]
[null,null,"E-NE",{"$f":"IF(s10plot=\"NO\",NA(),IF(s10shape=rectangle_shape,SrcFactors!CW10,IF(s10shape=circle_shape,Circ!AN14,NA())))","v":{"$error":"#N/A"}},{"$f":"IF(s10plot=\"NO\",NA(),IF(s10shape=rectangle_shape,SrcFactors!CX10+Setback!D13,IF(s10shape=circle_shape,Circ!AO14+Setback!D13,NA())))","v":{"$error":"#N/A"}}]
[null,null,"E-SE",{"$f":"IF(s10plot=\"NO\",NA(),IF(s10shape=rectangle_shape,SrcFactors!CW11,IF(s10shape=circle_shape,Circ!AN14,NA())))","v":{"$error":"#N/A"}},{"$f":"IF(s10plot=\"NO\",NA(),IF(s10shape=rectangle_shape,SrcFactors!CX11+Setback!D13,IF(s10shape=circle_shape,Circ!AO14+Setback!D13,NA())))","v":{"$error":"#N/A"}}]
[null,null,"SE pt",{"$f":"IF(s10plot=\"NO\",NA(),IF(s10shape=rectangle_shape,SrcFactors!CW11-I52,IF(s10shape=circle_shape,Circ!AN15-I52,NA())))","v":{"$error":"#N/A"}},{"$f":"IF(s10plot=\"NO\",NA(),IF(s10shape=rectangle_shape,SrcFactors!CX11+I52,IF(s10shape=circle_shape,Circ!AO15+I52,NA())))","v":{"$error":"#N/A"}}]
[null,null,"S-SE",{"$f":"IF(s10plot=\"NO\",NA(),IF(s10shape=rectangle_shape,SrcFactors!CW11-Setback!F13,IF(s10shape=circle_shape,Circ!AN16-Setback!F13,NA())))","v":{"$error":"#N/A"}},{"$f":"IF(s10plot=\"NO\",NA(),IF(s10shape=rectangle_shape,SrcFactors!CX11,IF(s10shape=circle_shape,Circ!AO16,NA())))","v":{"$error":"#N/A"}}]
[null,null,"S-SW",{"$f":"IF(s10plot=\"NO\",NA(),IF(s10shape=rectangle_shape,SrcFactors!CW12-Setback!F13,IF(s10shape=circle_shape,Circ!AN16-Setback!F13,NA())))","v":{"$error":"#N/A"}},{"$f":"IF(s10plot=\"NO\",NA(),IF(s10shape=rectangle_shape,SrcFactors!CX12,IF(s10shape=circle_shape,Circ!AO16,NA())))","v":{"$error":"#N/A"}}]
[null,null,"SW pt",{"$f":"IF(s10plot=\"NO\",NA(),IF(s10shape=rectangle_shape,SrcFactors!CW11-I53,IF(s10shape=circle_shape,Circ!AN17-I53,NA())))","v":{"$error":"#N/A"}},{"$f":"IF(s10plot=\"NO\",NA(),IF(s10shape=rectangle_shape,SrcFactors!CX12-I53,IF(s10shape=circle_shape,Circ!AO17-I53,NA())))","v":{"$error":"#N/A"}}]
[null,null,"W-SW",{"$f":"D131","v":{"$error":"#N/A"}},{"$f":"E131","v":{"$error":"#N/A"}}]

{"sheet":"GEPoints","index":9,"n_rows":92,"n_cols":11,"rows_kept":92,"cut":false,"hidden":false,"merged":[]}
["Latitude","Longitude","Name","Description","Icon","IconColor","IconHeading","IconLineColor","IconScale","LineStringColor","This worksheet is for internal use only."]
[{"$f":"Plotdata!N5","v":45},{"$f":"Plotdata!O5","v":-86},"Site SW","SW Source site",98,"blue",null,null,0.7,"blue","   A.J. Heber"]
[{"$f":"Plotdata!N6","v":45},{"$f":"Plotdata!O6","v":-86},null,"NW Source site",98,"blue",null,null,0.7,"blue"]
[{"$f":"Plotdata!N7","v":45},{"$f":"Plotdata!O7","v":-86},null,"NE Source site",98,"blue",null,null,0.7,"blue"]
[{"$f":"Plotdata!N8","v":45},{"$f":"Plotdata!O8","v":-86},null,"SE Source site",98,"blue",null,null,0.7,"blue"]
[{"$f":"Plotdata!N9","v":45},{"$f":"Plotdata!O9","v":-86},null,"SW Source site",98,"blue",null,null,0.7]
[{"$f":"Plotdata!N13","v":{"$error":"#DIV/0!"}},{"$f":"Plotdata!O13","v":{"$error":"#DIV/0!"}},null,"W-SW",33,"yellow",null,null,null,"yellow"]
[{"$f":"Plotdata!N14","v":{"$error":"#DIV/0!"}},{"$f":"Plotdata!O14","v":{"$error":"#DIV/0!"}},null,"W-NW",33,"yellow",null,null,null,"yellow"]
[{"$f":"Plotdata!N15","v":{"$error":"#DIV/0!"}},{"$f":"Plotdata!O15","v":{"$error":"#DIV/0!"}},null,"NW pt","none","yellow",null,null,null,"yellow"]
[{"$f":"Plotdata!N16","v":{"$error":"#DIV/0!"}},{"$f":"Plotdata!O16","v":{"$error":"#DIV/0!"}},null,"N-NW",24,"yellow",null,null,null,"yellow"]
[{"$f":"Plotdata!N17","v":{"$error":"#DIV/0!"}},{"$f":"Plotdata!O17","v":{"$error":"#DIV/0!"}},null,"N-NE",24,"yellow",null,null,null,"yellow"]
[{"$f":"Plotdata!N18","v":{"$error":"#DIV/0!"}},{"$f":"Plotdata!O18","v":{"$error":"#DIV/0!"}},null,"NE pt","none","yellow",null,null,null,"yellow"]
[{"$f":"Plotdata!N19","v":{"$error":"#DIV/0!"}},{"$f":"Plotdata!O19","v":{"$error":"#DIV/0!"}},null,"E-NE",15,"yellow",null,null,null,"yellow"]
[{"$f":"Plotdata!N20","v":{"$error":"#DIV/0!"}},{"$f":"Plotdata!O20","v":{"$error":"#DIV/0!"}},null,"E-SE",15,"yellow",null,null,null,"yellow"]
[{"$f":"Plotdata!N21","v":{"$error":"#DIV/0!"}},{"$f":"Plotdata!O21","v":{"$error":"#DIV/0!"}},null,"SE pt","none","yellow",null,null,null,"yellow"]
[{"$f":"Plotdata!N22","v":{"$error":"#DIV/0!"}},{"$f":"Plotdata!O22","v":{"$error":"#DIV/0!"}},null,"S-SE",29,"yellow",null,null,null,"yellow"]
[{"$f":"Plotdata!N23","v":{"$error":"#DIV/0!"}},{"$f":"Plotdata!O23","v":{"$error":"#DIV/0!"}},null,"S-SW",29,"yellow",null,null,null,"yellow"]
[{"$f":"Plotdata!N24","v":{"$error":"#DIV/0!"}},{"$f":"Plotdata!O24","v":{"$error":"#DIV/0!"}},null,"SW pt","none","yellow",null,null,null,"yellow"]
[{"$f":"Plotdata!N25","v":{"$error":"#DIV/0!"}},{"$f":"Plotdata!O25","v":{"$error":"#DIV/0!"}},null,"W-SW","none","yellow"]
[{"$f":"Circ!AY4","v":{"$error":"#DIV/0!"}},{"$f":"Circ!AZ4","v":{"$error":"#DIV/0!"}},{"$f":"Circ!AX4","v":" 2640'"},"Circle pt 1","none","red","line",null,0.7,"red"]
[{"$f":"Circ!AY5","v":{"$error":"#DIV/0!"}},{"$f":"Circ!AZ5","v":{"$error":"#DIV/0!"}},null,"Circle pt 2","none","red","line",null,0.7,"red"]
[{"$f":"Circ!AY6","v":{"$error":"#DIV/0!"}},{"$f":"Circ!AZ6","v":{"$error":"#DIV/0!"}},null,"Circle pt 3","none","red","line",null,0.7,"red"]
[{"$f":"Circ!AY7","v":{"$error":"#DIV/0!"}},{"$f":"Circ!AZ7","v":{"$error":"#DIV/0!"}},null,"Circle pt 4","none","red","line",null,0.7,"red"]
[{"$f":"Circ!AY8","v":{"$error":"#DIV/0!"}},{"$f":"Circ!AZ8","v":{"$error":"#DIV/0!"}},null,"Circle pt 5","none","red","line",null,0.7,"red"]
[{"$f":"Circ!AY9","v":{"$error":"#DIV/0!"}},{"$f":"Circ!AZ9","v":{"$error":"#DIV/0!"}},null,"Circle pt 6","none","red","line",null,0.7,"red"]
[{"$f":"Circ!AY10","v":{"$error":"#DIV/0!"}},{"$f":"Circ!AZ10","v":{"$error":"#DIV/0!"}},null,"Circle pt 7","none","red","line",null,0.7,"red"]
[{"$f":"Circ!AY11","v":{"$error":"#DIV/0!"}},{"$f":"Circ!AZ11","v":{"$error":"#DIV/0!"}},null,"Circle pt 8","none","red","line",null,0.7,"red"]
[{"$f":"Circ!AY12","v":{"$error":"#DIV/0!"}},{"$f":"Circ!AZ12","v":{"$error":"#DIV/0!"}},null,"Circle pt 9","none","red","line",null,0.7,"red"]
[{"$f":"Circ!AY13","v":{"$error":"#DIV/0!"}},{"$f":"Circ!AZ13","v":{"$error":"#DIV/0!"}},null,"Circle pt 10","none","red","line",null,0.7,"red"]
[{"$f":"Circ!AY14","v":{"$error":"#DIV/0!"}},{"$f":"Circ!AZ14","v":{"$error":"#DIV/0!"}},null,"Circle pt 11","none","red","line",null,0.7,"red"]
[{"$f":"Circ!AY15","v":{"$error":"#DIV/0!"}},{"$f":"Circ!AZ15","v":{"$error":"#DIV/0!"}},null,"Circle pt 12","none","red","line",null,0.7,"red"]
[{"$f":"Circ!AY16","v":{"$error":"#DIV/0!"}},{"$f":"Circ!AZ16","v":{"$error":"#DIV/0!"}},null,"Circle pt 13","none","red","line",null,0.7,"red"]
[{"$f":"Circ!AY17","v":{"$error":"#DIV/0!"}},{"$f":"Circ!AZ17","v":{"$error":"#DIV/0!"}},null,"Circle pt 14","none","red","line",null,0.7,"red"]
[{"$f":"Circ!AY18","v":{"$error":"#DIV/0!"}},{"$f":"Circ!AZ18","v":{"$error":"#DIV/0!"}},null,"Circle pt 15","none","red","line",null,0.7,"red"]
[{"$f":"Circ!AY19","v":{"$error":"#DIV/0!"}},{"$f":"Circ!AZ19","v":{"$error":"#DIV/0!"}},null,"Circle pt 16","none","red","line",null,0.7,"red"]
[{"$f":"Circ!AY20","v":{"$error":"#DIV/0!"}},{"$f":"Circ!AZ20","v":{"$error":"#DIV/0!"}},null,"Circle pt 17","none","red","line",null,0.7,"red"]
[{"$f":"Circ!AY21","v":{"$error":"#DIV/0!"}},{"$f":"Circ!AZ21","v":{"$error":"#DIV/0!"}},null,"Circle pt 18","none","red","line",null,0.7,"red"]
[{"$f":"Circ!AY22","v":{"$error":"#DIV/0!"}},{"$f":"Circ!AZ22","v":{"$error":"#DIV/0!"}},null,"Circle pt 19","none","red","line",null,0.7,"red"]
[{"$f":"Circ!AY23","v":{"$error":"#DIV/0!"}},{"$f":"Circ!AZ23","v":{"$error":"#DIV/0!"}},null,"Circle pt 20","none","red","line",null,0.7,"red"]
[{"$f":"Circ!AY24","v":{"$error":"#DIV/0!"}},{"$f":"Circ!AZ24","v":{"$error":"#DIV/0!"}},null,"Circle pt 21","none","red","line",null,0.7,"red"]
[{"$f":"Circ!AY25","v":{"$error":"#DIV/0!"}},{"$f":"Circ!AZ25","v":{"$error":"#DIV/0!"}},null,"Circle pt 22","none","red","line",null,0.7,"red"]
[{"$f":"Circ!AY26","v":{"$error":"#DIV/0!"}},{"$f":"Circ!AZ26","v":{"$error":"#DIV/0!"}},null,"Circle pt 23","none","red","line",null,0.7,"red"]
[{"$f":"Circ!AY27","v":{"$error":"#DIV/0!"}},{"$f":"Circ!AZ27","v":{"$error":"#DIV/0!"}},null,"Circle pt 24","none","red","line",null,0.7,"red"]
[{"$f":"Circ!AY28","v":{"$error":"#DIV/0!"}},{"$f":"Circ!AZ28","v":{"$error":"#DIV/0!"}},null,"Circle pt 25","none","red","line",null,0.7,"red"]
[{"$f":"Circ!AY29","v":{"$error":"#DIV/0!"}},{"$f":"Circ!AZ29","v":{"$error":"#DIV/0!"}},null,"Circle pt 26","none","red","line",null,0.7,"red"]
[{"$f":"Circ!AY30","v":{"$error":"#DIV/0!"}},{"$f":"Circ!AZ30","v":{"$error":"#DIV/0!"}},null,"Circle pt 27","none","red","line",null,0.7,"red"]
[{"$f":"Circ!AY31","v":{"$error":"#DIV/0!"}},{"$f":"Circ!AZ31","v":{"$error":"#DIV/0!"}},null,"Circle pt 28","none","red","line",null,0.7,"red"]
[{"$f":"Circ!AY32","v":{"$error":"#DIV/0!"}},{"$f":"Circ!AZ32","v":{"$error":"#DIV/0!"}},null,"Circle pt 29","none","red","line",null,0.7,"red"]
[{"$f":"Circ!AY33","v":{"$error":"#DIV/0!"}},{"$f":"Circ!AZ33","v":{"$error":"#DIV/0!"}},null,"Circle pt 30","none","red","line",null,0.7,"red"]
[{"$f":"Circ!AY34","v":{"$error":"#DIV/0!"}},{"$f":"Circ!AZ34","v":{"$error":"#DIV/0!"}},null,"Circle pt 31","none","red","line",null,0.7,"red"]
[{"$f":"Circ!AY35","v":{"$error":"#DIV/0!"}},{"$f":"Circ!AZ35","v":{"$error":"#DIV/0!"}},null,"Circle pt 32","none","red","line",null,0.7,"red"]
[{"$f":"Circ!AY36","v":{"$error":"#DIV/0!"}},{"$f":"Circ!AZ36","v":{"$error":"#DIV/0!"}},null,"Circle pt 33","none","red","line",null,0.7,"red"]
[{"$f":"Circ!AY37","v":{"$error":"#DIV/0!"}},{"$f":"Circ!AZ37","v":{"$error":"#DIV/0!"}},null,"Circle pt 34","none","red","line",null,0.7,"red"]
[{"$f":"Circ!AY38","v":{"$error":"#DIV/0!"}},{"$f":"Circ!AZ38","v":{"$error":"#DIV/0!"}},null,"Circle pt 35","none","red","line",null,0.7,"red"]
[{"$f":"Circ!AY39","v":{"$error":"#DIV/0!"}},{"$f":"Circ!AZ39","v":{"$error":"#DIV/0!"}},null,"Circle pt 36","none","red","line",null,0.7,"red"]
[{"$f":"Circ!AY40","v":{"$error":"#DIV/0!"}},{"$f":"Circ!AZ40","v":{"$error":"#DIV/0!"}},null,"Circle pt 37","none","red","line",null,0.7,"red"]
[{"$f":"Circ!AY41","v":{"$error":"#DIV/0!"}},{"$f":"Circ!AZ41","v":{"$error":"#DIV/0!"}},null,"Circle pt 38","none","red","line",null,0.7,"red"]
[{"$f":"Circ!AY42","v":{"$error":"#DIV/0!"}},{"$f":"Circ!AZ42","v":{"$error":"#DIV/0!"}},null,"Circle pt 39","none","red","line",null,0.7,"red"]
[{"$f":"Circ!AY43","v":{"$error":"#DIV/0!"}},{"$f":"Circ!AZ43","v":{"$error":"#DIV/0!"}},null,"Circle pt 40","none","red","line",null,0.7,"red"]
[{"$f":"Circ!AY44","v":{"$error":"#DIV/0!"}},{"$f":"Circ!AZ44","v":{"$error":"#DIV/0!"}},null,"Circle pt 41","none","red","line",null,0.7,"red"]
[{"$f":"Circ!AY45","v":{"$error":"#DIV/0!"}},{"$f":"Circ!AZ45","v":{"$error":"#DIV/0!"}},null,"Circle pt 42","none","red","line",null,0.7,"red"]
[{"$f":"Circ!AY46","v":{"$error":"#DIV/0!"}},{"$f":"Circ!AZ46","v":{"$error":"#DIV/0!"}},null,"Circle pt 43","none","red","line",null,0.7,"red"]
[{"$f":"Circ!AY47","v":{"$error":"#DIV/0!"}},{"$f":"Circ!AZ47","v":{"$error":"#DIV/0!"}},null,"Circle pt 44","none","red","line",null,0.7,"red"]
[{"$f":"Circ!AY48","v":{"$error":"#DIV/0!"}},{"$f":"Circ!AZ48","v":{"$error":"#DIV/0!"}},null,"Circle pt 45","none","red","line",null,0.7,"red"]
[{"$f":"Circ!AY49","v":{"$error":"#DIV/0!"}},{"$f":"Circ!AZ49","v":{"$error":"#DIV/0!"}},null,"Circle pt 46","none","red","line",null,0.7,"red"]
[{"$f":"Circ!AY50","v":{"$error":"#DIV/0!"}},{"$f":"Circ!AZ50","v":{"$error":"#DIV/0!"}},null,"Circle pt 47","none","red","line",null,0.7,"red"]
[{"$f":"Circ!AY51","v":{"$error":"#DIV/0!"}},{"$f":"Circ!AZ51","v":{"$error":"#DIV/0!"}},null,"Circle pt 48","none","red","line",null,0.7,"red"]
[{"$f":"Circ!AY52","v":{"$error":"#DIV/0!"}},{"$f":"Circ!AZ52","v":{"$error":"#DIV/0!"}},null,"Circle pt 49","none","red","line",null,0.7,"red"]
[{"$f":"Circ!AY53","v":{"$error":"#DIV/0!"}},{"$f":"Circ!AZ53","v":{"$error":"#DIV/0!"}},null,"Circle pt 50","none","red","line",null,0.7,"red"]
[{"$f":"Circ!AY54","v":{"$error":"#DIV/0!"}},{"$f":"Circ!AZ54","v":{"$error":"#DIV/0!"}},null,"Circle pt 51","none","red","line",null,0.7,"red"]
[{"$f":"Circ!AY55","v":{"$error":"#DIV/0!"}},{"$f":"Circ!AZ55","v":{"$error":"#DIV/0!"}},null,"Circle pt 52","none","red","line",null,0.7,"red"]
[{"$f":"Circ!AY56","v":{"$error":"#DIV/0!"}},{"$f":"Circ!AZ56","v":{"$error":"#DIV/0!"}},null,"Circle pt 53","none","red","line",null,0.7,"red"]
[{"$f":"Circ!AY57","v":{"$error":"#DIV/0!"}},{"$f":"Circ!AZ57","v":{"$error":"#DIV/0!"}},null,"Circle pt 54","none","red","line",null,0.7,"red"]
[{"$f":"Circ!AY58","v":{"$error":"#DIV/0!"}},{"$f":"Circ!AZ58","v":{"$error":"#DIV/0!"}},null,"Circle pt 55","none","red","line",null,0.7,"red"]
[{"$f":"Circ!AY59","v":{"$error":"#DIV/0!"}},{"$f":"Circ!AZ59","v":{"$error":"#DIV/0!"}},null,"Circle pt 56","none","red","line",null,0.7,"red"]
[{"$f":"Circ!AY60","v":{"$error":"#DIV/0!"}},{"$f":"Circ!AZ60","v":{"$error":"#DIV/0!"}},null,"Circle pt 57","none","red","line",null,0.7,"red"]
[{"$f":"Circ!AY61","v":{"$error":"#DIV/0!"}},{"$f":"Circ!AZ61","v":{"$error":"#DIV/0!"}},null,"Circle pt 58","none","red","line",null,0.7,"red"]
[{"$f":"Circ!AY62","v":{"$error":"#DIV/0!"}},{"$f":"Circ!AZ62","v":{"$error":"#DIV/0!"}},null,"Circle pt 59","none","red","line",null,0.7,"red"]
[{"$f":"Circ!AY63","v":{"$error":"#DIV/0!"}},{"$f":"Circ!AZ63","v":{"$error":"#DIV/0!"}},null,"Circle pt 60","none","red","line",null,0.7,"red"]
[{"$f":"Circ!AY64","v":{"$error":"#DIV/0!"}},{"$f":"Circ!AZ64","v":{"$error":"#DIV/0!"}},null,"Circle pt 61","none","red","line",null,0.7,"red"]
[{"$f":"Circ!AY65","v":{"$error":"#DIV/0!"}},{"$f":"Circ!AZ65","v":{"$error":"#DIV/0!"}},null,"Circle pt 62","none","red","line",null,0.7,"red"]
[{"$f":"Circ!AY66","v":{"$error":"#DIV/0!"}},{"$f":"Circ!AZ66","v":{"$error":"#DIV/0!"}},null,"Circle pt 63","none","red","line",null,0.7,"red"]
[{"$f":"Circ!AY67","v":{"$error":"#DIV/0!"}},{"$f":"Circ!AZ67","v":{"$error":"#DIV/0!"}},null,"Circle pt 64","none","red","line",null,0.7,"red"]
[{"$f":"Circ!AY68","v":{"$error":"#DIV/0!"}},{"$f":"Circ!AZ68","v":{"$error":"#DIV/0!"}},null,"Circle pt 65","none","red","line",null,0.7,"red"]
[{"$f":"Circ!AY69","v":{"$error":"#DIV/0!"}},{"$f":"Circ!AZ69","v":{"$error":"#DIV/0!"}},null,"Circle pt 66","none","red","line",null,0.7,"red"]
[{"$f":"Circ!AY70","v":{"$error":"#DIV/0!"}},{"$f":"Circ!AZ70","v":{"$error":"#DIV/0!"}},null,"Circle pt 67","none","red","line",null,0.7,"red"]
[{"$f":"Circ!AY71","v":{"$error":"#DIV/0!"}},{"$f":"Circ!AZ71","v":{"$error":"#DIV/0!"}},null,"Circle pt 68","none","red","line",null,0.7,"red"]
[{"$f":"Circ!AY72","v":{"$error":"#DIV/0!"}},{"$f":"Circ!AZ72","v":{"$error":"#DIV/0!"}},null,"Circle pt 69","none","red","line",null,0.7,"red"]
[{"$f":"Circ!AY73","v":{"$error":"#DIV/0!"}},{"$f":"Circ!AZ73","v":{"$error":"#DIV/0!"}},null,"Circle pt 70","none","red","line",null,0.7,"red"]
[{"$f":"Circ!AY74","v":{"$error":"#DIV/0!"}},{"$f":"Circ!AZ74","v":{"$error":"#DIV/0!"}},null,"Circle pt 71","none","red","line",null,0.7,"red"]
[{"$f":"Circ!AY75","v":{"$error":"#DIV/0!"}},{"$f":"Circ!AZ75","v":{"$error":"#DIV/0!"}},null,"Circle pt 72","none","red","line",null,0.7,"red"]
[{"$f":"Circ!AY76","v":{"$error":"#DIV/0!"}},{"$f":"Circ!AZ76","v":{"$error":"#DIV/0!"}},null,"Circle pt 73","none","red","line",null,0.7,"red"]

{"sheet":"Circ","index":10,"n_rows":81,"n_cols":52,"rows_kept":81,"cut":false,"hidden":true,"merged":[]}
[null,null,null,null,"Plot circles if the source shapes are circles.  Numbers appear in the N and E columns if the source shape is a circle.  They are blank if they are not a circle. SWx is checked first and there has to be a number there, but why not the radius?"]
[null,null,null,null,null,null,null,null,null,null,null,null,null,null,null,null,null,null,null,null,null,null,null,null,null,null,null,null,null,null,null,null,null,null,null,null,null,null,null,null,null,null,null,"Standard Circle",null,"From Weighted Center",null,"Label",null,null,"GE Points"]
["DEG",null,"SOURCE","SWx?","N","E",null,"SOURCE","SWx?","N","E","SOURCE","SWx?","N","E","SOURCE","SWx?","N","E","SOURCE","SWx?","N","E","SOURCE","SWx?","N","E","SOURCE","SWx?","N","E","SOURCE","SWx?","N","E","SOURCE","SWx?","N","E","SOURCE","SWx?","N","E","SOURCE","SWx?","N","E","N","E","Label","Latitude","Longitude"]
[0,null,1,{"$f":"ISNUMBER(s1SWy)","v":false},{"$f":"IF(AND($D$4=TRUE,$C$8=ListsFlags!$A$13),$D$5+(s1rad*(SIN(PI()*Circ!A4/180))),NA())","v":{"$error":"#N/A"}},{"$f":"IF(AND($D$4=TRUE,$C$8=ListsFlags!$A$13),$D$6+(s1rad*(COS(PI()*Circ!A4/180))),NA())","v":{"$error":"#N/A"}},"E",2,{"$f":"ISNUMBER(s2SWy)","v":false},{"$f":"IF(AND($I$4=TRUE,$H$8=ListsFlags!$A$13),$I$5+(s2rad*(SIN(PI()*A4/180))),NA())","v":{"$error":"#N/A"}},{"$f":"IF(AND($I$4=TRUE,$H$8=ListsFlags!$A$13),$I$6+(s2rad*(COS(PI()*A4/180))),NA())","v":{"$error":"#N/A"}},3,{"$f":"ISNUMBER(s3SWy)","v":false},{"$f":"IF(AND($M$4=TRUE,$L$8=ListsFlags!$A$13),$M$5+(s3rad*(SIN(PI()*A4/180))),NA())","v":{"$error":"#N/A"}},{"$f":"IF(AND($M$4=TRUE,$L$8=ListsFlags!$A$13),$M$6+(s3rad*(COS(PI()*A4/180))),NA())","v":{"$error":"#N/A"}},4,{"$f":"ISNUMBER(s4SWy)","v":false},{"$f":"IF(AND($Q$4=TRUE,$P$8=ListsFlags!$A$13),$Q$5+(s4rad*(SIN(PI()*A4/180))),NA())","v":{"$error":"#N/A"}},{"$f":"IF(AND($Q$4=TRUE,$P$8=ListsFlags!$A$13),$Q$6+(s4rad*(COS(PI()*A4/180))),NA())","v":{"$error":"#N/A"}},5,{"$f":"ISNUMBER(s5SWy)","v":false},{"$f":"IF(AND($U$4=TRUE,$T$8=ListsFlags!$A$13),$U$5+(s5rad*(SIN(PI()*A4/180))),NA())","v":{"$error":"#N/A"}},{"$f":"IF(AND($U$4=TRUE,$T$8=ListsFlags!$A$13),$U$6+(s5rad*(COS(PI()*A4/180))),NA())","v":{"$error":"#N/A"}},6,{"$f":"ISNUMBER(s6SWy)","v":false},{"$f":"IF(AND($Y$4=TRUE,$X$8=ListsFlags!$A$13),$Y$5+(s6rad*(SIN(PI()*A4/180))),NA())","v":{"$error":"#N/A"}},{"$f":"IF(AND($Y$4=TRUE,$X$8=ListsFlags!$A$13),$Y$6+(s6rad*(COS(PI()*A4/180))),NA())","v":{"$error":"#N/A"}},7,{"$f":"ISNUMBER(s7SWy)","v":false},{"$f":"IF(AND($AC$4=TRUE,$AB$8=ListsFlags!$A$13),$AC$5+(s7rad*(SIN(PI()*A4/180))),NA())","v":{"$error":"#N/A"}},{"$f":"IF(AND($AC$4=TRUE,$AB$8=ListsFlags!$A$13),$AC$6+(s7rad*(COS(PI()*A4/180))),NA())","v":{"$error":"#N/A"}},8,{"$f":"ISNUMBER(s8SWy)","v":false},{"$f":"IF(AND($AG$4=TRUE,$AF$8=ListsFlags!$A$13),$AG$5+(s8rad*(SIN(PI()*A4/180))),NA())","v":{"$error":"#N/A"}},{"$f":"IF(AND($AG$4=TRUE,$AF$8=ListsFlags!$A$13),$AG$6+(s8rad*(COS(PI()*A4/180))),NA())","v":{"$error":"#N/A"}},9,{"$f":"ISNUMBER(s9SWy)","v":false},{"$f":"IF(AND($AK$4=TRUE,$AJ$8=ListsFlags!$A$13),$AK$5+(s9rad*(SIN(PI()*A4/180))),NA())","v":{"$error":"#N/A"}},{"$f":"IF(AND($AK$4=TRUE,$AJ$8=ListsFlags!$A$13),$AK$6+(s9rad*(COS(PI()*A4/180))),NA())","v":{"$error":"#N/A"}},10,{"$f":"ISNUMBER(s10SWy)","v":false},{"$f":"IF(AND($AO$4=TRUE,$AN$8=ListsFlags!$A$13),$AO$5+(s10rad*(SIN(PI()*A4/180))),NA())","v":{"$error":"#N/A"}},{"$f":"IF(AND($AO$4=TRUE,$AN$8=ListsFlags!$A$13),$AO$6+(s10rad*(COS(PI()*A4/180))),NA())","v":{"$error":"#N/A"}},"Std Circle",{"$f":"ISNUMBER(circleradius)","v":true},{"$f":"IF($AS$4=TRUE,$AS$5+(circleradius*(SIN(PI()*A4/180))),\"\")","v":{"$error":"#DIV/0!"}},{"$f":"IF($AS$4=TRUE,$AS$6+(circleradius*(COS(PI()*A4/180))),\"\")","v":{"$error":"#DIV/0!"}},{"$f":"AU22","v":{"$error":"#DIV/0!"}},{"$f":"AT22","v":{"$error":"#DIV/0!"}},{"$f":"IF(circleplot=\"yes\",\" \"&circleradius&\"'\",\"\")","v":" 2640'"},{"$f":"IF(AND(AT4=0,AU4=0),sitelatitude,(DEGREES(ASIN(SIN(RADIANS(sitelatitude))*COS((SQRT(AT4^2+AU4^2)/3.28)/RadiusEarth)+COS(RADIANS(sitelatitude))*SIN((SQRT(AT4^2+AU4^2)/3.28)/RadiusEarth)*COS(RADIANS((IF(AU4>=0,DEGREES(ATAN2(AT4,AU4)),360+DEGREES(ATAN2(AT4,AU4))))))))))","v":{"$error":"#DIV/0!"}},{"$f":"sitelongitude+IF(AND(AT4=0,AU4=0),0,DEGREES(ATAN2(COS((SQRT(AT4^2+AU4^2)/3.28)/RadiusEarth)-SIN(RADIANS(sitelatitude))*SIN(RADIANS(AY4)),SIN(RADIANS((IF(AU4>=0,DEGREES(ATAN2(AT4,AU4)),360+DEGREES(ATAN2(AT4,AU4))))))*SIN((SQRT(AT4^2+AU4^2)/3.28)/RadiusEarth)*COS(RADIANS(sitelatitude)))))","v":{"$error":"#DIV/0!"}}]
[5,null,"N Cgeo",{"$f":"IF(C8=\"circle\",Model!$C15,\"\")","v":""},{"$f":"IF(AND($D$4=TRUE,$C$8=ListsFlags!$A$13),$D$5+(s1rad*(SIN(PI()*Circ!A5/180))),NA())","v":{"$error":"#N/A"}},{"$f":"IF(AND($D$4=TRUE,$C$8=ListsFlags!$A$13),$D$6+(s1rad*(COS(PI()*Circ!A5/180))),NA())","v":{"$error":"#N/A"}},null,"N Cgeo",{"$f":"IF(H8=\"circle\",Model!$C16,\"\")","v":""},{"$f":"IF(AND($I$4=TRUE,$H$8=ListsFlags!$A$13),$I$5+(s2rad*(SIN(PI()*A5/180))),NA())","v":{"$error":"#N/A"}},{"$f":"IF(AND($I$4=TRUE,$H$8=ListsFlags!$A$13),$I$6+(s2rad*(COS(PI()*A5/180))),NA())","v":{"$error":"#N/A"}},"N Cgeo",{"$f":"IF(L8=\"circle\",Model!$C17,\"\")","v":""},{"$f":"IF(AND($M$4=TRUE,$L$8=ListsFlags!$A$13),$M$5+(s3rad*(SIN(PI()*A5/180))),NA())","v":{"$error":"#N/A"}},{"$f":"IF(AND($M$4=TRUE,$L$8=ListsFlags!$A$13),$M$6+(s3rad*(COS(PI()*A5/180))),NA())","v":{"$error":"#N/A"}},"N Cgeo",{"$f":"IF(P8=\"circle\",Model!$C18,\"\")","v":""},{"$f":"IF(AND($Q$4=TRUE,$P$8=ListsFlags!$A$13),$Q$5+(s4rad*(SIN(PI()*A5/180))),NA())","v":{"$error":"#N/A"}},{"$f":"IF(AND($Q$4=TRUE,$P$8=ListsFlags!$A$13),$Q$6+(s4rad*(COS(PI()*A5/180))),NA())","v":{"$error":"#N/A"}},"N Cgeo",{"$f":"IF(T8=\"circle\",Model!$C19,\"\")","v":""},{"$f":"IF(AND($U$4=TRUE,$T$8=ListsFlags!$A$13),$U$5+(s5rad*(SIN(PI()*A5/180))),NA())","v":{"$error":"#N/A"}},{"$f":"IF(AND($U$4=TRUE,$T$8=ListsFlags!$A$13),$U$6+(s5rad*(COS(PI()*A5/180))),NA())","v":{"$error":"#N/A"}},"N Cgeo",{"$f":"IF(X8=\"circle\",Model!$C20,\"\")","v":""},{"$f":"IF(AND($Y$4=TRUE,$X$8=ListsFlags!$A$13),$Y$5+(s6rad*(SIN(PI()*A5/180))),NA())","v":{"$error":"#N/A"}},{"$f":"IF(AND($Y$4=TRUE,$X$8=ListsFlags!$A$13),$Y$6+(s6rad*(COS(PI()*A5/180))),NA())","v":{"$error":"#N/A"}},"N Cgeo",{"$f":"IF(AB8=\"circle\",Model!$C21,\"\")","v":""},{"$f":"IF(AND($AC$4=TRUE,$AB$8=ListsFlags!$A$13),$AC$5+(s7rad*(SIN(PI()*A5/180))),NA())","v":{"$error":"#N/A"}},{"$f":"IF(AND($AC$4=TRUE,$AB$8=ListsFlags!$A$13),$AC$6+(s7rad*(COS(PI()*A5/180))),NA())","v":{"$error":"#N/A"}},"N Cgeo",{"$f":"IF(AF8=\"circle\",Model!$C22,\"\")","v":""},{"$f":"IF(AND($AG$4=TRUE,$AF$8=ListsFlags!$A$13),$AG$5+(s8rad*(SIN(PI()*A5/180))),NA())","v":{"$error":"#N/A"}},{"$f":"IF(AND($AG$4=TRUE,$AF$8=ListsFlags!$A$13),$AG$6+(s8rad*(COS(PI()*A5/180))),NA())","v":{"$error":"#N/A"}},"N Cgeo",{"$f":"IF(AJ8=\"circle\",Model!$C23,\"\")","v":""},{"$f":"IF(AND($AK$4=TRUE,$AJ$8=ListsFlags!$A$13),$AK$5+(s9rad*(SIN(PI()*A5/180))),NA())","v":{"$error":"#N/A"}},{"$f":"IF(AND($AK$4=TRUE,$AJ$8=ListsFlags!$A$13),$AK$6+(s9rad*(COS(PI()*A5/180))),NA())","v":{"$error":"#N/A"}},"N Cgeo",{"$f":"IF(AN8=\"circle\",Model!$C24,\"\")","v":""},{"$f":"IF(AND($AO$4=TRUE,$AN$8=ListsFlags!$A$13),$AO$5+(s10rad*(SIN(PI()*A5/180))),NA())","v":{"$error":"#N/A"}},{"$f":"IF(AND($AO$4=TRUE,$AN$8=ListsFlags!$A$13),$AO$6+(s10rad*(COS(PI()*A5/180))),NA())","v":{"$error":"#N/A"}},"N Cgeo",{"$f":"IF(AR8=\"yes\",Center_Site_Geo_N-com_diff_N,\"\")","v":{"$error":"#DIV/0!"}},{"$error":"#DIV/0!"},{"$error":"#DIV/0!"},null,null,null,{"$error":"#DIV/0!"},{"$error":"#DIV/0!"}]
[10,null,"E Cgeo",{"$f":"IF(C8=\"circle\",Model!$D15,\"\")","v":""},{"$f":"IF(AND($D$4=TRUE,$C$8=ListsFlags!$A$13),$D$5+(s1rad*(SIN(PI()*Circ!A6/180))),NA())","v":{"$error":"#N/A"}},{"$f":"IF(AND($D$4=TRUE,$C$8=ListsFlags!$A$13),$D$6+(s1rad*(COS(PI()*Circ!A6/180))),NA())","v":{"$error":"#N/A"}},null,"E Cgeo",{"$f":"IF(H8=\"circle\",Model!$D16,\"\")","v":""},{"$f":"IF(AND($I$4=TRUE,$H$8=ListsFlags!$A$13),$I$5+(s2rad*(SIN(PI()*A6/180))),NA())","v":{"$error":"#N/A"}},{"$f":"IF(AND($I$4=TRUE,$H$8=ListsFlags!$A$13),$I$6+(s2rad*(COS(PI()*A6/180))),NA())","v":{"$error":"#N/A"}},"E Cgeo",{"$f":"IF(L8=\"circle\",Model!$D17,\"\")","v":""},{"$f":"IF(AND($M$4=TRUE,$L$8=ListsFlags!$A$13),$M$5+(s3rad*(SIN(PI()*A6/180))),NA())","v":{"$error":"#N/A"}},{"$f":"IF(AND($M$4=TRUE,$L$8=ListsFlags!$A$13),$M$6+(s3rad*(COS(PI()*A6/180))),NA())","v":{"$error":"#N/A"}},"E Cgeo",{"$f":"IF(P8=\"circle\",Model!$D18,\"\")","v":""},{"$f":"IF(AND($Q$4=TRUE,$P$8=ListsFlags!$A$13),$Q$5+(s4rad*(SIN(PI()*A6/180))),NA())","v":{"$error":"#N/A"}},{"$f":"IF(AND($Q$4=TRUE,$P$8=ListsFlags!$A$13),$Q$6+(s4rad*(COS(PI()*A6/180))),NA())","v":{"$error":"#N/A"}},"E Cgeo",{"$f":"IF(T8=\"circle\",Model!$D19,\"\")","v":""},{"$f":"IF(AND($U$4=TRUE,$T$8=ListsFlags!$A$13),$U$5+(s5rad*(SIN(PI()*A6/180))),NA())","v":{"$error":"#N/A"}},{"$f":"IF(AND($U$4=TRUE,$T$8=ListsFlags!$A$13),$U$6+(s5rad*(COS(PI()*A6/180))),NA())","v":{"$error":"#N/A"}},"E Cgeo",{"$f":"IF(X8=\"circle\",Model!$D20,\"\")","v":""},{"$f":"IF(AND($Y$4=TRUE,$X$8=ListsFlags!$A$13),$Y$5+(s6rad*(SIN(PI()*A6/180))),NA())","v":{"$error":"#N/A"}},{"$f":"IF(AND($Y$4=TRUE,$X$8=ListsFlags!$A$13),$Y$6+(s6rad*(COS(PI()*A6/180))),NA())","v":{"$error":"#N/A"}},"E Cgeo",{"$f":"IF(AB8=\"circle\",Model!$D21,\"\")","v":""},{"$f":"IF(AND($AC$4=TRUE,$AB$8=ListsFlags!$A$13),$AC$5+(s7rad*(SIN(PI()*A6/180))),NA())","v":{"$error":"#N/A"}},{"$f":"IF(AND($AC$4=TRUE,$AB$8=ListsFlags!$A$13),$AC$6+(s7rad*(COS(PI()*A6/180))),NA())","v":{"$error":"#N/A"}},"E Cgeo",{"$f":"IF(AF8=\"circle\",Model!$D22,\"\")","v":""},{"$f":"IF(AND($AG$4=TRUE,$AF$8=ListsFlags!$A$13),$AG$5+(s8rad*(SIN(PI()*A6/180))),NA())","v":{"$error":"#N/A"}},{"$f":"IF(AND($AG$4=TRUE,$AF$8=ListsFlags!$A$13),$AG$6+(s8rad*(COS(PI()*A6/180))),NA())","v":{"$error":"#N/A"}},"E Cgeo",{"$f":"IF(AJ8=\"circle\",Model!$D23,\"\")","v":""},{"$f":"IF(AND($AK$4=TRUE,$AJ$8=ListsFlags!$A$13),$AK$5+(s9rad*(SIN(PI()*A6/180))),NA())","v":{"$error":"#N/A"}},{"$f":"IF(AND($AK$4=TRUE,$AJ$8=ListsFlags!$A$13),$AK$6+(s9rad*(COS(PI()*A6/180))),NA())","v":{"$error":"#N/A"}},"E Cgeo",{"$f":"IF(AN8=\"circle\",Model!$D24,\"\")","v":""},{"$f":"IF(AND($AO$4=TRUE,$AN$8=ListsFlags!$A$13),$AO$5+(s10rad*(SIN(PI()*A6/180))),NA())","v":{"$error":"#N/A"}},{"$f":"IF(AND($AO$4=TRUE,$AN$8=ListsFlags!$A$13),$AO$6+(s10rad*(COS(PI()*A6/180))),NA())","v":{"$error":"#N/A"}},"E Cgeo",{"$f":"IF(AR8=\"yes\",Center_Site_Geo_E-com_diff_E,\"\")","v":{"$error":"#DIV/0!"}},{"$error":"#DIV/0!"},{"$error":"#DIV/0!"},null,null,null,{"$error":"#DIV/0!"},{"$error":"#DIV/0!"}]
[15,null,null,null,{"$f":"IF(AND($D$4=TRUE,$C$8=ListsFlags!$A$13),$D$5+(s1rad*(SIN(PI()*Circ!A7/180))),NA())","v":{"$error":"#N/A"}},{"$f":"IF(AND($D$4=TRUE,$C$8=ListsFlags!$A$13),$D$6+(s1rad*(COS(PI()*Circ!A7/180))),NA())","v":{"$error":"#N/A"}},null,null,null,{"$f":"IF(AND($I$4=TRUE,$H$8=ListsFlags!$A$13),$I$5+(s2rad*(SIN(PI()*A7/180))),NA())","v":{"$error":"#N/A"}},{"$f":"IF(AND($I$4=TRUE,$H$8=ListsFlags!$A$13),$I$6+(s2rad*(COS(PI()*A7/180))),NA())","v":{"$error":"#N/A"}},null,null,{"$f":"IF(AND($M$4=TRUE,$L$8=ListsFlags!$A$13),$M$5+(s3rad*(SIN(PI()*A7/180))),NA())","v":{"$error":"#N/A"}},{"$f":"IF(AND($M$4=TRUE,$L$8=ListsFlags!$A$13),$M$6+(s3rad*(COS(PI()*A7/180))),NA())","v":{"$error":"#N/A"}},null,null,{"$f":"IF(AND($Q$4=TRUE,$P$8=ListsFlags!$A$13),$Q$5+(s4rad*(SIN(PI()*A7/180))),NA())","v":{"$error":"#N/A"}},{"$f":"IF(AND($Q$4=TRUE,$P$8=ListsFlags!$A$13),$Q$6+(s4rad*(COS(PI()*A7/180))),NA())","v":{"$error":"#N/A"}},null,null,{"$f":"IF(AND($U$4=TRUE,$T$8=ListsFlags!$A$13),$U$5+(s5rad*(SIN(PI()*A7/180))),NA())","v":{"$error":"#N/A"}},{"$f":"IF(AND($U$4=TRUE,$T$8=ListsFlags!$A$13),$U$6+(s5rad*(COS(PI()*A7/180))),NA())","v":{"$error":"#N/A"}},null,null,{"$f":"IF(AND($Y$4=TRUE,$X$8=ListsFlags!$A$13),$Y$5+(s6rad*(SIN(PI()*A7/180))),NA())","v":{"$error":"#N/A"}},{"$f":"IF(AND($Y$4=TRUE,$X$8=ListsFlags!$A$13),$Y$6+(s6rad*(COS(PI()*A7/180))),NA())","v":{"$error":"#N/A"}},null,null,{"$f":"IF(AND($AC$4=TRUE,$AB$8=ListsFlags!$A$13),$AC$5+(s7rad*(SIN(PI()*A7/180))),NA())","v":{"$error":"#N/A"}},{"$f":"IF(AND($AC$4=TRUE,$AB$8=ListsFlags!$A$13),$AC$6+(s7rad*(COS(PI()*A7/180))),NA())","v":{"$error":"#N/A"}},null,null,{"$f":"IF(AND($AG$4=TRUE,$AF$8=ListsFlags!$A$13),$AG$5+(s8rad*(SIN(PI()*A7/180))),NA())","v":{"$error":"#N/A"}},{"$f":"IF(AND($AG$4=TRUE,$AF$8=ListsFlags!$A$13),$AG$6+(s8rad*(COS(PI()*A7/180))),NA())","v":{"$error":"#N/A"}},null,null,{"$f":"IF(AND($AK$4=TRUE,$AJ$8=ListsFlags!$A$13),$AK$5+(s9rad*(SIN(PI()*A7/180))),NA())","v":{"$error":"#N/A"}},{"$f":"IF(AND($AK$4=TRUE,$AJ$8=ListsFlags!$A$13),$AK$6+(s9rad*(COS(PI()*A7/180))),NA())","v":{"$error":"#N/A"}},null,null,{"$f":"IF(AND($AO$4=TRUE,$AN$8=ListsFlags!$A$13),$AO$5+(s10rad*(SIN(PI()*A7/180))),NA())","v":{"$error":"#N/A"}},{"$f":"IF(AND($AO$4=TRUE,$AN$8=ListsFlags!$A$13),$AO$6+(s10rad*(COS(PI()*A7/180))),NA())","v":{"$error":"#N/A"}},null,null,{"$error":"#DIV/0!"},{"$error":"#DIV/0!"},null,null,null,{"$error":"#DIV/0!"},{"$error":"#DIV/0!"}]
[20,null,{"$f":"IF(s1shape=\"\",\"\",s1shape)","v":""},null,{"$f":"IF(AND($D$4=TRUE,$C$8=ListsFlags!$A$13),$D$5+(s1rad*(SIN(PI()*Circ!A8/180))),NA())","v":{"$error":"#N/A"}},{"$f":"IF(AND($D$4=TRUE,$C$8=ListsFlags!$A$13),$D$6+(s1rad*(COS(PI()*Circ!A8/180))),NA())","v":{"$error":"#N/A"}},null,{"$f":"IF(s2shape=\"\",\"\",s2shape)","v":""},null,{"$f":"IF(AND($I$4=TRUE,$H$8=ListsFlags!$A$13),$I$5+(s2rad*(SIN(PI()*A8/180))),NA())","v":{"$error":"#N/A"}},{"$f":"IF(AND($I$4=TRUE,$H$8=ListsFlags!$A$13),$I$6+(s2rad*(COS(PI()*A8/180))),NA())","v":{"$error":"#N/A"}},{"$f":"IF(s3shape=\"\",\"\",s3shape)","v":""},null,{"$f":"IF(AND($M$4=TRUE,$L$8=ListsFlags!$A$13),$M$5+(s3rad*(SIN(PI()*A8/180))),NA())","v":{"$error":"#N/A"}},{"$f":"IF(AND($M$4=TRUE,$L$8=ListsFlags!$A$13),$M$6+(s3rad*(COS(PI()*A8/180))),NA())","v":{"$error":"#N/A"}},{"$f":"IF(s4shape=\"\",\"\",s4shape)","v":""},null,{"$f":"IF(AND($Q$4=TRUE,$P$8=ListsFlags!$A$13),$Q$5+(s4rad*(SIN(PI()*A8/180))),NA())","v":{"$error":"#N/A"}},{"$f":"IF(AND($Q$4=TRUE,$P$8=ListsFlags!$A$13),$Q$6+(s4rad*(COS(PI()*A8/180))),NA())","v":{"$error":"#N/A"}},{"$f":"IF(s5shape=\"\",\"\",s5shape)","v":""},null,{"$f":"IF(AND($U$4=TRUE,$T$8=ListsFlags!$A$13),$U$5+(s5rad*(SIN(PI()*A8/180))),NA())","v":{"$error":"#N/A"}},{"$f":"IF(AND($U$4=TRUE,$T$8=ListsFlags!$A$13),$U$6+(s5rad*(COS(PI()*A8/180))),NA())","v":{"$error":"#N/A"}},{"$f":"IF(s6shape=\"\",\"\",s6shape)","v":""},null,{"$f":"IF(AND($Y$4=TRUE,$X$8=ListsFlags!$A$13),$Y$5+(s6rad*(SIN(PI()*A8/180))),NA())","v":{"$error":"#N/A"}},{"$f":"IF(AND($Y$4=TRUE,$X$8=ListsFlags!$A$13),$Y$6+(s6rad*(COS(PI()*A8/180))),NA())","v":{"$error":"#N/A"}},{"$f":"IF(s7shape=\"\",\"\",s7shape)","v":""},null,{"$f":"IF(AND($AC$4=TRUE,$AB$8=ListsFlags!$A$13),$AC$5+(s7rad*(SIN(PI()*A8/180))),NA())","v":{"$error":"#N/A"}},{"$f":"IF(AND($AC$4=TRUE,$AB$8=ListsFlags!$A$13),$AC$6+(s7rad*(COS(PI()*A8/180))),NA())","v":{"$error":"#N/A"}},{"$f":"IF(s8shape=\"\",\"\",s8shape)","v":""},null,{"$f":"IF(AND($AG$4=TRUE,$AF$8=ListsFlags!$A$13),$AG$5+(s8rad*(SIN(PI()*A8/180))),NA())","v":{"$error":"#N/A"}},{"$f":"IF(AND($AG$4=TRUE,$AF$8=ListsFlags!$A$13),$AG$6+(s8rad*(COS(PI()*A8/180))),NA())","v":{"$error":"#N/A"}},{"$f":"IF(s9shape=\"\",\"\",s9shape)","v":""},null,{"$f":"IF(AND($AK$4=TRUE,$AJ$8=ListsFlags!$A$13),$AK$5+(s9rad*(SIN(PI()*A8/180))),NA())","v":{"$error":"#N/A"}},{"$f":"IF(AND($AK$4=TRUE,$AJ$8=ListsFlags!$A$13),$AK$6+(s9rad*(COS(PI()*A8/180))),NA())","v":{"$error":"#N/A"}},{"$f":"IF(s10shape=\"\",\"\",s10shape)","v":""},null,{"$f":"IF(AND($AO$4=TRUE,$AN$8=ListsFlags!$A$13),$AO$5+(s10rad*(SIN(PI()*A8/180))),NA())","v":{"$error":"#N/A"}},{"$f":"IF(AND($AO$4=TRUE,$AN$8=ListsFlags!$A$13),$AO$6+(s10rad*(COS(PI()*A8/180))),NA())","v":{"$error":"#N/A"}},{"$f":"circleplot","v":"Yes"},null,{"$error":"#DIV/0!"},{"$error":"#DIV/0!"},null,null,null,{"$error":"#DIV/0!"},{"$error":"#DIV/0!"}]
[25,null,null,null,{"$f":"IF(AND($D$4=TRUE,$C$8=ListsFlags!$A$13),$D$5+(s1rad*(SIN(PI()*Circ!A9/180))),NA())","v":{"$error":"#N/A"}},{"$f":"IF(AND($D$4=TRUE,$C$8=ListsFlags!$A$13),$D$6+(s1rad*(COS(PI()*Circ!A9/180))),NA())","v":{"$error":"#N/A"}},null,null,null,{"$f":"IF(AND($I$4=TRUE,$H$8=ListsFlags!$A$13),$I$5+(s2rad*(SIN(PI()*A9/180))),NA())","v":{"$error":"#N/A"}},{"$f":"IF(AND($I$4=TRUE,$H$8=ListsFlags!$A$13),$I$6+(s2rad*(COS(PI()*A9/180))),NA())","v":{"$error":"#N/A"}},null,null,{"$f":"IF(AND($M$4=TRUE,$L$8=ListsFlags!$A$13),$M$5+(s3rad*(SIN(PI()*A9/180))),NA())","v":{"$error":"#N/A"}},{"$f":"IF(AND($M$4=TRUE,$L$8=ListsFlags!$A$13),$M$6+(s3rad*(COS(PI()*A9/180))),NA())","v":{"$error":"#N/A"}},null,null,{"$f":"IF(AND($Q$4=TRUE,$P$8=ListsFlags!$A$13),$Q$5+(s4rad*(SIN(PI()*A9/180))),NA())","v":{"$error":"#N/A"}},{"$f":"IF(AND($Q$4=TRUE,$P$8=ListsFlags!$A$13),$Q$6+(s4rad*(COS(PI()*A9/180))),NA())","v":{"$error":"#N/A"}},null,null,{"$f":"IF(AND($U$4=TRUE,$T$8=ListsFlags!$A$13),$U$5+(s5rad*(SIN(PI()*A9/180))),NA())","v":{"$error":"#N/A"}},{"$f":"IF(AND($U$4=TRUE,$T$8=ListsFlags!$A$13),$U$6+(s5rad*(COS(PI()*A9/180))),NA())","v":{"$error":"#N/A"}},null,null,{"$f":"IF(AND($Y$4=TRUE,$X$8=ListsFlags!$A$13),$Y$5+(s6rad*(SIN(PI()*A9/180))),NA())","v":{"$error":"#N/A"}},{"$f":"IF(AND($Y$4=TRUE,$X$8=ListsFlags!$A$13),$Y$6+(s6rad*(COS(PI()*A9/180))),NA())","v":{"$error":"#N/A"}},null,null,{"$f":"IF(AND($AC$4=TRUE,$AB$8=ListsFlags!$A$13),$AC$5+(s7rad*(SIN(PI()*A9/180))),NA())","v":{"$error":"#N/A"}},{"$f":"IF(AND($AC$4=TRUE,$AB$8=ListsFlags!$A$13),$AC$6+(s7rad*(COS(PI()*A9/180))),NA())","v":{"$error":"#N/A"}},null,null,{"$f":"IF(AND($AG$4=TRUE,$AF$8=ListsFlags!$A$13),$AG$5+(s8rad*(SIN(PI()*A9/180))),NA())","v":{"$error":"#N/A"}},{"$f":"IF(AND($AG$4=TRUE,$AF$8=ListsFlags!$A$13),$AG$6+(s8rad*(COS(PI()*A9/180))),NA())","v":{"$error":"#N/A"}},null,null,{"$f":"IF(AND($AK$4=TRUE,$AJ$8=ListsFlags!$A$13),$AK$5+(s9rad*(SIN(PI()*A9/180))),NA())","v":{"$error":"#N/A"}},{"$f":"IF(AND($AK$4=TRUE,$AJ$8=ListsFlags!$A$13),$AK$6+(s9rad*(COS(PI()*A9/180))),NA())","v":{"$error":"#N/A"}},null,null,{"$f":"IF(AND($AO$4=TRUE,$AN$8=ListsFlags!$A$13),$AO$5+(s10rad*(SIN(PI()*A9/180))),NA())","v":{"$error":"#N/A"}},{"$f":"IF(AND($AO$4=TRUE,$AN$8=ListsFlags!$A$13),$AO$6+(s10rad*(COS(PI()*A9/180))),NA())","v":{"$error":"#N/A"}},null,null,{"$error":"#DIV/0!"},{"$error":"#DIV/0!"},null,null,null,{"$error":"#DIV/0!"},{"$error":"#DIV/0!"}]
[30,"W",{"$f":"E40","v":{"$error":"#N/A"}},{"$f":"F40","v":{"$error":"#N/A"}},{"$f":"IF(AND($D$4=TRUE,$C$8=ListsFlags!$A$13),$D$5+(s1rad*(SIN(PI()*Circ!A10/180))),NA())","v":{"$error":"#N/A"}},{"$f":"IF(AND($D$4=TRUE,$C$8=ListsFlags!$A$13),$D$6+(s1rad*(COS(PI()*Circ!A10/180))),NA())","v":{"$error":"#N/A"}},null,{"$f":"J40","v":{"$error":"#N/A"}},{"$f":"K40","v":{"$error":"#N/A"}},{"$f":"IF(AND($I$4=TRUE,$H$8=ListsFlags!$A$13),$I$5+(s2rad*(SIN(PI()*A10/180))),NA())","v":{"$error":"#N/A"}},{"$f":"IF(AND($I$4=TRUE,$H$8=ListsFlags!$A$13),$I$6+(s2rad*(COS(PI()*A10/180))),NA())","v":{"$error":"#N/A"}},{"$f":"N40","v":{"$error":"#N/A"}},{"$f":"O40","v":{"$error":"#N/A"}},{"$f":"IF(AND($M$4=TRUE,$L$8=ListsFlags!$A$13),$M$5+(s3rad*(SIN(PI()*A10/180))),NA())","v":{"$error":"#N/A"}},{"$f":"IF(AND($M$4=TRUE,$L$8=ListsFlags!$A$13),$M$6+(s3rad*(COS(PI()*A10/180))),NA())","v":{"$error":"#N/A"}},{"$f":"R40","v":{"$error":"#N/A"}},{"$f":"S40","v":{"$error":"#N/A"}},{"$f":"IF(AND($Q$4=TRUE,$P$8=ListsFlags!$A$13),$Q$5+(s4rad*(SIN(PI()*A10/180))),NA())","v":{"$error":"#N/A"}},{"$f":"IF(AND($Q$4=TRUE,$P$8=ListsFlags!$A$13),$Q$6+(s4rad*(COS(PI()*A10/180))),NA())","v":{"$error":"#N/A"}},{"$f":"V40","v":{"$error":"#N/A"}},{"$f":"W40","v":{"$error":"#N/A"}},{"$f":"IF(AND($U$4=TRUE,$T$8=ListsFlags!$A$13),$U$5+(s5rad*(SIN(PI()*A10/180))),NA())","v":{"$error":"#N/A"}},{"$f":"IF(AND($U$4=TRUE,$T$8=ListsFlags!$A$13),$U$6+(s5rad*(COS(PI()*A10/180))),NA())","v":{"$error":"#N/A"}},{"$f":"Z40","v":{"$error":"#N/A"}},{"$f":"AA40","v":{"$error":"#N/A"}},{"$f":"IF(AND($Y$4=TRUE,$X$8=ListsFlags!$A$13),$Y$5+(s6rad*(SIN(PI()*A10/180))),NA())","v":{"$error":"#N/A"}},{"$f":"IF(AND($Y$4=TRUE,$X$8=ListsFlags!$A$13),$Y$6+(s6rad*(COS(PI()*A10/180))),NA())","v":{"$error":"#N/A"}},{"$f":"AD40","v":{"$error":"#N/A"}},{"$f":"AE40","v":{"$error":"#N/A"}},{"$f":"IF(AND($AC$4=TRUE,$AB$8=ListsFlags!$A$13),$AC$5+(s7rad*(SIN(PI()*A10/180))),NA())","v":{"$error":"#N/A"}},{"$f":"IF(AND($AC$4=TRUE,$AB$8=ListsFlags!$A$13),$AC$6+(s7rad*(COS(PI()*A10/180))),NA())","v":{"$error":"#N/A"}},{"$f":"AH40","v":{"$error":"#N/A"}},{"$f":"AI40","v":{"$error":"#N/A"}},{"$f":"IF(AND($AG$4=TRUE,$AF$8=ListsFlags!$A$13),$AG$5+(s8rad*(SIN(PI()*A10/180))),NA())","v":{"$error":"#N/A"}},{"$f":"IF(AND($AG$4=TRUE,$AF$8=ListsFlags!$A$13),$AG$6+(s8rad*(COS(PI()*A10/180))),NA())","v":{"$error":"#N/A"}},{"$f":"AL40","v":{"$error":"#N/A"}},{"$f":"AM40","v":{"$error":"#N/A"}},{"$f":"IF(AND($AK$4=TRUE,$AJ$8=ListsFlags!$A$13),$AK$5+(s9rad*(SIN(PI()*A10/180))),NA())","v":{"$error":"#N/A"}},{"$f":"IF(AND($AK$4=TRUE,$AJ$8=ListsFlags!$A$13),$AK$6+(s9rad*(COS(PI()*A10/180))),NA())","v":{"$error":"#N/A"}},{"$f":"AP40","v":{"$error":"#N/A"}},{"$f":"AQ40","v":{"$error":"#N/A"}},{"$f":"IF(AND($AO$4=TRUE,$AN$8=ListsFlags!$A$13),$AO$5+(s10rad*(SIN(PI()*A10/180))),NA())","v":{"$error":"#N/A"}},{"$f":"IF(AND($AO$4=TRUE,$AN$8=ListsFlags!$A$13),$AO$6+(s10rad*(COS(PI()*A10/180))),NA())","v":{"$error":"#N/A"}},{"$f":"AT40","v":{"$error":"#DIV/0!"}},{"$f":"AU40","v":{"$error":"#DIV/0!"}},{"$error":"#DIV/0!"},{"$error":"#DIV/0!"},null,null,null,{"$error":"#DIV/0!"},{"$error":"#DIV/0!"}]
[35,"NW",{"$f":"E31","v":{"$error":"#N/A"}},{"$f":"F31","v":{"$error":"#N/A"}},{"$f":"IF(AND($D$4=TRUE,$C$8=ListsFlags!$A$13),$D$5+(s1rad*(SIN(PI()*Circ!A11/180))),NA())","v":{"$error":"#N/A"}},{"$f":"IF(AND($D$4=TRUE,$C$8=ListsFlags!$A$13),$D$6+(s1rad*(COS(PI()*Circ!A11/180))),NA())","v":{"$error":"#N/A"}},null,{"$f":"J31","v":{"$error":"#N/A"}},{"$f":"K31","v":{"$error":"#N/A"}},{"$f":"IF(AND($I$4=TRUE,$H$8=ListsFlags!$A$13),$I$5+(s2rad*(SIN(PI()*A11/180))),NA())","v":{"$error":"#N/A"}},{"$f":"IF(AND($I$4=TRUE,$H$8=ListsFlags!$A$13),$I$6+(s2rad*(COS(PI()*A11/180))),NA())","v":{"$error":"#N/A"}},{"$f":"N31","v":{"$error":"#N/A"}},{"$f":"O31","v":{"$error":"#N/A"}},{"$f":"IF(AND($M$4=TRUE,$L$8=ListsFlags!$A$13),$M$5+(s3rad*(SIN(PI()*A11/180))),NA())","v":{"$error":"#N/A"}},{"$f":"IF(AND($M$4=TRUE,$L$8=ListsFlags!$A$13),$M$6+(s3rad*(COS(PI()*A11/180))),NA())","v":{"$error":"#N/A"}},{"$f":"R31","v":{"$error":"#N/A"}},{"$f":"S31","v":{"$error":"#N/A"}},{"$f":"IF(AND($Q$4=TRUE,$P$8=ListsFlags!$A$13),$Q$5+(s4rad*(SIN(PI()*A11/180))),NA())","v":{"$error":"#N/A"}},{"$f":"IF(AND($Q$4=TRUE,$P$8=ListsFlags!$A$13),$Q$6+(s4rad*(COS(PI()*A11/180))),NA())","v":{"$error":"#N/A"}},{"$f":"V31","v":{"$error":"#N/A"}},{"$f":"W31","v":{"$error":"#N/A"}},{"$f":"IF(AND($U$4=TRUE,$T$8=ListsFlags!$A$13),$U$5+(s5rad*(SIN(PI()*A11/180))),NA())","v":{"$error":"#N/A"}},{"$f":"IF(AND($U$4=TRUE,$T$8=ListsFlags!$A$13),$U$6+(s5rad*(COS(PI()*A11/180))),NA())","v":{"$error":"#N/A"}},{"$f":"Z31","v":{"$error":"#N/A"}},{"$f":"AA31","v":{"$error":"#N/A"}},{"$f":"IF(AND($Y$4=TRUE,$X$8=ListsFlags!$A$13),$Y$5+(s6rad*(SIN(PI()*A11/180))),NA())","v":{"$error":"#N/A"}},{"$f":"IF(AND($Y$4=TRUE,$X$8=ListsFlags!$A$13),$Y$6+(s6rad*(COS(PI()*A11/180))),NA())","v":{"$error":"#N/A"}},{"$f":"AD31","v":{"$error":"#N/A"}},{"$f":"AE31","v":{"$error":"#N/A"}},{"$f":"IF(AND($AC$4=TRUE,$AB$8=ListsFlags!$A$13),$AC$5+(s7rad*(SIN(PI()*A11/180))),NA())","v":{"$error":"#N/A"}},{"$f":"IF(AND($AC$4=TRUE,$AB$8=ListsFlags!$A$13),$AC$6+(s7rad*(COS(PI()*A11/180))),NA())","v":{"$error":"#N/A"}},{"$f":"AH31","v":{"$error":"#N/A"}},{"$f":"AI31","v":{"$error":"#N/A"}},{"$f":"IF(AND($AG$4=TRUE,$AF$8=ListsFlags!$A$13),$AG$5+(s8rad*(SIN(PI()*A11/180))),NA())","v":{"$error":"#N/A"}},{"$f":"IF(AND($AG$4=TRUE,$AF$8=ListsFlags!$A$13),$AG$6+(s8rad*(COS(PI()*A11/180))),NA())","v":{"$error":"#N/A"}},{"$f":"AL31","v":{"$error":"#N/A"}},{"$f":"AM31","v":{"$error":"#N/A"}},{"$f":"IF(AND($AK$4=TRUE,$AJ$8=ListsFlags!$A$13),$AK$5+(s9rad*(SIN(PI()*A11/180))),NA())","v":{"$error":"#N/A"}},{"$f":"IF(AND($AK$4=TRUE,$AJ$8=ListsFlags!$A$13),$AK$6+(s9rad*(COS(PI()*A11/180))),NA())","v":{"$error":"#N/A"}},{"$f":"AP31","v":{"$error":"#N/A"}},{"$f":"AQ31","v":{"$error":"#N/A"}},{"$f":"IF(AND($AO$4=TRUE,$AN$8=ListsFlags!$A$13),$AO$5+(s10rad*(SIN(PI()*A11/180))),NA())","v":{"$error":"#N/A"}},{"$f":"IF(AND($AO$4=TRUE,$AN$8=ListsFlags!$A$13),$AO$6+(s10rad*(COS(PI()*A11/180))),NA())","v":{"$error":"#N/A"}},{"$f":"AT31","v":{"$error":"#DIV/0!"}},{"$f":"AU31","v":{"$error":"#DIV/0!"}},{"$error":"#DIV/0!"},{"$error":"#DIV/0!"},null,null,null,{"$error":"#DIV/0!"},{"$error":"#DIV/0!"}]
[40,"N",{"$f":"E22","v":{"$error":"#N/A"}},{"$f":"F22","v":{"$error":"#N/A"}},{"$f":"IF(AND($D$4=TRUE,$C$8=ListsFlags!$A$13),$D$5+(s1rad*(SIN(PI()*Circ!A12/180))),NA())","v":{"$error":"#N/A"}},{"$f":"IF(AND($D$4=TRUE,$C$8=ListsFlags!$A$13),$D$6+(s1rad*(COS(PI()*Circ!A12/180))),NA())","v":{"$error":"#N/A"}},null,{"$f":"J22","v":{"$error":"#N/A"}},{"$f":"K22","v":{"$error":"#N/A"}},{"$f":"IF(AND($I$4=TRUE,$H$8=ListsFlags!$A$13),$I$5+(s2rad*(SIN(PI()*A12/180))),NA())","v":{"$error":"#N/A"}},{"$f":"IF(AND($I$4=TRUE,$H$8=ListsFlags!$A$13),$I$6+(s2rad*(COS(PI()*A12/180))),NA())","v":{"$error":"#N/A"}},{"$f":"N22","v":{"$error":"#N/A"}},{"$f":"O22","v":{"$error":"#N/A"}},{"$f":"IF(AND($M$4=TRUE,$L$8=ListsFlags!$A$13),$M$5+(s3rad*(SIN(PI()*A12/180))),NA())","v":{"$error":"#N/A"}},{"$f":"IF(AND($M$4=TRUE,$L$8=ListsFlags!$A$13),$M$6+(s3rad*(COS(PI()*A12/180))),NA())","v":{"$error":"#N/A"}},{"$f":"R22","v":{"$error":"#N/A"}},{"$f":"S22","v":{"$error":"#N/A"}},{"$f":"IF(AND($Q$4=TRUE,$P$8=ListsFlags!$A$13),$Q$5+(s4rad*(SIN(PI()*A12/180))),NA())","v":{"$error":"#N/A"}},{"$f":"IF(AND($Q$4=TRUE,$P$8=ListsFlags!$A$13),$Q$6+(s4rad*(COS(PI()*A12/180))),NA())","v":{"$error":"#N/A"}},{"$f":"V22","v":{"$error":"#N/A"}},{"$f":"W22","v":{"$error":"#N/A"}},{"$f":"IF(AND($U$4=TRUE,$T$8=ListsFlags!$A$13),$U$5+(s5rad*(SIN(PI()*A12/180))),NA())","v":{"$error":"#N/A"}},{"$f":"IF(AND($U$4=TRUE,$T$8=ListsFlags!$A$13),$U$6+(s5rad*(COS(PI()*A12/180))),NA())","v":{"$error":"#N/A"}},{"$f":"Z22","v":{"$error":"#N/A"}},{"$f":"AA22","v":{"$error":"#N/A"}},{"$f":"IF(AND($Y$4=TRUE,$X$8=ListsFlags!$A$13),$Y$5+(s6rad*(SIN(PI()*A12/180))),NA())","v":{"$error":"#N/A"}},{"$f":"IF(AND($Y$4=TRUE,$X$8=ListsFlags!$A$13),$Y$6+(s6rad*(COS(PI()*A12/180))),NA())","v":{"$error":"#N/A"}},{"$f":"AD22","v":{"$error":"#N/A"}},{"$f":"AE22","v":{"$error":"#N/A"}},{"$f":"IF(AND($AC$4=TRUE,$AB$8=ListsFlags!$A$13),$AC$5+(s7rad*(SIN(PI()*A12/180))),NA())","v":{"$error":"#N/A"}},{"$f":"IF(AND($AC$4=TRUE,$AB$8=ListsFlags!$A$13),$AC$6+(s7rad*(COS(PI()*A12/180))),NA())","v":{"$error":"#N/A"}},{"$f":"AH22","v":{"$error":"#N/A"}},{"$f":"AI22","v":{"$error":"#N/A"}},{"$f":"IF(AND($AG$4=TRUE,$AF$8=ListsFlags!$A$13),$AG$5+(s8rad*(SIN(PI()*A12/180))),NA())","v":{"$error":"#N/A"}},{"$f":"IF(AND($AG$4=TRUE,$AF$8=ListsFlags!$A$13),$AG$6+(s8rad*(COS(PI()*A12/180))),NA())","v":{"$error":"#N/A"}},{"$f":"AL22","v":{"$error":"#N/A"}},{"$f":"AM22","v":{"$error":"#N/A"}},{"$f":"IF(AND($AK$4=TRUE,$AJ$8=ListsFlags!$A$13),$AK$5+(s9rad*(SIN(PI()*A12/180))),NA())","v":{"$error":"#N/A"}},{"$f":"IF(AND($AK$4=TRUE,$AJ$8=ListsFlags!$A$13),$AK$6+(s9rad*(COS(PI()*A12/180))),NA())","v":{"$error":"#N/A"}},{"$f":"AP22","v":{"$error":"#N/A"}},{"$f":"AQ22","v":{"$error":"#N/A"}},{"$f":"IF(AND($AO$4=TRUE,$AN$8=ListsFlags!$A$13),$AO$5+(s10rad*(SIN(PI()*A12/180))),NA())","v":{"$error":"#N/A"}},{"$f":"IF(AND($AO$4=TRUE,$AN$8=ListsFlags!$A$13),$AO$6+(s10rad*(COS(PI()*A12/180))),NA())","v":{"$error":"#N/A"}},{"$f":"AT22","v":{"$error":"#DIV/0!"}},{"$f":"AU22","v":{"$error":"#DIV/0!"}},{"$error":"#DIV/0!"},{"$error":"#DIV/0!"},null,null,null,{"$error":"#DIV/0!"},{"$error":"#DIV/0!"}]
[45,"NE",{"$f":"E13","v":{"$error":"#N/A"}},{"$f":"F13","v":{"$error":"#N/A"}},{"$f":"IF(AND($D$4=TRUE,$C$8=ListsFlags!$A$13),$D$5+(s1rad*(SIN(PI()*Circ!A13/180))),NA())","v":{"$error":"#N/A"}},{"$f":"IF(AND($D$4=TRUE,$C$8=ListsFlags!$A$13),$D$6+(s1rad*(COS(PI()*Circ!A13/180))),NA())","v":{"$error":"#N/A"}},"NE",{"$f":"J13","v":{"$error":"#N/A"}},{"$f":"K13","v":{"$error":"#N/A"}},{"$f":"IF(AND($I$4=TRUE,$H$8=ListsFlags!$A$13),$I$5+(s2rad*(SIN(PI()*A13/180))),NA())","v":{"$error":"#N/A"}},{"$f":"IF(AND($I$4=TRUE,$H$8=ListsFlags!$A$13),$I$6+(s2rad*(COS(PI()*A13/180))),NA())","v":{"$error":"#N/A"}},{"$f":"N13","v":{"$error":"#N/A"}},{"$f":"O13","v":{"$error":"#N/A"}},{"$f":"IF(AND($M$4=TRUE,$L$8=ListsFlags!$A$13),$M$5+(s3rad*(SIN(PI()*A13/180))),NA())","v":{"$error":"#N/A"}},{"$f":"IF(AND($M$4=TRUE,$L$8=ListsFlags!$A$13),$M$6+(s3rad*(COS(PI()*A13/180))),NA())","v":{"$error":"#N/A"}},{"$f":"R13","v":{"$error":"#N/A"}},{"$f":"S13","v":{"$error":"#N/A"}},{"$f":"IF(AND($Q$4=TRUE,$P$8=ListsFlags!$A$13),$Q$5+(s4rad*(SIN(PI()*A13/180))),NA())","v":{"$error":"#N/A"}},{"$f":"IF(AND($Q$4=TRUE,$P$8=ListsFlags!$A$13),$Q$6+(s4rad*(COS(PI()*A13/180))),NA())","v":{"$error":"#N/A"}},{"$f":"V13","v":{"$error":"#N/A"}},{"$f":"W13","v":{"$error":"#N/A"}},{"$f":"IF(AND($U$4=TRUE,$T$8=ListsFlags!$A$13),$U$5+(s5rad*(SIN(PI()*A13/180))),NA())","v":{"$error":"#N/A"}},{"$f":"IF(AND($U$4=TRUE,$T$8=ListsFlags!$A$13),$U$6+(s5rad*(COS(PI()*A13/180))),NA())","v":{"$error":"#N/A"}},{"$f":"Z13","v":{"$error":"#N/A"}},{"$f":"AA13","v":{"$error":"#N/A"}},{"$f":"IF(AND($Y$4=TRUE,$X$8=ListsFlags!$A$13),$Y$5+(s6rad*(SIN(PI()*A13/180))),NA())","v":{"$error":"#N/A"}},{"$f":"IF(AND($Y$4=TRUE,$X$8=ListsFlags!$A$13),$Y$6+(s6rad*(COS(PI()*A13/180))),NA())","v":{"$error":"#N/A"}},{"$f":"AD13","v":{"$error":"#N/A"}},{"$f":"AE13","v":{"$error":"#N/A"}},{"$f":"IF(AND($AC$4=TRUE,$AB$8=ListsFlags!$A$13),$AC$5+(s7rad*(SIN(PI()*A13/180))),NA())","v":{"$error":"#N/A"}},{"$f":"IF(AND($AC$4=TRUE,$AB$8=ListsFlags!$A$13),$AC$6+(s7rad*(COS(PI()*A13/180))),NA())","v":{"$error":"#N/A"}},{"$f":"AH13","v":{"$error":"#N/A"}},{"$f":"AI13","v":{"$error":"#N/A"}},{"$f":"IF(AND($AG$4=TRUE,$AF$8=ListsFlags!$A$13),$AG$5+(s8rad*(SIN(PI()*A13/180))),NA())","v":{"$error":"#N/A"}},{"$f":"IF(AND($AG$4=TRUE,$AF$8=ListsFlags!$A$13),$AG$6+(s8rad*(COS(PI()*A13/180))),NA())","v":{"$error":"#N/A"}},{"$f":"AL13","v":{"$error":"#N/A"}},{"$f":"AM13","v":{"$error":"#N/A"}},{"$f":"IF(AND($AK$4=TRUE,$AJ$8=ListsFlags!$A$13),$AK$5+(s9rad*(SIN(PI()*A13/180))),NA())","v":{"$error":"#N/A"}},{"$f":"IF(AND($AK$4=TRUE,$AJ$8=ListsFlags!$A$13),$AK$6+(s9rad*(COS(PI()*A13/180))),NA())","v":{"$error":"#N/A"}},{"$f":"AP13","v":{"$error":"#N/A"}},{"$f":"AQ13","v":{"$error":"#N/A"}},{"$f":"IF(AND($AO$4=TRUE,$AN$8=ListsFlags!$A$13),$AO$5+(s10rad*(SIN(PI()*A13/180))),NA())","v":{"$error":"#N/A"}},{"$f":"IF(AND($AO$4=TRUE,$AN$8=ListsFlags!$A$13),$AO$6+(s10rad*(COS(PI()*A13/180))),NA())","v":{"$error":"#N/A"}},{"$f":"AT13","v":{"$error":"#DIV/0!"}},{"$f":"AU13","v":{"$error":"#DIV/0!"}},{"$error":"#DIV/0!"},{"$error":"#DIV/0!"},null,null,null,{"$error":"#DIV/0!"},{"$error":"#DIV/0!"}]
[50,"E",{"$f":"E4","v":{"$error":"#N/A"}},{"$f":"F4","v":{"$error":"#N/A"}},{"$f":"IF(AND($D$4=TRUE,$C$8=ListsFlags!$A$13),$D$5+(s1rad*(SIN(PI()*Circ!A14/180))),NA())","v":{"$error":"#N/A"}},{"$f":"IF(AND($D$4=TRUE,$C$8=ListsFlags!$A$13),$D$6+(s1rad*(COS(PI()*Circ!A14/180))),NA())","v":{"$error":"#N/A"}},null,{"$f":"J4","v":{"$error":"#N/A"}},{"$f":"K4","v":{"$error":"#N/A"}},{"$f":"IF(AND($I$4=TRUE,$H$8=ListsFlags!$A$13),$I$5+(s2rad*(SIN(PI()*A14/180))),NA())","v":{"$error":"#N/A"}},{"$f":"IF(AND($I$4=TRUE,$H$8=ListsFlags!$A$13),$I$6+(s2rad*(COS(PI()*A14/180))),NA())","v":{"$error":"#N/A"}},{"$f":"N4","v":{"$error":"#N/A"}},{"$f":"O4","v":{"$error":"#N/A"}},{"$f":"IF(AND($M$4=TRUE,$L$8=ListsFlags!$A$13),$M$5+(s3rad*(SIN(PI()*A14/180))),NA())","v":{"$error":"#N/A"}},{"$f":"IF(AND($M$4=TRUE,$L$8=ListsFlags!$A$13),$M$6+(s3rad*(COS(PI()*A14/180))),NA())","v":{"$error":"#N/A"}},{"$f":"R4","v":{"$error":"#N/A"}},{"$f":"S4","v":{"$error":"#N/A"}},{"$f":"IF(AND($Q$4=TRUE,$P$8=ListsFlags!$A$13),$Q$5+(s4rad*(SIN(PI()*A14/180))),NA())","v":{"$error":"#N/A"}},{"$f":"IF(AND($Q$4=TRUE,$P$8=ListsFlags!$A$13),$Q$6+(s4rad*(COS(PI()*A14/180))),NA())","v":{"$error":"#N/A"}},{"$f":"V4","v":{"$error":"#N/A"}},{"$f":"W4","v":{"$error":"#N/A"}},{"$f":"IF(AND($U$4=TRUE,$T$8=ListsFlags!$A$13),$U$5+(s5rad*(SIN(PI()*A14/180))),NA())","v":{"$error":"#N/A"}},{"$f":"IF(AND($U$4=TRUE,$T$8=ListsFlags!$A$13),$U$6+(s5rad*(COS(PI()*A14/180))),NA())","v":{"$error":"#N/A"}},{"$f":"Z4","v":{"$error":"#N/A"}},{"$f":"AA4","v":{"$error":"#N/A"}},{"$f":"IF(AND($Y$4=TRUE,$X$8=ListsFlags!$A$13),$Y$5+(s6rad*(SIN(PI()*A14/180))),NA())","v":{"$error":"#N/A"}},{"$f":"IF(AND($Y$4=TRUE,$X$8=ListsFlags!$A$13),$Y$6+(s6rad*(COS(PI()*A14/180))),NA())","v":{"$error":"#N/A"}},{"$f":"AD4","v":{"$error":"#N/A"}},{"$f":"AE4","v":{"$error":"#N/A"}},{"$f":"IF(AND($AC$4=TRUE,$AB$8=ListsFlags!$A$13),$AC$5+(s7rad*(SIN(PI()*A14/180))),NA())","v":{"$error":"#N/A"}},{"$f":"IF(AND($AC$4=TRUE,$AB$8=ListsFlags!$A$13),$AC$6+(s7rad*(COS(PI()*A14/180))),NA())","v":{"$error":"#N/A"}},{"$f":"AH4","v":{"$error":"#N/A"}},{"$f":"AI4","v":{"$error":"#N/A"}},{"$f":"IF(AND($AG$4=TRUE,$AF$8=ListsFlags!$A$13),$AG$5+(s8rad*(SIN(PI()*A14/180))),NA())","v":{"$error":"#N/A"}},{"$f":"IF(AND($AG$4=TRUE,$AF$8=ListsFlags!$A$13),$AG$6+(s8rad*(COS(PI()*A14/180))),NA())","v":{"$error":"#N/A"}},{"$f":"AL4","v":{"$error":"#N/A"}},{"$f":"AM4","v":{"$error":"#N/A"}},{"$f":"IF(AND($AK$4=TRUE,$AJ$8=ListsFlags!$A$13),$AK$5+(s9rad*(SIN(PI()*A14/180))),NA())","v":{"$error":"#N/A"}},{"$f":"IF(AND($AK$4=TRUE,$AJ$8=ListsFlags!$A$13),$AK$6+(s9rad*(COS(PI()*A14/180))),NA())","v":{"$error":"#N/A"}},{"$f":"AP4","v":{"$error":"#N/A"}},{"$f":"AQ4","v":{"$error":"#N/A"}},{"$f":"IF(AND($AO$4=TRUE,$AN$8=ListsFlags!$A$13),$AO$5+(s10rad*(SIN(PI()*A14/180))),NA())","v":{"$error":"#N/A"}},{"$f":"IF(AND($AO$4=TRUE,$AN$8=ListsFlags!$A$13),$AO$6+(s10rad*(COS(PI()*A14/180))),NA())","v":{"$error":"#N/A"}},{"$f":"AT4","v":{"$error":"#DIV/0!"}},{"$f":"AU4","v":{"$error":"#DIV/0!"}},{"$error":"#DIV/0!"},{"$error":"#DIV/0!"},null,null,null,{"$error":"#DIV/0!"},{"$error":"#DIV/0!"}]
[55,"SE",{"$f":"E67","v":{"$error":"#N/A"}},{"$f":"F67","v":{"$error":"#N/A"}},{"$f":"IF(AND($D$4=TRUE,$C$8=ListsFlags!$A$13),$D$5+(s1rad*(SIN(PI()*Circ!A15/180))),NA())","v":{"$error":"#N/A"}},{"$f":"IF(AND($D$4=TRUE,$C$8=ListsFlags!$A$13),$D$6+(s1rad*(COS(PI()*Circ!A15/180))),NA())","v":{"$error":"#N/A"}},null,{"$f":"J67","v":{"$error":"#N/A"}},{"$f":"K67","v":{"$error":"#N/A"}},{"$f":"IF(AND($I$4=TRUE,$H$8=ListsFlags!$A$13),$I$5+(s2rad*(SIN(PI()*A15/180))),NA())","v":{"$error":"#N/A"}},{"$f":"IF(AND($I$4=TRUE,$H$8=ListsFlags!$A$13),$I$6+(s2rad*(COS(PI()*A15/180))),NA())","v":{"$error":"#N/A"}},{"$f":"N67","v":{"$error":"#N/A"}},{"$f":"O67","v":{"$error":"#N/A"}},{"$f":"IF(AND($M$4=TRUE,$L$8=ListsFlags!$A$13),$M$5+(s3rad*(SIN(PI()*A15/180))),NA())","v":{"$error":"#N/A"}},{"$f":"IF(AND($M$4=TRUE,$L$8=ListsFlags!$A$13),$M$6+(s3rad*(COS(PI()*A15/180))),NA())","v":{"$error":"#N/A"}},{"$f":"R67","v":{"$error":"#N/A"}},{"$f":"S67","v":{"$error":"#N/A"}},{"$f":"IF(AND($Q$4=TRUE,$P$8=ListsFlags!$A$13),$Q$5+(s4rad*(SIN(PI()*A15/180))),NA())","v":{"$error":"#N/A"}},{"$f":"IF(AND($Q$4=TRUE,$P$8=ListsFlags!$A$13),$Q$6+(s4rad*(COS(PI()*A15/180))),NA())","v":{"$error":"#N/A"}},{"$f":"V67","v":{"$error":"#N/A"}},{"$f":"W67","v":{"$error":"#N/A"}},{"$f":"IF(AND($U$4=TRUE,$T$8=ListsFlags!$A$13),$U$5+(s5rad*(SIN(PI()*A15/180))),NA())","v":{"$error":"#N/A"}},{"$f":"IF(AND($U$4=TRUE,$T$8=ListsFlags!$A$13),$U$6+(s5rad*(COS(PI()*A15/180))),NA())","v":{"$error":"#N/A"}},{"$f":"Z67","v":{"$error":"#N/A"}},{"$f":"AA67","v":{"$error":"#N/A"}},{"$f":"IF(AND($Y$4=TRUE,$X$8=ListsFlags!$A$13),$Y$5+(s6rad*(SIN(PI()*A15/180))),NA())","v":{"$error":"#N/A"}},{"$f":"IF(AND($Y$4=TRUE,$X$8=ListsFlags!$A$13),$Y$6+(s6rad*(COS(PI()*A15/180))),NA())","v":{"$error":"#N/A"}},{"$f":"AD67","v":{"$error":"#N/A"}},{"$f":"AE67","v":{"$error":"#N/A"}},{"$f":"IF(AND($AC$4=TRUE,$AB$8=ListsFlags!$A$13),$AC$5+(s7rad*(SIN(PI()*A15/180))),NA())","v":{"$error":"#N/A"}},{"$f":"IF(AND($AC$4=TRUE,$AB$8=ListsFlags!$A$13),$AC$6+(s7rad*(COS(PI()*A15/180))),NA())","v":{"$error":"#N/A"}},{"$f":"AH67","v":{"$error":"#N/A"}},{"$f":"AI67","v":{"$error":"#N/A"}},{"$f":"IF(AND($AG$4=TRUE,$AF$8=ListsFlags!$A$13),$AG$5+(s8rad*(SIN(PI()*A15/180))),NA())","v":{"$error":"#N/A"}},{"$f":"IF(AND($AG$4=TRUE,$AF$8=ListsFlags!$A$13),$AG$6+(s8rad*(COS(PI()*A15/180))),NA())","v":{"$error":"#N/A"}},{"$f":"AL67","v":{"$error":"#N/A"}},{"$f":"AM67","v":{"$error":"#N/A"}},{"$f":"IF(AND($AK$4=TRUE,$AJ$8=ListsFlags!$A$13),$AK$5+(s9rad*(SIN(PI()*A15/180))),NA())","v":{"$error":"#N/A"}},{"$f":"IF(AND($AK$4=TRUE,$AJ$8=ListsFlags!$A$13),$AK$6+(s9rad*(COS(PI()*A15/180))),NA())","v":{"$error":"#N/A"}},{"$f":"AP67","v":{"$error":"#N/A"}},{"$f":"AQ67","v":{"$error":"#N/A"}},{"$f":"IF(AND($AO$4=TRUE,$AN$8=ListsFlags!$A$13),$AO$5+(s10rad*(SIN(PI()*A15/180))),NA())","v":{"$error":"#N/A"}},{"$f":"IF(AND($AO$4=TRUE,$AN$8=ListsFlags!$A$13),$AO$6+(s10rad*(COS(PI()*A15/180))),NA())","v":{"$error":"#N/A"}},{"$f":"AT67","v":{"$error":"#DIV/0!"}},{"$f":"AU67","v":{"$error":"#DIV/0!"}},{"$error":"#DIV/0!"},{"$error":"#DIV/0!"},null,null,null,{"$error":"#DIV/0!"},{"$error":"#DIV/0!"}]
[60,"S",{"$f":"E58","v":{"$error":"#N/A"}},{"$f":"F58","v":{"$error":"#N/A"}},{"$f":"IF(AND($D$4=TRUE,$C$8=ListsFlags!$A$13),$D$5+(s1rad*(SIN(PI()*Circ!A16/180))),NA())","v":{"$error":"#N/A"}},{"$f":"IF(AND($D$4=TRUE,$C$8=ListsFlags!$A$13),$D$6+(s1rad*(COS(PI()*Circ!A16/180))),NA())","v":{"$error":"#N/A"}},null,{"$f":"J58","v":{"$error":"#N/A"}},{"$f":"K58","v":{"$error":"#N/A"}},{"$f":"IF(AND($I$4=TRUE,$H$8=ListsFlags!$A$13),$I$5+(s2rad*(SIN(PI()*A16/180))),NA())","v":{"$error":"#N/A"}},{"$f":"IF(AND($I$4=TRUE,$H$8=ListsFlags!$A$13),$I$6+(s2rad*(COS(PI()*A16/180))),NA())","v":{"$error":"#N/A"}},{"$f":"N58","v":{"$error":"#N/A"}},{"$f":"O58","v":{"$error":"#N/A"}},{"$f":"IF(AND($M$4=TRUE,$L$8=ListsFlags!$A$13),$M$5+(s3rad*(SIN(PI()*A16/180))),NA())","v":{"$error":"#N/A"}},{"$f":"IF(AND($M$4=TRUE,$L$8=ListsFlags!$A$13),$M$6+(s3rad*(COS(PI()*A16/180))),NA())","v":{"$error":"#N/A"}},{"$f":"R58","v":{"$error":"#N/A"}},{"$f":"S58","v":{"$error":"#N/A"}},{"$f":"IF(AND($Q$4=TRUE,$P$8=ListsFlags!$A$13),$Q$5+(s4rad*(SIN(PI()*A16/180))),NA())","v":{"$error":"#N/A"}},{"$f":"IF(AND($Q$4=TRUE,$P$8=ListsFlags!$A$13),$Q$6+(s4rad*(COS(PI()*A16/180))),NA())","v":{"$error":"#N/A"}},{"$f":"V58","v":{"$error":"#N/A"}},{"$f":"W58","v":{"$error":"#N/A"}},{"$f":"IF(AND($U$4=TRUE,$T$8=ListsFlags!$A$13),$U$5+(s5rad*(SIN(PI()*A16/180))),NA())","v":{"$error":"#N/A"}},{"$f":"IF(AND($U$4=TRUE,$T$8=ListsFlags!$A$13),$U$6+(s5rad*(COS(PI()*A16/180))),NA())","v":{"$error":"#N/A"}},{"$f":"Z58","v":{"$error":"#N/A"}},{"$f":"AA58","v":{"$error":"#N/A"}},{"$f":"IF(AND($Y$4=TRUE,$X$8=ListsFlags!$A$13),$Y$5+(s6rad*(SIN(PI()*A16/180))),NA())","v":{"$error":"#N/A"}},{"$f":"IF(AND($Y$4=TRUE,$X$8=ListsFlags!$A$13),$Y$6+(s6rad*(COS(PI()*A16/180))),NA())","v":{"$error":"#N/A"}},{"$f":"AD58","v":{"$error":"#N/A"}},{"$f":"AE58","v":{"$error":"#N/A"}},{"$f":"IF(AND($AC$4=TRUE,$AB$8=ListsFlags!$A$13),$AC$5+(s7rad*(SIN(PI()*A16/180))),NA())","v":{"$error":"#N/A"}},{"$f":"IF(AND($AC$4=TRUE,$AB$8=ListsFlags!$A$13),$AC$6+(s7rad*(COS(PI()*A16/180))),NA())","v":{"$error":"#N/A"}},{"$f":"AH58","v":{"$error":"#N/A"}},{"$f":"AI58","v":{"$error":"#N/A"}},{"$f":"IF(AND($AG$4=TRUE,$AF$8=ListsFlags!$A$13),$AG$5+(s8rad*(SIN(PI()*A16/180))),NA())","v":{"$error":"#N/A"}},{"$f":"IF(AND($AG$4=TRUE,$AF$8=ListsFlags!$A$13),$AG$6+(s8rad*(COS(PI()*A16/180))),NA())","v":{"$error":"#N/A"}},{"$f":"AL58","v":{"$error":"#N/A"}},{"$f":"AM58","v":{"$error":"#N/A"}},{"$f":"IF(AND($AK$4=TRUE,$AJ$8=ListsFlags!$A$13),$AK$5+(s9rad*(SIN(PI()*A16/180))),NA())","v":{"$error":"#N/A"}},{"$f":"IF(AND($AK$4=TRUE,$AJ$8=ListsFlags!$A$13),$AK$6+(s9rad*(COS(PI()*A16/180))),NA())","v":{"$error":"#N/A"}},{"$f":"AP58","v":{"$error":"#N/A"}},{"$f":"AQ58","v":{"$error":"#N/A"}},{"$f":"IF(AND($AO$4=TRUE,$AN$8=ListsFlags!$A$13),$AO$5+(s10rad*(SIN(PI()*A16/180))),NA())","v":{"$error":"#N/A"}},{"$f":"IF(AND($AO$4=TRUE,$AN$8=ListsFlags!$A$13),$AO$6+(s10rad*(COS(PI()*A16/180))),NA())","v":{"$error":"#N/A"}},{"$f":"AT58","v":{"$error":"#DIV/0!"}},{"$f":"AU58","v":{"$error":"#DIV/0!"}},{"$error":"#DIV/0!"},{"$error":"#DIV/0!"},null,null,null,{"$error":"#DIV/0!"},{"$error":"#DIV/0!"}]
[65,"SW",{"$f":"E49","v":{"$error":"#N/A"}},{"$f":"F49","v":{"$error":"#N/A"}},{"$f":"IF(AND($D$4=TRUE,$C$8=ListsFlags!$A$13),$D$5+(s1rad*(SIN(PI()*Circ!A17/180))),NA())","v":{"$error":"#N/A"}},{"$f":"IF(AND($D$4=TRUE,$C$8=ListsFlags!$A$13),$D$6+(s1rad*(COS(PI()*Circ!A17/180))),NA())","v":{"$error":"#N/A"}},null,{"$f":"J49","v":{"$error":"#N/A"}},{"$f":"K49","v":{"$error":"#N/A"}},{"$f":"IF(AND($I$4=TRUE,$H$8=ListsFlags!$A$13),$I$5+(s2rad*(SIN(PI()*A17/180))),NA())","v":{"$error":"#N/A"}},{"$f":"IF(AND($I$4=TRUE,$H$8=ListsFlags!$A$13),$I$6+(s2rad*(COS(PI()*A17/180))),NA())","v":{"$error":"#N/A"}},{"$f":"N49","v":{"$error":"#N/A"}},{"$f":"O49","v":{"$error":"#N/A"}},{"$f":"IF(AND($M$4=TRUE,$L$8=ListsFlags!$A$13),$M$5+(s3rad*(SIN(PI()*A17/180))),NA())","v":{"$error":"#N/A"}},{"$f":"IF(AND($M$4=TRUE,$L$8=ListsFlags!$A$13),$M$6+(s3rad*(COS(PI()*A17/180))),NA())","v":{"$error":"#N/A"}},{"$f":"R49","v":{"$error":"#N/A"}},{"$f":"S49","v":{"$error":"#N/A"}},{"$f":"IF(AND($Q$4=TRUE,$P$8=ListsFlags!$A$13),$Q$5+(s4rad*(SIN(PI()*A17/180))),NA())","v":{"$error":"#N/A"}},{"$f":"IF(AND($Q$4=TRUE,$P$8=ListsFlags!$A$13),$Q$6+(s4rad*(COS(PI()*A17/180))),NA())","v":{"$error":"#N/A"}},{"$f":"V49","v":{"$error":"#N/A"}},{"$f":"W49","v":{"$error":"#N/A"}},{"$f":"IF(AND($U$4=TRUE,$T$8=ListsFlags!$A$13),$U$5+(s5rad*(SIN(PI()*A17/180))),NA())","v":{"$error":"#N/A"}},{"$f":"IF(AND($U$4=TRUE,$T$8=ListsFlags!$A$13),$U$6+(s5rad*(COS(PI()*A17/180))),NA())","v":{"$error":"#N/A"}},{"$f":"Z49","v":{"$error":"#N/A"}},{"$f":"AA49","v":{"$error":"#N/A"}},{"$f":"IF(AND($Y$4=TRUE,$X$8=ListsFlags!$A$13),$Y$5+(s6rad*(SIN(PI()*A17/180))),NA())","v":{"$error":"#N/A"}},{"$f":"IF(AND($Y$4=TRUE,$X$8=ListsFlags!$A$13),$Y$6+(s6rad*(COS(PI()*A17/180))),NA())","v":{"$error":"#N/A"}},{"$f":"AD49","v":{"$error":"#N/A"}},{"$f":"AE49","v":{"$error":"#N/A"}},{"$f":"IF(AND($AC$4=TRUE,$AB$8=ListsFlags!$A$13),$AC$5+(s7rad*(SIN(PI()*A17/180))),NA())","v":{"$error":"#N/A"}},{"$f":"IF(AND($AC$4=TRUE,$AB$8=ListsFlags!$A$13),$AC$6+(s7rad*(COS(PI()*A17/180))),NA())","v":{"$error":"#N/A"}},{"$f":"AH49","v":{"$error":"#N/A"}},{"$f":"AI49","v":{"$error":"#N/A"}},{"$f":"IF(AND($AG$4=TRUE,$AF$8=ListsFlags!$A$13),$AG$5+(s8rad*(SIN(PI()*A17/180))),NA())","v":{"$error":"#N/A"}},{"$f":"IF(AND($AG$4=TRUE,$AF$8=ListsFlags!$A$13),$AG$6+(s8rad*(COS(PI()*A17/180))),NA())","v":{"$error":"#N/A"}},{"$f":"AL49","v":{"$error":"#N/A"}},{"$f":"AM49","v":{"$error":"#N/A"}},{"$f":"IF(AND($AK$4=TRUE,$AJ$8=ListsFlags!$A$13),$AK$5+(s9rad*(SIN(PI()*A17/180))),NA())","v":{"$error":"#N/A"}},{"$f":"IF(AND($AK$4=TRUE,$AJ$8=ListsFlags!$A$13),$AK$6+(s9rad*(COS(PI()*A17/180))),NA())","v":{"$error":"#N/A"}},{"$f":"AP49","v":{"$error":"#N/A"}},{"$f":"AQ49","v":{"$error":"#N/A"}},{"$f":"IF(AND($AO$4=TRUE,$AN$8=ListsFlags!$A$13),$AO$5+(s10rad*(SIN(PI()*A17/180))),NA())","v":{"$error":"#N/A"}},{"$f":"IF(AND($AO$4=TRUE,$AN$8=ListsFlags!$A$13),$AO$6+(s10rad*(COS(PI()*A17/180))),NA())","v":{"$error":"#N/A"}},{"$f":"AT49","v":{"$error":"#DIV/0!"}},{"$f":"AU49","v":{"$error":"#DIV/0!"}},{"$error":"#DIV/0!"},{"$error":"#DIV/0!"},null,null,null,{"$error":"#DIV/0!"},{"$error":"#DIV/0!"}]
[70,"W",{"$f":"C10","v":{"$error":"#N/A"}},{"$f":"D10","v":{"$error":"#N/A"}},{"$f":"IF(AND($D$4=TRUE,$C$8=ListsFlags!$A$13),$D$5+(s1rad*(SIN(PI()*Circ!A18/180))),NA())","v":{"$error":"#N/A"}},{"$f":"IF(AND($D$4=TRUE,$C$8=ListsFlags!$A$13),$D$6+(s1rad*(COS(PI()*Circ!A18/180))),NA())","v":{"$error":"#N/A"}},null,{"$f":"H10","v":{"$error":"#N/A"}},{"$f":"I10","v":{"$error":"#N/A"}},{"$f":"IF(AND($I$4=TRUE,$H$8=ListsFlags!$A$13),$I$5+(s2rad*(SIN(PI()*A18/180))),NA())","v":{"$error":"#N/A"}},{"$f":"IF(AND($I$4=TRUE,$H$8=ListsFlags!$A$13),$I$6+(s2rad*(COS(PI()*A18/180))),NA())","v":{"$error":"#N/A"}},{"$f":"L10","v":{"$error":"#N/A"}},{"$f":"M10","v":{"$error":"#N/A"}},{"$f":"IF(AND($M$4=TRUE,$L$8=ListsFlags!$A$13),$M$5+(s3rad*(SIN(PI()*A18/180))),NA())","v":{"$error":"#N/A"}},{"$f":"IF(AND($M$4=TRUE,$L$8=ListsFlags!$A$13),$M$6+(s3rad*(COS(PI()*A18/180))),NA())","v":{"$error":"#N/A"}},{"$f":"P10","v":{"$error":"#N/A"}},{"$f":"Q10","v":{"$error":"#N/A"}},{"$f":"IF(AND($Q$4=TRUE,$P$8=ListsFlags!$A$13),$Q$5+(s4rad*(SIN(PI()*A18/180))),NA())","v":{"$error":"#N/A"}},{"$f":"IF(AND($Q$4=TRUE,$P$8=ListsFlags!$A$13),$Q$6+(s4rad*(COS(PI()*A18/180))),NA())","v":{"$error":"#N/A"}},{"$f":"T10","v":{"$error":"#N/A"}},{"$f":"U10","v":{"$error":"#N/A"}},{"$f":"IF(AND($U$4=TRUE,$T$8=ListsFlags!$A$13),$U$5+(s5rad*(SIN(PI()*A18/180))),NA())","v":{"$error":"#N/A"}},{"$f":"IF(AND($U$4=TRUE,$T$8=ListsFlags!$A$13),$U$6+(s5rad*(COS(PI()*A18/180))),NA())","v":{"$error":"#N/A"}},{"$f":"X10","v":{"$error":"#N/A"}},{"$f":"Y10","v":{"$error":"#N/A"}},{"$f":"IF(AND($Y$4=TRUE,$X$8=ListsFlags!$A$13),$Y$5+(s6rad*(SIN(PI()*A18/180))),NA())","v":{"$error":"#N/A"}},{"$f":"IF(AND($Y$4=TRUE,$X$8=ListsFlags!$A$13),$Y$6+(s6rad*(COS(PI()*A18/180))),NA())","v":{"$error":"#N/A"}},{"$f":"AB10","v":{"$error":"#N/A"}},{"$f":"AC10","v":{"$error":"#N/A"}},{"$f":"IF(AND($AC$4=TRUE,$AB$8=ListsFlags!$A$13),$AC$5+(s7rad*(SIN(PI()*A18/180))),NA())","v":{"$error":"#N/A"}},{"$f":"IF(AND($AC$4=TRUE,$AB$8=ListsFlags!$A$13),$AC$6+(s7rad*(COS(PI()*A18/180))),NA())","v":{"$error":"#N/A"}},{"$f":"AF10","v":{"$error":"#N/A"}},{"$f":"AG10","v":{"$error":"#N/A"}},{"$f":"IF(AND($AG$4=TRUE,$AF$8=ListsFlags!$A$13),$AG$5+(s8rad*(SIN(PI()*A18/180))),NA())","v":{"$error":"#N/A"}},{"$f":"IF(AND($AG$4=TRUE,$AF$8=ListsFlags!$A$13),$AG$6+(s8rad*(COS(PI()*A18/180))),NA())","v":{"$error":"#N/A"}},{"$f":"AJ10","v":{"$error":"#N/A"}},{"$f":"AK10","v":{"$error":"#N/A"}},{"$f":"IF(AND($AK$4=TRUE,$AJ$8=ListsFlags!$A$13),$AK$5+(s9rad*(SIN(PI()*A18/180))),NA())","v":{"$error":"#N/A"}},{"$f":"IF(AND($AK$4=TRUE,$AJ$8=ListsFlags!$A$13),$AK$6+(s9rad*(COS(PI()*A18/180))),NA())","v":{"$error":"#N/A"}},{"$f":"AN10","v":{"$error":"#N/A"}},{"$f":"AO10","v":{"$error":"#N/A"}},{"$f":"IF(AND($AO$4=TRUE,$AN$8=ListsFlags!$A$13),$AO$5+(s10rad*(SIN(PI()*A18/180))),NA())","v":{"$error":"#N/A"}},{"$f":"IF(AND($AO$4=TRUE,$AN$8=ListsFlags!$A$13),$AO$6+(s10rad*(COS(PI()*A18/180))),NA())","v":{"$error":"#N/A"}},{"$f":"AR10","v":{"$error":"#DIV/0!"}},{"$f":"AS10","v":{"$error":"#DIV/0!"}},{"$error":"#DIV/0!"},{"$error":"#DIV/0!"},null,null,null,{"$error":"#DIV/0!"},{"$error":"#DIV/0!"}]
[75,null,null,null,{"$f":"IF(AND($D$4=TRUE,$C$8=ListsFlags!$A$13),$D$5+(s1rad*(SIN(PI()*Circ!A19/180))),NA())","v":{"$error":"#N/A"}},{"$f":"IF(AND($D$4=TRUE,$C$8=ListsFlags!$A$13),$D$6+(s1rad*(COS(PI()*Circ!A19/180))),NA())","v":{"$error":"#N/A"}},null,null,null,{"$f":"IF(AND($I$4=TRUE,$H$8=ListsFlags!$A$13),$I$5+(s2rad*(SIN(PI()*A19/180))),NA())","v":{"$error":"#N/A"}},{"$f":"IF(AND($I$4=TRUE,$H$8=ListsFlags!$A$13),$I$6+(s2rad*(COS(PI()*A19/180))),NA())","v":{"$error":"#N/A"}},null,null,{"$f":"IF(AND($M$4=TRUE,$L$8=ListsFlags!$A$13),$M$5+(s3rad*(SIN(PI()*A19/180))),NA())","v":{"$error":"#N/A"}},{"$f":"IF(AND($M$4=TRUE,$L$8=ListsFlags!$A$13),$M$6+(s3rad*(COS(PI()*A19/180))),NA())","v":{"$error":"#N/A"}},null,null,{"$f":"IF(AND($Q$4=TRUE,$P$8=ListsFlags!$A$13),$Q$5+(s4rad*(SIN(PI()*A19/180))),NA())","v":{"$error":"#N/A"}},{"$f":"IF(AND($Q$4=TRUE,$P$8=ListsFlags!$A$13),$Q$6+(s4rad*(COS(PI()*A19/180))),NA())","v":{"$error":"#N/A"}},null,null,{"$f":"IF(AND($U$4=TRUE,$T$8=ListsFlags!$A$13),$U$5+(s5rad*(SIN(PI()*A19/180))),NA())","v":{"$error":"#N/A"}},{"$f":"IF(AND($U$4=TRUE,$T$8=ListsFlags!$A$13),$U$6+(s5rad*(COS(PI()*A19/180))),NA())","v":{"$error":"#N/A"}},null,null,{"$f":"IF(AND($Y$4=TRUE,$X$8=ListsFlags!$A$13),$Y$5+(s6rad*(SIN(PI()*A19/180))),NA())","v":{"$error":"#N/A"}},{"$f":"IF(AND($Y$4=TRUE,$X$8=ListsFlags!$A$13),$Y$6+(s6rad*(COS(PI()*A19/180))),NA())","v":{"$error":"#N/A"}},null,null,{"$f":"IF(AND($AC$4=TRUE,$AB$8=ListsFlags!$A$13),$AC$5+(s7rad*(SIN(PI()*A19/180))),NA())","v":{"$error":"#N/A"}},{"$f":"IF(AND($AC$4=TRUE,$AB$8=ListsFlags!$A$13),$AC$6+(s7rad*(COS(PI()*A19/180))),NA())","v":{"$error":"#N/A"}},null,null,{"$f":"IF(AND($AG$4=TRUE,$AF$8=ListsFlags!$A$13),$AG$5+(s8rad*(SIN(PI()*A19/180))),NA())","v":{"$error":"#N/A"}},{"$f":"IF(AND($AG$4=TRUE,$AF$8=ListsFlags!$A$13),$AG$6+(s8rad*(COS(PI()*A19/180))),NA())","v":{"$error":"#N/A"}},null,null,{"$f":"IF(AND($AK$4=TRUE,$AJ$8=ListsFlags!$A$13),$AK$5+(s9rad*(SIN(PI()*A19/180))),NA())","v":{"$error":"#N/A"}},{"$f":"IF(AND($AK$4=TRUE,$AJ$8=ListsFlags!$A$13),$AK$6+(s9rad*(COS(PI()*A19/180))),NA())","v":{"$error":"#N/A"}},null,null,{"$f":"IF(AND($AO$4=TRUE,$AN$8=ListsFlags!$A$13),$AO$5+(s10rad*(SIN(PI()*A19/180))),NA())","v":{"$error":"#N/A"}},{"$f":"IF(AND($AO$4=TRUE,$AN$8=ListsFlags!$A$13),$AO$6+(s10rad*(COS(PI()*A19/180))),NA())","v":{"$error":"#N/A"}},null,null,{"$error":"#DIV/0!"},{"$error":"#DIV/0!"},null,null,null,{"$error":"#DIV/0!"},{"$error":"#DIV/0!"}]
[80,null,null,null,{"$f":"IF(AND($D$4=TRUE,$C$8=ListsFlags!$A$13),$D$5+(s1rad*(SIN(PI()*Circ!A20/180))),NA())","v":{"$error":"#N/A"}},{"$f":"IF(AND($D$4=TRUE,$C$8=ListsFlags!$A$13),$D$6+(s1rad*(COS(PI()*Circ!A20/180))),NA())","v":{"$error":"#N/A"}},null,null,null,{"$f":"IF(AND($I$4=TRUE,$H$8=ListsFlags!$A$13),$I$5+(s2rad*(SIN(PI()*A20/180))),NA())","v":{"$error":"#N/A"}},{"$f":"IF(AND($I$4=TRUE,$H$8=ListsFlags!$A$13),$I$6+(s2rad*(COS(PI()*A20/180))),NA())","v":{"$error":"#N/A"}},null,null,{"$f":"IF(AND($M$4=TRUE,$L$8=ListsFlags!$A$13),$M$5+(s3rad*(SIN(PI()*A20/180))),NA())","v":{"$error":"#N/A"}},{"$f":"IF(AND($M$4=TRUE,$L$8=ListsFlags!$A$13),$M$6+(s3rad*(COS(PI()*A20/180))),NA())","v":{"$error":"#N/A"}},null,null,{"$f":"IF(AND($Q$4=TRUE,$P$8=ListsFlags!$A$13),$Q$5+(s4rad*(SIN(PI()*A20/180))),NA())","v":{"$error":"#N/A"}},{"$f":"IF(AND($Q$4=TRUE,$P$8=ListsFlags!$A$13),$Q$6+(s4rad*(COS(PI()*A20/180))),NA())","v":{"$error":"#N/A"}},null,null,{"$f":"IF(AND($U$4=TRUE,$T$8=ListsFlags!$A$13),$U$5+(s5rad*(SIN(PI()*A20/180))),NA())","v":{"$error":"#N/A"}},{"$f":"IF(AND($U$4=TRUE,$T$8=ListsFlags!$A$13),$U$6+(s5rad*(COS(PI()*A20/180))),NA())","v":{"$error":"#N/A"}},null,null,{"$f":"IF(AND($Y$4=TRUE,$X$8=ListsFlags!$A$13),$Y$5+(s6rad*(SIN(PI()*A20/180))),NA())","v":{"$error":"#N/A"}},{"$f":"IF(AND($Y$4=TRUE,$X$8=ListsFlags!$A$13),$Y$6+(s6rad*(COS(PI()*A20/180))),NA())","v":{"$error":"#N/A"}},null,null,{"$f":"IF(AND($AC$4=TRUE,$AB$8=ListsFlags!$A$13),$AC$5+(s7rad*(SIN(PI()*A20/180))),NA())","v":{"$error":"#N/A"}},{"$f":"IF(AND($AC$4=TRUE,$AB$8=ListsFlags!$A$13),$AC$6+(s7rad*(COS(PI()*A20/180))),NA())","v":{"$error":"#N/A"}},null,null,{"$f":"IF(AND($AG$4=TRUE,$AF$8=ListsFlags!$A$13),$AG$5+(s8rad*(SIN(PI()*A20/180))),NA())","v":{"$error":"#N/A"}},{"$f":"IF(AND($AG$4=TRUE,$AF$8=ListsFlags!$A$13),$AG$6+(s8rad*(COS(PI()*A20/180))),NA())","v":{"$error":"#N/A"}},null,null,{"$f":"IF(AND($AK$4=TRUE,$AJ$8=ListsFlags!$A$13),$AK$5+(s9rad*(SIN(PI()*A20/180))),NA())","v":{"$error":"#N/A"}},{"$f":"IF(AND($AK$4=TRUE,$AJ$8=ListsFlags!$A$13),$AK$6+(s9rad*(COS(PI()*A20/180))),NA())","v":{"$error":"#N/A"}},null,null,{"$f":"IF(AND($AO$4=TRUE,$AN$8=ListsFlags!$A$13),$AO$5+(s10rad*(SIN(PI()*A20/180))),NA())","v":{"$error":"#N/A"}},{"$f":"IF(AND($AO$4=TRUE,$AN$8=ListsFlags!$A$13),$AO$6+(s10rad*(COS(PI()*A20/180))),NA())","v":{"$error":"#N/A"}},null,null,{"$error":"#DIV/0!"},{"$error":"#DIV/0!"},null,null,null,{"$error":"#DIV/0!"},{"$error":"#DIV/0!"}]
[85,null,null,null,{"$f":"IF(AND($D$4=TRUE,$C$8=ListsFlags!$A$13),$D$5+(s1rad*(SIN(PI()*Circ!A21/180))),NA())","v":{"$error":"#N/A"}},{"$f":"IF(AND($D$4=TRUE,$C$8=ListsFlags!$A$13),$D$6+(s1rad*(COS(PI()*Circ!A21/180))),NA())","v":{"$error":"#N/A"}},null,null,null,{"$f":"IF(AND($I$4=TRUE,$H$8=ListsFlags!$A$13),$I$5+(s2rad*(SIN(PI()*A21/180))),NA())","v":{"$error":"#N/A"}},{"$f":"IF(AND($I$4=TRUE,$H$8=ListsFlags!$A$13),$I$6+(s2rad*(COS(PI()*A21/180))),NA())","v":{"$error":"#N/A"}},null,null,{"$f":"IF(AND($M$4=TRUE,$L$8=ListsFlags!$A$13),$M$5+(s3rad*(SIN(PI()*A21/180))),NA())","v":{"$error":"#N/A"}},{"$f":"IF(AND($M$4=TRUE,$L$8=ListsFlags!$A$13),$M$6+(s3rad*(COS(PI()*A21/180))),NA())","v":{"$error":"#N/A"}},null,null,{"$f":"IF(AND($Q$4=TRUE,$P$8=ListsFlags!$A$13),$Q$5+(s4rad*(SIN(PI()*A21/180))),NA())","v":{"$error":"#N/A"}},{"$f":"IF(AND($Q$4=TRUE,$P$8=ListsFlags!$A$13),$Q$6+(s4rad*(COS(PI()*A21/180))),NA())","v":{"$error":"#N/A"}},null,null,{"$f":"IF(AND($U$4=TRUE,$T$8=ListsFlags!$A$13),$U$5+(s5rad*(SIN(PI()*A21/180))),NA())","v":{"$error":"#N/A"}},{"$f":"IF(AND($U$4=TRUE,$T$8=ListsFlags!$A$13),$U$6+(s5rad*(COS(PI()*A21/180))),NA())","v":{"$error":"#N/A"}},null,null,{"$f":"IF(AND($Y$4=TRUE,$X$8=ListsFlags!$A$13),$Y$5+(s6rad*(SIN(PI()*A21/180))),NA())","v":{"$error":"#N/A"}},{"$f":"IF(AND($Y$4=TRUE,$X$8=ListsFlags!$A$13),$Y$6+(s6rad*(COS(PI()*A21/180))),NA())","v":{"$error":"#N/A"}},null,null,{"$f":"IF(AND($AC$4=TRUE,$AB$8=ListsFlags!$A$13),$AC$5+(s7rad*(SIN(PI()*A21/180))),NA())","v":{"$error":"#N/A"}},{"$f":"IF(AND($AC$4=TRUE,$AB$8=ListsFlags!$A$13),$AC$6+(s7rad*(COS(PI()*A21/180))),NA())","v":{"$error":"#N/A"}},null,null,{"$f":"IF(AND($AG$4=TRUE,$AF$8=ListsFlags!$A$13),$AG$5+(s8rad*(SIN(PI()*A21/180))),NA())","v":{"$error":"#N/A"}},{"$f":"IF(AND($AG$4=TRUE,$AF$8=ListsFlags!$A$13),$AG$6+(s8rad*(COS(PI()*A21/180))),NA())","v":{"$error":"#N/A"}},null,null,{"$f":"IF(AND($AK$4=TRUE,$AJ$8=ListsFlags!$A$13),$AK$5+(s9rad*(SIN(PI()*A21/180))),NA())","v":{"$error":"#N/A"}},{"$f":"IF(AND($AK$4=TRUE,$AJ$8=ListsFlags!$A$13),$AK$6+(s9rad*(COS(PI()*A21/180))),NA())","v":{"$error":"#N/A"}},null,null,{"$f":"IF(AND($AO$4=TRUE,$AN$8=ListsFlags!$A$13),$AO$5+(s10rad*(SIN(PI()*A21/180))),NA())","v":{"$error":"#N/A"}},{"$f":"IF(AND($AO$4=TRUE,$AN$8=ListsFlags!$A$13),$AO$6+(s10rad*(COS(PI()*A21/180))),NA())","v":{"$error":"#N/A"}},null,null,{"$error":"#DIV/0!"},{"$error":"#DIV/0!"},null,null,null,{"$error":"#DIV/0!"},{"$error":"#DIV/0!"}]
[90,null,null,null,{"$f":"IF(AND($D$4=TRUE,$C$8=ListsFlags!$A$13),$D$5+(s1rad*(SIN(PI()*Circ!A22/180))),NA())","v":{"$error":"#N/A"}},{"$f":"IF(AND($D$4=TRUE,$C$8=ListsFlags!$A$13),$D$6+(s1rad*(COS(PI()*Circ!A22/180))),NA())","v":{"$error":"#N/A"}},"N",null,null,{"$f":"IF(AND($I$4=TRUE,$H$8=ListsFlags!$A$13),$I$5+(s2rad*(SIN(PI()*A22/180))),NA())","v":{"$error":"#N/A"}},{"$f":"IF(AND($I$4=TRUE,$H$8=ListsFlags!$A$13),$I$6+(s2rad*(COS(PI()*A22/180))),NA())","v":{"$error":"#N/A"}},null,null,{"$f":"IF(AND($M$4=TRUE,$L$8=ListsFlags!$A$13),$M$5+(s3rad*(SIN(PI()*A22/180))),NA())","v":{"$error":"#N/A"}},{"$f":"IF(AND($M$4=TRUE,$L$8=ListsFlags!$A$13),$M$6+(s3rad*(COS(PI()*A22/180))),NA())","v":{"$error":"#N/A"}},null,null,{"$f":"IF(AND($Q$4=TRUE,$P$8=ListsFlags!$A$13),$Q$5+(s4rad*(SIN(PI()*A22/180))),NA())","v":{"$error":"#N/A"}},{"$f":"IF(AND($Q$4=TRUE,$P$8=ListsFlags!$A$13),$Q$6+(s4rad*(COS(PI()*A22/180))),NA())","v":{"$error":"#N/A"}},null,null,{"$f":"IF(AND($U$4=TRUE,$T$8=ListsFlags!$A$13),$U$5+(s5rad*(SIN(PI()*A22/180))),NA())","v":{"$error":"#N/A"}},{"$f":"IF(AND($U$4=TRUE,$T$8=ListsFlags!$A$13),$U$6+(s5rad*(COS(PI()*A22/180))),NA())","v":{"$error":"#N/A"}},null,null,{"$f":"IF(AND($Y$4=TRUE,$X$8=ListsFlags!$A$13),$Y$5+(s6rad*(SIN(PI()*A22/180))),NA())","v":{"$error":"#N/A"}},{"$f":"IF(AND($Y$4=TRUE,$X$8=ListsFlags!$A$13),$Y$6+(s6rad*(COS(PI()*A22/180))),NA())","v":{"$error":"#N/A"}},null,null,{"$f":"IF(AND($AC$4=TRUE,$AB$8=ListsFlags!$A$13),$AC$5+(s7rad*(SIN(PI()*A22/180))),NA())","v":{"$error":"#N/A"}},{"$f":"IF(AND($AC$4=TRUE,$AB$8=ListsFlags!$A$13),$AC$6+(s7rad*(COS(PI()*A22/180))),NA())","v":{"$error":"#N/A"}},null,null,{"$f":"IF(AND($AG$4=TRUE,$AF$8=ListsFlags!$A$13),$AG$5+(s8rad*(SIN(PI()*A22/180))),NA())","v":{"$error":"#N/A"}},{"$f":"IF(AND($AG$4=TRUE,$AF$8=ListsFlags!$A$13),$AG$6+(s8rad*(COS(PI()*A22/180))),NA())","v":{"$error":"#N/A"}},null,null,{"$f":"IF(AND($AK$4=TRUE,$AJ$8=ListsFlags!$A$13),$AK$5+(s9rad*(SIN(PI()*A22/180))),NA())","v":{"$error":"#N/A"}},{"$f":"IF(AND($AK$4=TRUE,$AJ$8=ListsFlags!$A$13),$AK$6+(s9rad*(COS(PI()*A22/180))),NA())","v":{"$error":"#N/A"}},null,null,{"$f":"IF(AND($AO$4=TRUE,$AN$8=ListsFlags!$A$13),$AO$5+(s10rad*(SIN(PI()*A22/180))),NA())","v":{"$error":"#N/A"}},{"$f":"IF(AND($AO$4=TRUE,$AN$8=ListsFlags!$A$13),$AO$6+(s10rad*(COS(PI()*A22/180))),NA())","v":{"$error":"#N/A"}},null,null,{"$error":"#DIV/0!"},{"$error":"#DIV/0!"},null,null,null,{"$error":"#DIV/0!"},{"$error":"#DIV/0!"}]
[95,null,null,null,{"$f":"IF(AND($D$4=TRUE,$C$8=ListsFlags!$A$13),$D$5+(s1rad*(SIN(PI()*Circ!A23/180))),NA())","v":{"$error":"#N/A"}},{"$f":"IF(AND($D$4=TRUE,$C$8=ListsFlags!$A$13),$D$6+(s1rad*(COS(PI()*Circ!A23/180))),NA())","v":{"$error":"#N/A"}},null,null,null,{"$f":"IF(AND($I$4=TRUE,$H$8=ListsFlags!$A$13),$I$5+(s2rad*(SIN(PI()*A23/180))),NA())","v":{"$error":"#N/A"}},{"$f":"IF(AND($I$4=TRUE,$H$8=ListsFlags!$A$13),$I$6+(s2rad*(COS(PI()*A23/180))),NA())","v":{"$error":"#N/A"}},null,null,{"$f":"IF(AND($M$4=TRUE,$L$8=ListsFlags!$A$13),$M$5+(s3rad*(SIN(PI()*A23/180))),NA())","v":{"$error":"#N/A"}},{"$f":"IF(AND($M$4=TRUE,$L$8=ListsFlags!$A$13),$M$6+(s3rad*(COS(PI()*A23/180))),NA())","v":{"$error":"#N/A"}},null,null,{"$f":"IF(AND($Q$4=TRUE,$P$8=ListsFlags!$A$13),$Q$5+(s4rad*(SIN(PI()*A23/180))),NA())","v":{"$error":"#N/A"}},{"$f":"IF(AND($Q$4=TRUE,$P$8=ListsFlags!$A$13),$Q$6+(s4rad*(COS(PI()*A23/180))),NA())","v":{"$error":"#N/A"}},null,null,{"$f":"IF(AND($U$4=TRUE,$T$8=ListsFlags!$A$13),$U$5+(s5rad*(SIN(PI()*A23/180))),NA())","v":{"$error":"#N/A"}},{"$f":"IF(AND($U$4=TRUE,$T$8=ListsFlags!$A$13),$U$6+(s5rad*(COS(PI()*A23/180))),NA())","v":{"$error":"#N/A"}},null,null,{"$f":"IF(AND($Y$4=TRUE,$X$8=ListsFlags!$A$13),$Y$5+(s6rad*(SIN(PI()*A23/180))),NA())","v":{"$error":"#N/A"}},{"$f":"IF(AND($Y$4=TRUE,$X$8=ListsFlags!$A$13),$Y$6+(s6rad*(COS(PI()*A23/180))),NA())","v":{"$error":"#N/A"}},null,null,{"$f":"IF(AND($AC$4=TRUE,$AB$8=ListsFlags!$A$13),$AC$5+(s7rad*(SIN(PI()*A23/180))),NA())","v":{"$error":"#N/A"}},{"$f":"IF(AND($AC$4=TRUE,$AB$8=ListsFlags!$A$13),$AC$6+(s7rad*(COS(PI()*A23/180))),NA())","v":{"$error":"#N/A"}},null,null,{"$f":"IF(AND($AG$4=TRUE,$AF$8=ListsFlags!$A$13),$AG$5+(s8rad*(SIN(PI()*A23/180))),NA())","v":{"$error":"#N/A"}},{"$f":"IF(AND($AG$4=TRUE,$AF$8=ListsFlags!$A$13),$AG$6+(s8rad*(COS(PI()*A23/180))),NA())","v":{"$error":"#N/A"}},null,null,{"$f":"IF(AND($AK$4=TRUE,$AJ$8=ListsFlags!$A$13),$AK$5+(s9rad*(SIN(PI()*A23/180))),NA())","v":{"$error":"#N/A"}},{"$f":"IF(AND($AK$4=TRUE,$AJ$8=ListsFlags!$A$13),$AK$6+(s9rad*(COS(PI()*A23/180))),NA())","v":{"$error":"#N/A"}},null,null,{"$f":"IF(AND($AO$4=TRUE,$AN$8=ListsFlags!$A$13),$AO$5+(s10rad*(SIN(PI()*A23/180))),NA())","v":{"$error":"#N/A"}},{"$f":"IF(AND($AO$4=TRUE,$AN$8=ListsFlags!$A$13),$AO$6+(s10rad*(COS(PI()*A23/180))),NA())","v":{"$error":"#N/A"}},null,null,{"$error":"#DIV/0!"},{"$error":"#DIV/0!"},null,null,null,{"$error":"#DIV/0!"},{"$error":"#DIV/0!"}]
[100,null,null,null,{"$f":"IF(AND($D$4=TRUE,$C$8=ListsFlags!$A$13),$D$5+(s1rad*(SIN(PI()*Circ!A24/180))),NA())","v":{"$error":"#N/A"}},{"$f":"IF(AND($D$4=TRUE,$C$8=ListsFlags!$A$13),$D$6+(s1rad*(COS(PI()*Circ!A24/180))),NA())","v":{"$error":"#N/A"}},null,null,null,{"$f":"IF(AND($I$4=TRUE,$H$8=ListsFlags!$A$13),$I$5+(s2rad*(SIN(PI()*A24/180))),NA())","v":{"$error":"#N/A"}},{"$f":"IF(AND($I$4=TRUE,$H$8=ListsFlags!$A$13),$I$6+(s2rad*(COS(PI()*A24/180))),NA())","v":{"$error":"#N/A"}},null,null,{"$f":"IF(AND($M$4=TRUE,$L$8=ListsFlags!$A$13),$M$5+(s3rad*(SIN(PI()*A24/180))),NA())","v":{"$error":"#N/A"}},{"$f":"IF(AND($M$4=TRUE,$L$8=ListsFlags!$A$13),$M$6+(s3rad*(COS(PI()*A24/180))),NA())","v":{"$error":"#N/A"}},null,null,{"$f":"IF(AND($Q$4=TRUE,$P$8=ListsFlags!$A$13),$Q$5+(s4rad*(SIN(PI()*A24/180))),NA())","v":{"$error":"#N/A"}},{"$f":"IF(AND($Q$4=TRUE,$P$8=ListsFlags!$A$13),$Q$6+(s4rad*(COS(PI()*A24/180))),NA())","v":{"$error":"#N/A"}},null,null,{"$f":"IF(AND($U$4=TRUE,$T$8=ListsFlags!$A$13),$U$5+(s5rad*(SIN(PI()*A24/180))),NA())","v":{"$error":"#N/A"}},{"$f":"IF(AND($U$4=TRUE,$T$8=ListsFlags!$A$13),$U$6+(s5rad*(COS(PI()*A24/180))),NA())","v":{"$error":"#N/A"}},null,null,{"$f":"IF(AND($Y$4=TRUE,$X$8=ListsFlags!$A$13),$Y$5+(s6rad*(SIN(PI()*A24/180))),NA())","v":{"$error":"#N/A"}},{"$f":"IF(AND($Y$4=TRUE,$X$8=ListsFlags!$A$13),$Y$6+(s6rad*(COS(PI()*A24/180))),NA())","v":{"$error":"#N/A"}},null,null,{"$f":"IF(AND($AC$4=TRUE,$AB$8=ListsFlags!$A$13),$AC$5+(s7rad*(SIN(PI()*A24/180))),NA())","v":{"$error":"#N/A"}},{"$f":"IF(AND($AC$4=TRUE,$AB$8=ListsFlags!$A$13),$AC$6+(s7rad*(COS(PI()*A24/180))),NA())","v":{"$error":"#N/A"}},null,null,{"$f":"IF(AND($AG$4=TRUE,$AF$8=ListsFlags!$A$13),$AG$5+(s8rad*(SIN(PI()*A24/180))),NA())","v":{"$error":"#N/A"}},{"$f":"IF(AND($AG$4=TRUE,$AF$8=ListsFlags!$A$13),$AG$6+(s8rad*(COS(PI()*A24/180))),NA())","v":{"$error":"#N/A"}},null,null,{"$f":"IF(AND($AK$4=TRUE,$AJ$8=ListsFlags!$A$13),$AK$5+(s9rad*(SIN(PI()*A24/180))),NA())","v":{"$error":"#N/A"}},{"$f":"IF(AND($AK$4=TRUE,$AJ$8=ListsFlags!$A$13),$AK$6+(s9rad*(COS(PI()*A24/180))),NA())","v":{"$error":"#N/A"}},null,null,{"$f":"IF(AND($AO$4=TRUE,$AN$8=ListsFlags!$A$13),$AO$5+(s10rad*(SIN(PI()*A24/180))),NA())","v":{"$error":"#N/A"}},{"$f":"IF(AND($AO$4=TRUE,$AN$8=ListsFlags!$A$13),$AO$6+(s10rad*(COS(PI()*A24/180))),NA())","v":{"$error":"#N/A"}},null,null,{"$error":"#DIV/0!"},{"$error":"#DIV/0!"},null,null,null,{"$error":"#DIV/0!"},{"$error":"#DIV/0!"}]
[105,null,null,null,{"$f":"IF(AND($D$4=TRUE,$C$8=ListsFlags!$A$13),$D$5+(s1rad*(SIN(PI()*Circ!A25/180))),NA())","v":{"$error":"#N/A"}},{"$f":"IF(AND($D$4=TRUE,$C$8=ListsFlags!$A$13),$D$6+(s1rad*(COS(PI()*Circ!A25/180))),NA())","v":{"$error":"#N/A"}},null,null,null,{"$f":"IF(AND($I$4=TRUE,$H$8=ListsFlags!$A$13),$I$5+(s2rad*(SIN(PI()*A25/180))),NA())","v":{"$error":"#N/A"}},{"$f":"IF(AND($I$4=TRUE,$H$8=ListsFlags!$A$13),$I$6+(s2rad*(COS(PI()*A25/180))),NA())","v":{"$error":"#N/A"}},null,null,{"$f":"IF(AND($M$4=TRUE,$L$8=ListsFlags!$A$13),$M$5+(s3rad*(SIN(PI()*A25/180))),NA())","v":{"$error":"#N/A"}},{"$f":"IF(AND($M$4=TRUE,$L$8=ListsFlags!$A$13),$M$6+(s3rad*(COS(PI()*A25/180))),NA())","v":{"$error":"#N/A"}},null,null,{"$f":"IF(AND($Q$4=TRUE,$P$8=ListsFlags!$A$13),$Q$5+(s4rad*(SIN(PI()*A25/180))),NA())","v":{"$error":"#N/A"}},{"$f":"IF(AND($Q$4=TRUE,$P$8=ListsFlags!$A$13),$Q$6+(s4rad*(COS(PI()*A25/180))),NA())","v":{"$error":"#N/A"}},null,null,{"$f":"IF(AND($U$4=TRUE,$T$8=ListsFlags!$A$13),$U$5+(s5rad*(SIN(PI()*A25/180))),NA())","v":{"$error":"#N/A"}},{"$f":"IF(AND($U$4=TRUE,$T$8=ListsFlags!$A$13),$U$6+(s5rad*(COS(PI()*A25/180))),NA())","v":{"$error":"#N/A"}},null,null,{"$f":"IF(AND($Y$4=TRUE,$X$8=ListsFlags!$A$13),$Y$5+(s6rad*(SIN(PI()*A25/180))),NA())","v":{"$error":"#N/A"}},{"$f":"IF(AND($Y$4=TRUE,$X$8=ListsFlags!$A$13),$Y$6+(s6rad*(COS(PI()*A25/180))),NA())","v":{"$error":"#N/A"}},null,null,{"$f":"IF(AND($AC$4=TRUE,$AB$8=ListsFlags!$A$13),$AC$5+(s7rad*(SIN(PI()*A25/180))),NA())","v":{"$error":"#N/A"}},{"$f":"IF(AND($AC$4=TRUE,$AB$8=ListsFlags!$A$13),$AC$6+(s7rad*(COS(PI()*A25/180))),NA())","v":{"$error":"#N/A"}},null,null,{"$f":"IF(AND($AG$4=TRUE,$AF$8=ListsFlags!$A$13),$AG$5+(s8rad*(SIN(PI()*A25/180))),NA())","v":{"$error":"#N/A"}},{"$f":"IF(AND($AG$4=TRUE,$AF$8=ListsFlags!$A$13),$AG$6+(s8rad*(COS(PI()*A25/180))),NA())","v":{"$error":"#N/A"}},null,null,{"$f":"IF(AND($AK$4=TRUE,$AJ$8=ListsFlags!$A$13),$AK$5+(s9rad*(SIN(PI()*A25/180))),NA())","v":{"$error":"#N/A"}},{"$f":"IF(AND($AK$4=TRUE,$AJ$8=ListsFlags!$A$13),$AK$6+(s9rad*(COS(PI()*A25/180))),NA())","v":{"$error":"#N/A"}},null,null,{"$f":"IF(AND($AO$4=TRUE,$AN$8=ListsFlags!$A$13),$AO$5+(s10rad*(SIN(PI()*A25/180))),NA())","v":{"$error":"#N/A"}},{"$f":"IF(AND($AO$4=TRUE,$AN$8=ListsFlags!$A$13),$AO$6+(s10rad*(COS(PI()*A25/180))),NA())","v":{"$error":"#N/A"}},null,null,{"$error":"#DIV/0!"},{"$error":"#DIV/0!"},null,null,null,{"$error":"#DIV/0!"},{"$error":"#DIV/0!"}]
[110,null,null,null,{"$f":"IF(AND($D$4=TRUE,$C$8=ListsFlags!$A$13),$D$5+(s1rad*(SIN(PI()*Circ!A26/180))),NA())","v":{"$error":"#N/A"}},{"$f":"IF(AND($D$4=TRUE,$C$8=ListsFlags!$A$13),$D$6+(s1rad*(COS(PI()*Circ!A26/180))),NA())","v":{"$error":"#N/A"}},null,null,null,{"$f":"IF(AND($I$4=TRUE,$H$8=ListsFlags!$A$13),$I$5+(s2rad*(SIN(PI()*A26/180))),NA())","v":{"$error":"#N/A"}},{"$f":"IF(AND($I$4=TRUE,$H$8=ListsFlags!$A$13),$I$6+(s2rad*(COS(PI()*A26/180))),NA())","v":{"$error":"#N/A"}},null,null,{"$f":"IF(AND($M$4=TRUE,$L$8=ListsFlags!$A$13),$M$5+(s3rad*(SIN(PI()*A26/180))),NA())","v":{"$error":"#N/A"}},{"$f":"IF(AND($M$4=TRUE,$L$8=ListsFlags!$A$13),$M$6+(s3rad*(COS(PI()*A26/180))),NA())","v":{"$error":"#N/A"}},null,null,{"$f":"IF(AND($Q$4=TRUE,$P$8=ListsFlags!$A$13),$Q$5+(s4rad*(SIN(PI()*A26/180))),NA())","v":{"$error":"#N/A"}},{"$f":"IF(AND($Q$4=TRUE,$P$8=ListsFlags!$A$13),$Q$6+(s4rad*(COS(PI()*A26/180))),NA())","v":{"$error":"#N/A"}},null,null,{"$f":"IF(AND($U$4=TRUE,$T$8=ListsFlags!$A$13),$U$5+(s5rad*(SIN(PI()*A26/180))),NA())","v":{"$error":"#N/A"}},{"$f":"IF(AND($U$4=TRUE,$T$8=ListsFlags!$A$13),$U$6+(s5rad*(COS(PI()*A26/180))),NA())","v":{"$error":"#N/A"}},null,null,{"$f":"IF(AND($Y$4=TRUE,$X$8=ListsFlags!$A$13),$Y$5+(s6rad*(SIN(PI()*A26/180))),NA())","v":{"$error":"#N/A"}},{"$f":"IF(AND($Y$4=TRUE,$X$8=ListsFlags!$A$13),$Y$6+(s6rad*(COS(PI()*A26/180))),NA())","v":{"$error":"#N/A"}},null,null,{"$f":"IF(AND($AC$4=TRUE,$AB$8=ListsFlags!$A$13),$AC$5+(s7rad*(SIN(PI()*A26/180))),NA())","v":{"$error":"#N/A"}},{"$f":"IF(AND($AC$4=TRUE,$AB$8=ListsFlags!$A$13),$AC$6+(s7rad*(COS(PI()*A26/180))),NA())","v":{"$error":"#N/A"}},null,null,{"$f":"IF(AND($AG$4=TRUE,$AF$8=ListsFlags!$A$13),$AG$5+(s8rad*(SIN(PI()*A26/180))),NA())","v":{"$error":"#N/A"}},{"$f":"IF(AND($AG$4=TRUE,$AF$8=ListsFlags!$A$13),$AG$6+(s8rad*(COS(PI()*A26/180))),NA())","v":{"$error":"#N/A"}},null,null,{"$f":"IF(AND($AK$4=TRUE,$AJ$8=ListsFlags!$A$13),$AK$5+(s9rad*(SIN(PI()*A26/180))),NA())","v":{"$error":"#N/A"}},{"$f":"IF(AND($AK$4=TRUE,$AJ$8=ListsFlags!$A$13),$AK$6+(s9rad*(COS(PI()*A26/180))),NA())","v":{"$error":"#N/A"}},null,null,{"$f":"IF(AND($AO$4=TRUE,$AN$8=ListsFlags!$A$13),$AO$5+(s10rad*(SIN(PI()*A26/180))),NA())","v":{"$error":"#N/A"}},{"$f":"IF(AND($AO$4=TRUE,$AN$8=ListsFlags!$A$13),$AO$6+(s10rad*(COS(PI()*A26/180))),NA())","v":{"$error":"#N/A"}},null,null,{"$error":"#DIV/0!"},{"$error":"#DIV/0!"},null,null,null,{"$error":"#DIV/0!"},{"$error":"#DIV/0!"}]
[115,null,null,null,{"$f":"IF(AND($D$4=TRUE,$C$8=ListsFlags!$A$13),$D$5+(s1rad*(SIN(PI()*Circ!A27/180))),NA())","v":{"$error":"#N/A"}},{"$f":"IF(AND($D$4=TRUE,$C$8=ListsFlags!$A$13),$D$6+(s1rad*(COS(PI()*Circ!A27/180))),NA())","v":{"$error":"#N/A"}},null,null,null,{"$f":"IF(AND($I$4=TRUE,$H$8=ListsFlags!$A$13),$I$5+(s2rad*(SIN(PI()*A27/180))),NA())","v":{"$error":"#N/A"}},{"$f":"IF(AND($I$4=TRUE,$H$8=ListsFlags!$A$13),$I$6+(s2rad*(COS(PI()*A27/180))),NA())","v":{"$error":"#N/A"}},null,null,{"$f":"IF(AND($M$4=TRUE,$L$8=ListsFlags!$A$13),$M$5+(s3rad*(SIN(PI()*A27/180))),NA())","v":{"$error":"#N/A"}},{"$f":"IF(AND($M$4=TRUE,$L$8=ListsFlags!$A$13),$M$6+(s3rad*(COS(PI()*A27/180))),NA())","v":{"$error":"#N/A"}},null,null,{"$f":"IF(AND($Q$4=TRUE,$P$8=ListsFlags!$A$13),$Q$5+(s4rad*(SIN(PI()*A27/180))),NA())","v":{"$error":"#N/A"}},{"$f":"IF(AND($Q$4=TRUE,$P$8=ListsFlags!$A$13),$Q$6+(s4rad*(COS(PI()*A27/180))),NA())","v":{"$error":"#N/A"}},null,null,{"$f":"IF(AND($U$4=TRUE,$T$8=ListsFlags!$A$13),$U$5+(s5rad*(SIN(PI()*A27/180))),NA())","v":{"$error":"#N/A"}},{"$f":"IF(AND($U$4=TRUE,$T$8=ListsFlags!$A$13),$U$6+(s5rad*(COS(PI()*A27/180))),NA())","v":{"$error":"#N/A"}},null,null,{"$f":"IF(AND($Y$4=TRUE,$X$8=ListsFlags!$A$13),$Y$5+(s6rad*(SIN(PI()*A27/180))),NA())","v":{"$error":"#N/A"}},{"$f":"IF(AND($Y$4=TRUE,$X$8=ListsFlags!$A$13),$Y$6+(s6rad*(COS(PI()*A27/180))),NA())","v":{"$error":"#N/A"}},null,null,{"$f":"IF(AND($AC$4=TRUE,$AB$8=ListsFlags!$A$13),$AC$5+(s7rad*(SIN(PI()*A27/180))),NA())","v":{"$error":"#N/A"}},{"$f":"IF(AND($AC$4=TRUE,$AB$8=ListsFlags!$A$13),$AC$6+(s7rad*(COS(PI()*A27/180))),NA())","v":{"$error":"#N/A"}},null,null,{"$f":"IF(AND($AG$4=TRUE,$AF$8=ListsFlags!$A$13),$AG$5+(s8rad*(SIN(PI()*A27/180))),NA())","v":{"$error":"#N/A"}},{"$f":"IF(AND($AG$4=TRUE,$AF$8=ListsFlags!$A$13),$AG$6+(s8rad*(COS(PI()*A27/180))),NA())","v":{"$error":"#N/A"}},null,null,{"$f":"IF(AND($AK$4=TRUE,$AJ$8=ListsFlags!$A$13),$AK$5+(s9rad*(SIN(PI()*A27/180))),NA())","v":{"$error":"#N/A"}},{"$f":"IF(AND($AK$4=TRUE,$AJ$8=ListsFlags!$A$13),$AK$6+(s9rad*(COS(PI()*A27/180))),NA())","v":{"$error":"#N/A"}},null,null,{"$f":"IF(AND($AO$4=TRUE,$AN$8=ListsFlags!$A$13),$AO$5+(s10rad*(SIN(PI()*A27/180))),NA())","v":{"$error":"#N/A"}},{"$f":"IF(AND($AO$4=TRUE,$AN$8=ListsFlags!$A$13),$AO$6+(s10rad*(COS(PI()*A27/180))),NA())","v":{"$error":"#N/A"}},null,null,{"$error":"#DIV/0!"},{"$error":"#DIV/0!"},null,null,null,{"$error":"#DIV/0!"},{"$error":"#DIV/0!"}]
[120,null,null,null,{"$f":"IF(AND($D$4=TRUE,$C$8=ListsFlags!$A$13),$D$5+(s1rad*(SIN(PI()*Circ!A28/180))),NA())","v":{"$error":"#N/A"}},{"$f":"IF(AND($D$4=TRUE,$C$8=ListsFlags!$A$13),$D$6+(s1rad*(COS(PI()*Circ!A28/180))),NA())","v":{"$error":"#N/A"}},null,null,null,{"$f":"IF(AND($I$4=TRUE,$H$8=ListsFlags!$A$13),$I$5+(s2rad*(SIN(PI()*A28/180))),NA())","v":{"$error":"#N/A"}},{"$f":"IF(AND($I$4=TRUE,$H$8=ListsFlags!$A$13),$I$6+(s2rad*(COS(PI()*A28/180))),NA())","v":{"$error":"#N/A"}},null,null,{"$f":"IF(AND($M$4=TRUE,$L$8=ListsFlags!$A$13),$M$5+(s3rad*(SIN(PI()*A28/180))),NA())","v":{"$error":"#N/A"}},{"$f":"IF(AND($M$4=TRUE,$L$8=ListsFlags!$A$13),$M$6+(s3rad*(COS(PI()*A28/180))),NA())","v":{"$error":"#N/A"}},null,null,{"$f":"IF(AND($Q$4=TRUE,$P$8=ListsFlags!$A$13),$Q$5+(s4rad*(SIN(PI()*A28/180))),NA())","v":{"$error":"#N/A"}},{"$f":"IF(AND($Q$4=TRUE,$P$8=ListsFlags!$A$13),$Q$6+(s4rad*(COS(PI()*A28/180))),NA())","v":{"$error":"#N/A"}},null,null,{"$f":"IF(AND($U$4=TRUE,$T$8=ListsFlags!$A$13),$U$5+(s5rad*(SIN(PI()*A28/180))),NA())","v":{"$error":"#N/A"}},{"$f":"IF(AND($U$4=TRUE,$T$8=ListsFlags!$A$13),$U$6+(s5rad*(COS(PI()*A28/180))),NA())","v":{"$error":"#N/A"}},null,null,{"$f":"IF(AND($Y$4=TRUE,$X$8=ListsFlags!$A$13),$Y$5+(s6rad*(SIN(PI()*A28/180))),NA())","v":{"$error":"#N/A"}},{"$f":"IF(AND($Y$4=TRUE,$X$8=ListsFlags!$A$13),$Y$6+(s6rad*(COS(PI()*A28/180))),NA())","v":{"$error":"#N/A"}},null,null,{"$f":"IF(AND($AC$4=TRUE,$AB$8=ListsFlags!$A$13),$AC$5+(s7rad*(SIN(PI()*A28/180))),NA())","v":{"$error":"#N/A"}},{"$f":"IF(AND($AC$4=TRUE,$AB$8=ListsFlags!$A$13),$AC$6+(s7rad*(COS(PI()*A28/180))),NA())","v":{"$error":"#N/A"}},null,null,{"$f":"IF(AND($AG$4=TRUE,$AF$8=ListsFlags!$A$13),$AG$5+(s8rad*(SIN(PI()*A28/180))),NA())","v":{"$error":"#N/A"}},{"$f":"IF(AND($AG$4=TRUE,$AF$8=ListsFlags!$A$13),$AG$6+(s8rad*(COS(PI()*A28/180))),NA())","v":{"$error":"#N/A"}},null,null,{"$f":"IF(AND($AK$4=TRUE,$AJ$8=ListsFlags!$A$13),$AK$5+(s9rad*(SIN(PI()*A28/180))),NA())","v":{"$error":"#N/A"}},{"$f":"IF(AND($AK$4=TRUE,$AJ$8=ListsFlags!$A$13),$AK$6+(s9rad*(COS(PI()*A28/180))),NA())","v":{"$error":"#N/A"}},null,null,{"$f":"IF(AND($AO$4=TRUE,$AN$8=ListsFlags!$A$13),$AO$5+(s10rad*(SIN(PI()*A28/180))),NA())","v":{"$error":"#N/A"}},{"$f":"IF(AND($AO$4=TRUE,$AN$8=ListsFlags!$A$13),$AO$6+(s10rad*(COS(PI()*A28/180))),NA())","v":{"$error":"#N/A"}},null,null,{"$error":"#DIV/0!"},{"$error":"#DIV/0!"},null,null,null,{"$error":"#DIV/0!"},{"$error":"#DIV/0!"}]
[125,null,null,null,{"$f":"IF(AND($D$4=TRUE,$C$8=ListsFlags!$A$13),$D$5+(s1rad*(SIN(PI()*Circ!A29/180))),NA())","v":{"$error":"#N/A"}},{"$f":"IF(AND($D$4=TRUE,$C$8=ListsFlags!$A$13),$D$6+(s1rad*(COS(PI()*Circ!A29/180))),NA())","v":{"$error":"#N/A"}},null,null,null,{"$f":"IF(AND($I$4=TRUE,$H$8=ListsFlags!$A$13),$I$5+(s2rad*(SIN(PI()*A29/180))),NA())","v":{"$error":"#N/A"}},{"$f":"IF(AND($I$4=TRUE,$H$8=ListsFlags!$A$13),$I$6+(s2rad*(COS(PI()*A29/180))),NA())","v":{"$error":"#N/A"}},null,null,{"$f":"IF(AND($M$4=TRUE,$L$8=ListsFlags!$A$13),$M$5+(s3rad*(SIN(PI()*A29/180))),NA())","v":{"$error":"#N/A"}},{"$f":"IF(AND($M$4=TRUE,$L$8=ListsFlags!$A$13),$M$6+(s3rad*(COS(PI()*A29/180))),NA())","v":{"$error":"#N/A"}},null,null,{"$f":"IF(AND($Q$4=TRUE,$P$8=ListsFlags!$A$13),$Q$5+(s4rad*(SIN(PI()*A29/180))),NA())","v":{"$error":"#N/A"}},{"$f":"IF(AND($Q$4=TRUE,$P$8=ListsFlags!$A$13),$Q$6+(s4rad*(COS(PI()*A29/180))),NA())","v":{"$error":"#N/A"}},null,null,{"$f":"IF(AND($U$4=TRUE,$T$8=ListsFlags!$A$13),$U$5+(s5rad*(SIN(PI()*A29/180))),NA())","v":{"$error":"#N/A"}},{"$f":"IF(AND($U$4=TRUE,$T$8=ListsFlags!$A$13),$U$6+(s5rad*(COS(PI()*A29/180))),NA())","v":{"$error":"#N/A"}},null,null,{"$f":"IF(AND($Y$4=TRUE,$X$8=ListsFlags!$A$13),$Y$5+(s6rad*(SIN(PI()*A29/180))),NA())","v":{"$error":"#N/A"}},{"$f":"IF(AND($Y$4=TRUE,$X$8=ListsFlags!$A$13),$Y$6+(s6rad*(COS(PI()*A29/180))),NA())","v":{"$error":"#N/A"}},null,null,{"$f":"IF(AND($AC$4=TRUE,$AB$8=ListsFlags!$A$13),$AC$5+(s7rad*(SIN(PI()*A29/180))),NA())","v":{"$error":"#N/A"}},{"$f":"IF(AND($AC$4=TRUE,$AB$8=ListsFlags!$A$13),$AC$6+(s7rad*(COS(PI()*A29/180))),NA())","v":{"$error":"#N/A"}},null,null,{"$f":"IF(AND($AG$4=TRUE,$AF$8=ListsFlags!$A$13),$AG$5+(s8rad*(SIN(PI()*A29/180))),NA())","v":{"$error":"#N/A"}},{"$f":"IF(AND($AG$4=TRUE,$AF$8=ListsFlags!$A$13),$AG$6+(s8rad*(COS(PI()*A29/180))),NA())","v":{"$error":"#N/A"}},null,null,{"$f":"IF(AND($AK$4=TRUE,$AJ$8=ListsFlags!$A$13),$AK$5+(s9rad*(SIN(PI()*A29/180))),NA())","v":{"$error":"#N/A"}},{"$f":"IF(AND($AK$4=TRUE,$AJ$8=ListsFlags!$A$13),$AK$6+(s9rad*(COS(PI()*A29/180))),NA())","v":{"$error":"#N/A"}},null,null,{"$f":"IF(AND($AO$4=TRUE,$AN$8=ListsFlags!$A$13),$AO$5+(s10rad*(SIN(PI()*A29/180))),NA())","v":{"$error":"#N/A"}},{"$f":"IF(AND($AO$4=TRUE,$AN$8=ListsFlags!$A$13),$AO$6+(s10rad*(COS(PI()*A29/180))),NA())","v":{"$error":"#N/A"}},null,null,{"$error":"#DIV/0!"},{"$error":"#DIV/0!"},null,null,null,{"$error":"#DIV/0!"},{"$error":"#DIV/0!"}]
[130,null,null,null,{"$f":"IF(AND($D$4=TRUE,$C$8=ListsFlags!$A$13),$D$5+(s1rad*(SIN(PI()*Circ!A30/180))),NA())","v":{"$error":"#N/A"}},{"$f":"IF(AND($D$4=TRUE,$C$8=ListsFlags!$A$13),$D$6+(s1rad*(COS(PI()*Circ!A30/180))),NA())","v":{"$error":"#N/A"}},null,null,null,{"$f":"IF(AND($I$4=TRUE,$H$8=ListsFlags!$A$13),$I$5+(s2rad*(SIN(PI()*A30/180))),NA())","v":{"$error":"#N/A"}},{"$f":"IF(AND($I$4=TRUE,$H$8=ListsFlags!$A$13),$I$6+(s2rad*(COS(PI()*A30/180))),NA())","v":{"$error":"#N/A"}},null,null,{"$f":"IF(AND($M$4=TRUE,$L$8=ListsFlags!$A$13),$M$5+(s3rad*(SIN(PI()*A30/180))),NA())","v":{"$error":"#N/A"}},{"$f":"IF(AND($M$4=TRUE,$L$8=ListsFlags!$A$13),$M$6+(s3rad*(COS(PI()*A30/180))),NA())","v":{"$error":"#N/A"}},null,null,{"$f":"IF(AND($Q$4=TRUE,$P$8=ListsFlags!$A$13),$Q$5+(s4rad*(SIN(PI()*A30/180))),NA())","v":{"$error":"#N/A"}},{"$f":"IF(AND($Q$4=TRUE,$P$8=ListsFlags!$A$13),$Q$6+(s4rad*(COS(PI()*A30/180))),NA())","v":{"$error":"#N/A"}},null,null,{"$f":"IF(AND($U$4=TRUE,$T$8=ListsFlags!$A$13),$U$5+(s5rad*(SIN(PI()*A30/180))),NA())","v":{"$error":"#N/A"}},{"$f":"IF(AND($U$4=TRUE,$T$8=ListsFlags!$A$13),$U$6+(s5rad*(COS(PI()*A30/180))),NA())","v":{"$error":"#N/A"}},null,null,{"$f":"IF(AND($Y$4=TRUE,$X$8=ListsFlags!$A$13),$Y$5+(s6rad*(SIN(PI()*A30/180))),NA())","v":{"$error":"#N/A"}},{"$f":"IF(AND($Y$4=TRUE,$X$8=ListsFlags!$A$13),$Y$6+(s6rad*(COS(PI()*A30/180))),NA())","v":{"$error":"#N/A"}},null,null,{"$f":"IF(AND($AC$4=TRUE,$AB$8=ListsFlags!$A$13),$AC$5+(s7rad*(SIN(PI()*A30/180))),NA())","v":{"$error":"#N/A"}},{"$f":"IF(AND($AC$4=TRUE,$AB$8=ListsFlags!$A$13),$AC$6+(s7rad*(COS(PI()*A30/180))),NA())","v":{"$error":"#N/A"}},null,null,{"$f":"IF(AND($AG$4=TRUE,$AF$8=ListsFlags!$A$13),$AG$5+(s8rad*(SIN(PI()*A30/180))),NA())","v":{"$error":"#N/A"}},{"$f":"IF(AND($AG$4=TRUE,$AF$8=ListsFlags!$A$13),$AG$6+(s8rad*(COS(PI()*A30/180))),NA())","v":{"$error":"#N/A"}},null,null,{"$f":"IF(AND($AK$4=TRUE,$AJ$8=ListsFlags!$A$13),$AK$5+(s9rad*(SIN(PI()*A30/180))),NA())","v":{"$error":"#N/A"}},{"$f":"IF(AND($AK$4=TRUE,$AJ$8=ListsFlags!$A$13),$AK$6+(s9rad*(COS(PI()*A30/180))),NA())","v":{"$error":"#N/A"}},null,null,{"$f":"IF(AND($AO$4=TRUE,$AN$8=ListsFlags!$A$13),$AO$5+(s10rad*(SIN(PI()*A30/180))),NA())","v":{"$error":"#N/A"}},{"$f":"IF(AND($AO$4=TRUE,$AN$8=ListsFlags!$A$13),$AO$6+(s10rad*(COS(PI()*A30/180))),NA())","v":{"$error":"#N/A"}},null,null,{"$error":"#DIV/0!"},{"$error":"#DIV/0!"},null,null,null,{"$error":"#DIV/0!"},{"$error":"#DIV/0!"}]
[135,null,null,null,{"$f":"IF(AND($D$4=TRUE,$C$8=ListsFlags!$A$13),$D$5+(s1rad*(SIN(PI()*Circ!A31/180))),NA())","v":{"$error":"#N/A"}},{"$f":"IF(AND($D$4=TRUE,$C$8=ListsFlags!$A$13),$D$6+(s1rad*(COS(PI()*Circ!A31/180))),NA())","v":{"$error":"#N/A"}},"NW",null,null,{"$f":"IF(AND($I$4=TRUE,$H$8=ListsFlags!$A$13),$I$5+(s2rad*(SIN(PI()*A31/180))),NA())","v":{"$error":"#N/A"}},{"$f":"IF(AND($I$4=TRUE,$H$8=ListsFlags!$A$13),$I$6+(s2rad*(COS(PI()*A31/180))),NA())","v":{"$error":"#N/A"}},null,null,{"$f":"IF(AND($M$4=TRUE,$L$8=ListsFlags!$A$13),$M$5+(s3rad*(SIN(PI()*A31/180))),NA())","v":{"$error":"#N/A"}},{"$f":"IF(AND($M$4=TRUE,$L$8=ListsFlags!$A$13),$M$6+(s3rad*(COS(PI()*A31/180))),NA())","v":{"$error":"#N/A"}},null,null,{"$f":"IF(AND($Q$4=TRUE,$P$8=ListsFlags!$A$13),$Q$5+(s4rad*(SIN(PI()*A31/180))),NA())","v":{"$error":"#N/A"}},{"$f":"IF(AND($Q$4=TRUE,$P$8=ListsFlags!$A$13),$Q$6+(s4rad*(COS(PI()*A31/180))),NA())","v":{"$error":"#N/A"}},null,null,{"$f":"IF(AND($U$4=TRUE,$T$8=ListsFlags!$A$13),$U$5+(s5rad*(SIN(PI()*A31/180))),NA())","v":{"$error":"#N/A"}},{"$f":"IF(AND($U$4=TRUE,$T$8=ListsFlags!$A$13),$U$6+(s5rad*(COS(PI()*A31/180))),NA())","v":{"$error":"#N/A"}},null,null,{"$f":"IF(AND($Y$4=TRUE,$X$8=ListsFlags!$A$13),$Y$5+(s6rad*(SIN(PI()*A31/180))),NA())","v":{"$error":"#N/A"}},{"$f":"IF(AND($Y$4=TRUE,$X$8=ListsFlags!$A$13),$Y$6+(s6rad*(COS(PI()*A31/180))),NA())","v":{"$error":"#N/A"}},null,null,{"$f":"IF(AND($AC$4=TRUE,$AB$8=ListsFlags!$A$13),$AC$5+(s7rad*(SIN(PI()*A31/180))),NA())","v":{"$error":"#N/A"}},{"$f":"IF(AND($AC$4=TRUE,$AB$8=ListsFlags!$A$13),$AC$6+(s7rad*(COS(PI()*A31/180))),NA())","v":{"$error":"#N/A"}},null,null,{"$f":"IF(AND($AG$4=TRUE,$AF$8=ListsFlags!$A$13),$AG$5+(s8rad*(SIN(PI()*A31/180))),NA())","v":{"$error":"#N/A"}},{"$f":"IF(AND($AG$4=TRUE,$AF$8=ListsFlags!$A$13),$AG$6+(s8rad*(COS(PI()*A31/180))),NA())","v":{"$error":"#N/A"}},null,null,{"$f":"IF(AND($AK$4=TRUE,$AJ$8=ListsFlags!$A$13),$AK$5+(s9rad*(SIN(PI()*A31/180))),NA())","v":{"$error":"#N/A"}},{"$f":"IF(AND($AK$4=TRUE,$AJ$8=ListsFlags!$A$13),$AK$6+(s9rad*(COS(PI()*A31/180))),NA())","v":{"$error":"#N/A"}},null,null,{"$f":"IF(AND($AO$4=TRUE,$AN$8=ListsFlags!$A$13),$AO$5+(s10rad*(SIN(PI()*A31/180))),NA())","v":{"$error":"#N/A"}},{"$f":"IF(AND($AO$4=TRUE,$AN$8=ListsFlags!$A$13),$AO$6+(s10rad*(COS(PI()*A31/180))),NA())","v":{"$error":"#N/A"}},null,null,{"$error":"#DIV/0!"},{"$error":"#DIV/0!"},null,null,null,{"$error":"#DIV/0!"},{"$error":"#DIV/0!"}]
[140,null,null,null,{"$f":"IF(AND($D$4=TRUE,$C$8=ListsFlags!$A$13),$D$5+(s1rad*(SIN(PI()*Circ!A32/180))),NA())","v":{"$error":"#N/A"}},{"$f":"IF(AND($D$4=TRUE,$C$8=ListsFlags!$A$13),$D$6+(s1rad*(COS(PI()*Circ!A32/180))),NA())","v":{"$error":"#N/A"}},null,null,null,{"$f":"IF(AND($I$4=TRUE,$H$8=ListsFlags!$A$13),$I$5+(s2rad*(SIN(PI()*A32/180))),NA())","v":{"$error":"#N/A"}},{"$f":"IF(AND($I$4=TRUE,$H$8=ListsFlags!$A$13),$I$6+(s2rad*(COS(PI()*A32/180))),NA())","v":{"$error":"#N/A"}},null,null,{"$f":"IF(AND($M$4=TRUE,$L$8=ListsFlags!$A$13),$M$5+(s3rad*(SIN(PI()*A32/180))),NA())","v":{"$error":"#N/A"}},{"$f":"IF(AND($M$4=TRUE,$L$8=ListsFlags!$A$13),$M$6+(s3rad*(COS(PI()*A32/180))),NA())","v":{"$error":"#N/A"}},null,null,{"$f":"IF(AND($Q$4=TRUE,$P$8=ListsFlags!$A$13),$Q$5+(s4rad*(SIN(PI()*A32/180))),NA())","v":{"$error":"#N/A"}},{"$f":"IF(AND($Q$4=TRUE,$P$8=ListsFlags!$A$13),$Q$6+(s4rad*(COS(PI()*A32/180))),NA())","v":{"$error":"#N/A"}},null,null,{"$f":"IF(AND($U$4=TRUE,$T$8=ListsFlags!$A$13),$U$5+(s5rad*(SIN(PI()*A32/180))),NA())","v":{"$error":"#N/A"}},{"$f":"IF(AND($U$4=TRUE,$T$8=ListsFlags!$A$13),$U$6+(s5rad*(COS(PI()*A32/180))),NA())","v":{"$error":"#N/A"}},null,null,{"$f":"IF(AND($Y$4=TRUE,$X$8=ListsFlags!$A$13),$Y$5+(s6rad*(SIN(PI()*A32/180))),NA())","v":{"$error":"#N/A"}},{"$f":"IF(AND($Y$4=TRUE,$X$8=ListsFlags!$A$13),$Y$6+(s6rad*(COS(PI()*A32/180))),NA())","v":{"$error":"#N/A"}},null,null,{"$f":"IF(AND($AC$4=TRUE,$AB$8=ListsFlags!$A$13),$AC$5+(s7rad*(SIN(PI()*A32/180))),NA())","v":{"$error":"#N/A"}},{"$f":"IF(AND($AC$4=TRUE,$AB$8=ListsFlags!$A$13),$AC$6+(s7rad*(COS(PI()*A32/180))),NA())","v":{"$error":"#N/A"}},null,null,{"$f":"IF(AND($AG$4=TRUE,$AF$8=ListsFlags!$A$13),$AG$5+(s8rad*(SIN(PI()*A32/180))),NA())","v":{"$error":"#N/A"}},{"$f":"IF(AND($AG$4=TRUE,$AF$8=ListsFlags!$A$13),$AG$6+(s8rad*(COS(PI()*A32/180))),NA())","v":{"$error":"#N/A"}},null,null,{"$f":"IF(AND($AK$4=TRUE,$AJ$8=ListsFlags!$A$13),$AK$5+(s9rad*(SIN(PI()*A32/180))),NA())","v":{"$error":"#N/A"}},{"$f":"IF(AND($AK$4=TRUE,$AJ$8=ListsFlags!$A$13),$AK$6+(s9rad*(COS(PI()*A32/180))),NA())","v":{"$error":"#N/A"}},null,null,{"$f":"IF(AND($AO$4=TRUE,$AN$8=ListsFlags!$A$13),$AO$5+(s10rad*(SIN(PI()*A32/180))),NA())","v":{"$error":"#N/A"}},{"$f":"IF(AND($AO$4=TRUE,$AN$8=ListsFlags!$A$13),$AO$6+(s10rad*(COS(PI()*A32/180))),NA())","v":{"$error":"#N/A"}},null,null,{"$error":"#DIV/0!"},{"$error":"#DIV/0!"},null,null,null,{"$error":"#DIV/0!"},{"$error":"#DIV/0!"}]
[145,null,null,null,{"$f":"IF(AND($D$4=TRUE,$C$8=ListsFlags!$A$13),$D$5+(s1rad*(SIN(PI()*Circ!A33/180))),NA())","v":{"$error":"#N/A"}},{"$f":"IF(AND($D$4=TRUE,$C$8=ListsFlags!$A$13),$D$6+(s1rad*(COS(PI()*Circ!A33/180))),NA())","v":{"$error":"#N/A"}},null,null,null,{"$f":"IF(AND($I$4=TRUE,$H$8=ListsFlags!$A$13),$I$5+(s2rad*(SIN(PI()*A33/180))),NA())","v":{"$error":"#N/A"}},{"$f":"IF(AND($I$4=TRUE,$H$8=ListsFlags!$A$13),$I$6+(s2rad*(COS(PI()*A33/180))),NA())","v":{"$error":"#N/A"}},null,null,{"$f":"IF(AND($M$4=TRUE,$L$8=ListsFlags!$A$13),$M$5+(s3rad*(SIN(PI()*A33/180))),NA())","v":{"$error":"#N/A"}},{"$f":"IF(AND($M$4=TRUE,$L$8=ListsFlags!$A$13),$M$6+(s3rad*(COS(PI()*A33/180))),NA())","v":{"$error":"#N/A"}},null,null,{"$f":"IF(AND($Q$4=TRUE,$P$8=ListsFlags!$A$13),$Q$5+(s4rad*(SIN(PI()*A33/180))),NA())","v":{"$error":"#N/A"}},{"$f":"IF(AND($Q$4=TRUE,$P$8=ListsFlags!$A$13),$Q$6+(s4rad*(COS(PI()*A33/180))),NA())","v":{"$error":"#N/A"}},null,null,{"$f":"IF(AND($U$4=TRUE,$T$8=ListsFlags!$A$13),$U$5+(s5rad*(SIN(PI()*A33/180))),NA())","v":{"$error":"#N/A"}},{"$f":"IF(AND($U$4=TRUE,$T$8=ListsFlags!$A$13),$U$6+(s5rad*(COS(PI()*A33/180))),NA())","v":{"$error":"#N/A"}},null,null,{"$f":"IF(AND($Y$4=TRUE,$X$8=ListsFlags!$A$13),$Y$5+(s6rad*(SIN(PI()*A33/180))),NA())","v":{"$error":"#N/A"}},{"$f":"IF(AND($Y$4=TRUE,$X$8=ListsFlags!$A$13),$Y$6+(s6rad*(COS(PI()*A33/180))),NA())","v":{"$error":"#N/A"}},null,null,{"$f":"IF(AND($AC$4=TRUE,$AB$8=ListsFlags!$A$13),$AC$5+(s7rad*(SIN(PI()*A33/180))),NA())","v":{"$error":"#N/A"}},{"$f":"IF(AND($AC$4=TRUE,$AB$8=ListsFlags!$A$13),$AC$6+(s7rad*(COS(PI()*A33/180))),NA())","v":{"$error":"#N/A"}},null,null,{"$f":"IF(AND($AG$4=TRUE,$AF$8=ListsFlags!$A$13),$AG$5+(s8rad*(SIN(PI()*A33/180))),NA())","v":{"$error":"#N/A"}},{"$f":"IF(AND($AG$4=TRUE,$AF$8=ListsFlags!$A$13),$AG$6+(s8rad*(COS(PI()*A33/180))),NA())","v":{"$error":"#N/A"}},null,null,{"$f":"IF(AND($AK$4=TRUE,$AJ$8=ListsFlags!$A$13),$AK$5+(s9rad*(SIN(PI()*A33/180))),NA())","v":{"$error":"#N/A"}},{"$f":"IF(AND($AK$4=TRUE,$AJ$8=ListsFlags!$A$13),$AK$6+(s9rad*(COS(PI()*A33/180))),NA())","v":{"$error":"#N/A"}},null,null,{"$f":"IF(AND($AO$4=TRUE,$AN$8=ListsFlags!$A$13),$AO$5+(s10rad*(SIN(PI()*A33/180))),NA())","v":{"$error":"#N/A"}},{"$f":"IF(AND($AO$4=TRUE,$AN$8=ListsFlags!$A$13),$AO$6+(s10rad*(COS(PI()*A33/180))),NA())","v":{"$error":"#N/A"}},null,null,{"$error":"#DIV/0!"},{"$error":"#DIV/0!"},null,null,null,{"$error":"#DIV/0!"},{"$error":"#DIV/0!"}]
[150,null,null,null,{"$f":"IF(AND($D$4=TRUE,$C$8=ListsFlags!$A$13),$D$5+(s1rad*(SIN(PI()*Circ!A34/180))),NA())","v":{"$error":"#N/A"}},{"$f":"IF(AND($D$4=TRUE,$C$8=ListsFlags!$A$13),$D$6+(s1rad*(COS(PI()*Circ!A34/180))),NA())","v":{"$error":"#N/A"}},null,null,null,{"$f":"IF(AND($I$4=TRUE,$H$8=ListsFlags!$A$13),$I$5+(s2rad*(SIN(PI()*A34/180))),NA())","v":{"$error":"#N/A"}},{"$f":"IF(AND($I$4=TRUE,$H$8=ListsFlags!$A$13),$I$6+(s2rad*(COS(PI()*A34/180))),NA())","v":{"$error":"#N/A"}},null,null,{"$f":"IF(AND($M$4=TRUE,$L$8=ListsFlags!$A$13),$M$5+(s3rad*(SIN(PI()*A34/180))),NA())","v":{"$error":"#N/A"}},{"$f":"IF(AND($M$4=TRUE,$L$8=ListsFlags!$A$13),$M$6+(s3rad*(COS(PI()*A34/180))),NA())","v":{"$error":"#N/A"}},null,null,{"$f":"IF(AND($Q$4=TRUE,$P$8=ListsFlags!$A$13),$Q$5+(s4rad*(SIN(PI()*A34/180))),NA())","v":{"$error":"#N/A"}},{"$f":"IF(AND($Q$4=TRUE,$P$8=ListsFlags!$A$13),$Q$6+(s4rad*(COS(PI()*A34/180))),NA())","v":{"$error":"#N/A"}},null,null,{"$f":"IF(AND($U$4=TRUE,$T$8=ListsFlags!$A$13),$U$5+(s5rad*(SIN(PI()*A34/180))),NA())","v":{"$error":"#N/A"}},{"$f":"IF(AND($U$4=TRUE,$T$8=ListsFlags!$A$13),$U$6+(s5rad*(COS(PI()*A34/180))),NA())","v":{"$error":"#N/A"}},null,null,{"$f":"IF(AND($Y$4=TRUE,$X$8=ListsFlags!$A$13),$Y$5+(s6rad*(SIN(PI()*A34/180))),NA())","v":{"$error":"#N/A"}},{"$f":"IF(AND($Y$4=TRUE,$X$8=ListsFlags!$A$13),$Y$6+(s6rad*(COS(PI()*A34/180))),NA())","v":{"$error":"#N/A"}},null,null,{"$f":"IF(AND($AC$4=TRUE,$AB$8=ListsFlags!$A$13),$AC$5+(s7rad*(SIN(PI()*A34/180))),NA())","v":{"$error":"#N/A"}},{"$f":"IF(AND($AC$4=TRUE,$AB$8=ListsFlags!$A$13),$AC$6+(s7rad*(COS(PI()*A34/180))),NA())","v":{"$error":"#N/A"}},null,null,{"$f":"IF(AND($AG$4=TRUE,$AF$8=ListsFlags!$A$13),$AG$5+(s8rad*(SIN(PI()*A34/180))),NA())","v":{"$error":"#N/A"}},{"$f":"IF(AND($AG$4=TRUE,$AF$8=ListsFlags!$A$13),$AG$6+(s8rad*(COS(PI()*A34/180))),NA())","v":{"$error":"#N/A"}},null,null,{"$f":"IF(AND($AK$4=TRUE,$AJ$8=ListsFlags!$A$13),$AK$5+(s9rad*(SIN(PI()*A34/180))),NA())","v":{"$error":"#N/A"}},{"$f":"IF(AND($AK$4=TRUE,$AJ$8=ListsFlags!$A$13),$AK$6+(s9rad*(COS(PI()*A34/180))),NA())","v":{"$error":"#N/A"}},null,null,{"$f":"IF(AND($AO$4=TRUE,$AN$8=ListsFlags!$A$13),$AO$5+(s10rad*(SIN(PI()*A34/180))),NA())","v":{"$error":"#N/A"}},{"$f":"IF(AND($AO$4=TRUE,$AN$8=ListsFlags!$A$13),$AO$6+(s10rad*(COS(PI()*A34/180))),NA())","v":{"$error":"#N/A"}},null,null,{"$error":"#DIV/0!"},{"$error":"#DIV/0!"},null,null,null,{"$error":"#DIV/0!"},{"$error":"#DIV/0!"}]
[155,null,null,null,{"$f":"IF(AND($D$4=TRUE,$C$8=ListsFlags!$A$13),$D$5+(s1rad*(SIN(PI()*Circ!A35/180))),NA())","v":{"$error":"#N/A"}},{"$f":"IF(AND($D$4=TRUE,$C$8=ListsFlags!$A$13),$D$6+(s1rad*(COS(PI()*Circ!A35/180))),NA())","v":{"$error":"#N/A"}},null,null,null,{"$f":"IF(AND($I$4=TRUE,$H$8=ListsFlags!$A$13),$I$5+(s2rad*(SIN(PI()*A35/180))),NA())","v":{"$error":"#N/A"}},{"$f":"IF(AND($I$4=TRUE,$H$8=ListsFlags!$A$13),$I$6+(s2rad*(COS(PI()*A35/180))),NA())","v":{"$error":"#N/A"}},null,null,{"$f":"IF(AND($M$4=TRUE,$L$8=ListsFlags!$A$13),$M$5+(s3rad*(SIN(PI()*A35/180))),NA())","v":{"$error":"#N/A"}},{"$f":"IF(AND($M$4=TRUE,$L$8=ListsFlags!$A$13),$M$6+(s3rad*(COS(PI()*A35/180))),NA())","v":{"$error":"#N/A"}},null,null,{"$f":"IF(AND($Q$4=TRUE,$P$8=ListsFlags!$A$13),$Q$5+(s4rad*(SIN(PI()*A35/180))),NA())","v":{"$error":"#N/A"}},{"$f":"IF(AND($Q$4=TRUE,$P$8=ListsFlags!$A$13),$Q$6+(s4rad*(COS(PI()*A35/180))),NA())","v":{"$error":"#N/A"}},null,null,{"$f":"IF(AND($U$4=TRUE,$T$8=ListsFlags!$A$13),$U$5+(s5rad*(SIN(PI()*A35/180))),NA())","v":{"$error":"#N/A"}},{"$f":"IF(AND($U$4=TRUE,$T$8=ListsFlags!$A$13),$U$6+(s5rad*(COS(PI()*A35/180))),NA())","v":{"$error":"#N/A"}},null,null,{"$f":"IF(AND($Y$4=TRUE,$X$8=ListsFlags!$A$13),$Y$5+(s6rad*(SIN(PI()*A35/180))),NA())","v":{"$error":"#N/A"}},{"$f":"IF(AND($Y$4=TRUE,$X$8=ListsFlags!$A$13),$Y$6+(s6rad*(COS(PI()*A35/180))),NA())","v":{"$error":"#N/A"}},null,null,{"$f":"IF(AND($AC$4=TRUE,$AB$8=ListsFlags!$A$13),$AC$5+(s7rad*(SIN(PI()*A35/180))),NA())","v":{"$error":"#N/A"}},{"$f":"IF(AND($AC$4=TRUE,$AB$8=ListsFlags!$A$13),$AC$6+(s7rad*(COS(PI()*A35/180))),NA())","v":{"$error":"#N/A"}},null,null,{"$f":"IF(AND($AG$4=TRUE,$AF$8=ListsFlags!$A$13),$AG$5+(s8rad*(SIN(PI()*A35/180))),NA())","v":{"$error":"#N/A"}},{"$f":"IF(AND($AG$4=TRUE,$AF$8=ListsFlags!$A$13),$AG$6+(s8rad*(COS(PI()*A35/180))),NA())","v":{"$error":"#N/A"}},null,null,{"$f":"IF(AND($AK$4=TRUE,$AJ$8=ListsFlags!$A$13),$AK$5+(s9rad*(SIN(PI()*A35/180))),NA())","v":{"$error":"#N/A"}},{"$f":"IF(AND($AK$4=TRUE,$AJ$8=ListsFlags!$A$13),$AK$6+(s9rad*(COS(PI()*A35/180))),NA())","v":{"$error":"#N/A"}},null,null,{"$f":"IF(AND($AO$4=TRUE,$AN$8=ListsFlags!$A$13),$AO$5+(s10rad*(SIN(PI()*A35/180))),NA())","v":{"$error":"#N/A"}},{"$f":"IF(AND($AO$4=TRUE,$AN$8=ListsFlags!$A$13),$AO$6+(s10rad*(COS(PI()*A35/180))),NA())","v":{"$error":"#N/A"}},null,null,{"$error":"#DIV/0!"},{"$error":"#DIV/0!"},null,null,null,{"$error":"#DIV/0!"},{"$error":"#DIV/0!"}]
[160,null,null,null,{"$f":"IF(AND($D$4=TRUE,$C$8=ListsFlags!$A$13),$D$5+(s1rad*(SIN(PI()*Circ!A36/180))),NA())","v":{"$error":"#N/A"}},{"$f":"IF(AND($D$4=TRUE,$C$8=ListsFlags!$A$13),$D$6+(s1rad*(COS(PI()*Circ!A36/180))),NA())","v":{"$error":"#N/A"}},null,null,null,{"$f":"IF(AND($I$4=TRUE,$H$8=ListsFlags!$A$13),$I$5+(s2rad*(SIN(PI()*A36/180))),NA())","v":{"$error":"#N/A"}},{"$f":"IF(AND($I$4=TRUE,$H$8=ListsFlags!$A$13),$I$6+(s2rad*(COS(PI()*A36/180))),NA())","v":{"$error":"#N/A"}},null,null,{"$f":"IF(AND($M$4=TRUE,$L$8=ListsFlags!$A$13),$M$5+(s3rad*(SIN(PI()*A36/180))),NA())","v":{"$error":"#N/A"}},{"$f":"IF(AND($M$4=TRUE,$L$8=ListsFlags!$A$13),$M$6+(s3rad*(COS(PI()*A36/180))),NA())","v":{"$error":"#N/A"}},null,null,{"$f":"IF(AND($Q$4=TRUE,$P$8=ListsFlags!$A$13),$Q$5+(s4rad*(SIN(PI()*A36/180))),NA())","v":{"$error":"#N/A"}},{"$f":"IF(AND($Q$4=TRUE,$P$8=ListsFlags!$A$13),$Q$6+(s4rad*(COS(PI()*A36/180))),NA())","v":{"$error":"#N/A"}},null,null,{"$f":"IF(AND($U$4=TRUE,$T$8=ListsFlags!$A$13),$U$5+(s5rad*(SIN(PI()*A36/180))),NA())","v":{"$error":"#N/A"}},{"$f":"IF(AND($U$4=TRUE,$T$8=ListsFlags!$A$13),$U$6+(s5rad*(COS(PI()*A36/180))),NA())","v":{"$error":"#N/A"}},null,null,{"$f":"IF(AND($Y$4=TRUE,$X$8=ListsFlags!$A$13),$Y$5+(s6rad*(SIN(PI()*A36/180))),NA())","v":{"$error":"#N/A"}},{"$f":"IF(AND($Y$4=TRUE,$X$8=ListsFlags!$A$13),$Y$6+(s6rad*(COS(PI()*A36/180))),NA())","v":{"$error":"#N/A"}},null,null,{"$f":"IF(AND($AC$4=TRUE,$AB$8=ListsFlags!$A$13),$AC$5+(s7rad*(SIN(PI()*A36/180))),NA())","v":{"$error":"#N/A"}},{"$f":"IF(AND($AC$4=TRUE,$AB$8=ListsFlags!$A$13),$AC$6+(s7rad*(COS(PI()*A36/180))),NA())","v":{"$error":"#N/A"}},null,null,{"$f":"IF(AND($AG$4=TRUE,$AF$8=ListsFlags!$A$13),$AG$5+(s8rad*(SIN(PI()*A36/180))),NA())","v":{"$error":"#N/A"}},{"$f":"IF(AND($AG$4=TRUE,$AF$8=ListsFlags!$A$13),$AG$6+(s8rad*(COS(PI()*A36/180))),NA())","v":{"$error":"#N/A"}},null,null,{"$f":"IF(AND($AK$4=TRUE,$AJ$8=ListsFlags!$A$13),$AK$5+(s9rad*(SIN(PI()*A36/180))),NA())","v":{"$error":"#N/A"}},{"$f":"IF(AND($AK$4=TRUE,$AJ$8=ListsFlags!$A$13),$AK$6+(s9rad*(COS(PI()*A36/180))),NA())","v":{"$error":"#N/A"}},null,null,{"$f":"IF(AND($AO$4=TRUE,$AN$8=ListsFlags!$A$13),$AO$5+(s10rad*(SIN(PI()*A36/180))),NA())","v":{"$error":"#N/A"}},{"$f":"IF(AND($AO$4=TRUE,$AN$8=ListsFlags!$A$13),$AO$6+(s10rad*(COS(PI()*A36/180))),NA())","v":{"$error":"#N/A"}},null,null,{"$f":"IF($AS$4=TRUE,$AS$5+(circleradius*(SIN(PI()*A36/180))),\"\")","v":{"$error":"#DIV/0!"}},{"$f":"IF($AS$4=TRUE,$AS$6+(circleradius*(COS(PI()*A36/180))),\"\")","v":{"$error":"#DIV/0!"}},null,null,null,{"$f":"IF(AND(AT36=0,AU36=0),sitelatitude,(DEGREES(ASIN(SIN(RADIANS(sitelatitude))*COS((SQRT(AT36^2+AU36^2)/3.28)/RadiusEarth)+COS(RADIANS(sitelatitude))*SIN((SQRT(AT36^2+AU36^2)/3.28)/RadiusEarth)*COS(RADIANS((IF(AU36>=0,DEGREES(ATAN2(AT36,AU36)),360+DEGREES(ATAN2(AT36,AU36))))))))))","v":{"$error":"#DIV/0!"}},{"$f":"sitelongitude+IF(AND(AT36=0,AU36=0),0,DEGREES(ATAN2(COS((SQRT(AT36^2+AU36^2)/3.28)/RadiusEarth)-SIN(RADIANS(sitelatitude))*SIN(RADIANS(AY36)),SIN(RADIANS((IF(AU36>=0,DEGREES(ATAN2(AT36,AU36)),360+DEGREES(ATAN2(AT36,AU36))))))*SIN((SQRT(AT36^2+AU36^2)/3.28)/RadiusEarth)*COS(RADIANS(sitelatitude)))))","v":{"$error":"#DIV/0!"}}]
[165,null,null,null,{"$f":"IF(AND($D$4=TRUE,$C$8=ListsFlags!$A$13),$D$5+(s1rad*(SIN(PI()*Circ!A37/180))),NA())","v":{"$error":"#N/A"}},{"$f":"IF(AND($D$4=TRUE,$C$8=ListsFlags!$A$13),$D$6+(s1rad*(COS(PI()*Circ!A37/180))),NA())","v":{"$error":"#N/A"}},null,null,null,{"$f":"IF(AND($I$4=TRUE,$H$8=ListsFlags!$A$13),$I$5+(s2rad*(SIN(PI()*A37/180))),NA())","v":{"$error":"#N/A"}},{"$f":"IF(AND($I$4=TRUE,$H$8=ListsFlags!$A$13),$I$6+(s2rad*(COS(PI()*A37/180))),NA())","v":{"$error":"#N/A"}},null,null,{"$f":"IF(AND($M$4=TRUE,$L$8=ListsFlags!$A$13),$M$5+(s3rad*(SIN(PI()*A37/180))),NA())","v":{"$error":"#N/A"}},{"$f":"IF(AND($M$4=TRUE,$L$8=ListsFlags!$A$13),$M$6+(s3rad*(COS(PI()*A37/180))),NA())","v":{"$error":"#N/A"}},null,null,{"$f":"IF(AND($Q$4=TRUE,$P$8=ListsFlags!$A$13),$Q$5+(s4rad*(SIN(PI()*A37/180))),NA())","v":{"$error":"#N/A"}},{"$f":"IF(AND($Q$4=TRUE,$P$8=ListsFlags!$A$13),$Q$6+(s4rad*(COS(PI()*A37/180))),NA())","v":{"$error":"#N/A"}},null,null,{"$f":"IF(AND($U$4=TRUE,$T$8=ListsFlags!$A$13),$U$5+(s5rad*(SIN(PI()*A37/180))),NA())","v":{"$error":"#N/A"}},{"$f":"IF(AND($U$4=TRUE,$T$8=ListsFlags!$A$13),$U$6+(s5rad*(COS(PI()*A37/180))),NA())","v":{"$error":"#N/A"}},null,null,{"$f":"IF(AND($Y$4=TRUE,$X$8=ListsFlags!$A$13),$Y$5+(s6rad*(SIN(PI()*A37/180))),NA())","v":{"$error":"#N/A"}},{"$f":"IF(AND($Y$4=TRUE,$X$8=ListsFlags!$A$13),$Y$6+(s6rad*(COS(PI()*A37/180))),NA())","v":{"$error":"#N/A"}},null,null,{"$f":"IF(AND($AC$4=TRUE,$AB$8=ListsFlags!$A$13),$AC$5+(s7rad*(SIN(PI()*A37/180))),NA())","v":{"$error":"#N/A"}},{"$f":"IF(AND($AC$4=TRUE,$AB$8=ListsFlags!$A$13),$AC$6+(s7rad*(COS(PI()*A37/180))),NA())","v":{"$error":"#N/A"}},null,null,{"$f":"IF(AND($AG$4=TRUE,$AF$8=ListsFlags!$A$13),$AG$5+(s8rad*(SIN(PI()*A37/180))),NA())","v":{"$error":"#N/A"}},{"$f":"IF(AND($AG$4=TRUE,$AF$8=ListsFlags!$A$13),$AG$6+(s8rad*(COS(PI()*A37/180))),NA())","v":{"$error":"#N/A"}},null,null,{"$f":"IF(AND($AK$4=TRUE,$AJ$8=ListsFlags!$A$13),$AK$5+(s9rad*(SIN(PI()*A37/180))),NA())","v":{"$error":"#N/A"}},{"$f":"IF(AND($AK$4=TRUE,$AJ$8=ListsFlags!$A$13),$AK$6+(s9rad*(COS(PI()*A37/180))),NA())","v":{"$error":"#N/A"}},null,null,{"$f":"IF(AND($AO$4=TRUE,$AN$8=ListsFlags!$A$13),$AO$5+(s10rad*(SIN(PI()*A37/180))),NA())","v":{"$error":"#N/A"}},{"$f":"IF(AND($AO$4=TRUE,$AN$8=ListsFlags!$A$13),$AO$6+(s10rad*(COS(PI()*A37/180))),NA())","v":{"$error":"#N/A"}},null,null,{"$error":"#DIV/0!"},{"$error":"#DIV/0!"},null,null,null,{"$error":"#DIV/0!"},{"$error":"#DIV/0!"}]
[170,null,null,null,{"$f":"IF(AND($D$4=TRUE,$C$8=ListsFlags!$A$13),$D$5+(s1rad*(SIN(PI()*Circ!A38/180))),NA())","v":{"$error":"#N/A"}},{"$f":"IF(AND($D$4=TRUE,$C$8=ListsFlags!$A$13),$D$6+(s1rad*(COS(PI()*Circ!A38/180))),NA())","v":{"$error":"#N/A"}},null,null,null,{"$f":"IF(AND($I$4=TRUE,$H$8=ListsFlags!$A$13),$I$5+(s2rad*(SIN(PI()*A38/180))),NA())","v":{"$error":"#N/A"}},{"$f":"IF(AND($I$4=TRUE,$H$8=ListsFlags!$A$13),$I$6+(s2rad*(COS(PI()*A38/180))),NA())","v":{"$error":"#N/A"}},null,null,{"$f":"IF(AND($M$4=TRUE,$L$8=ListsFlags!$A$13),$M$5+(s3rad*(SIN(PI()*A38/180))),NA())","v":{"$error":"#N/A"}},{"$f":"IF(AND($M$4=TRUE,$L$8=ListsFlags!$A$13),$M$6+(s3rad*(COS(PI()*A38/180))),NA())","v":{"$error":"#N/A"}},null,null,{"$f":"IF(AND($Q$4=TRUE,$P$8=ListsFlags!$A$13),$Q$5+(s4rad*(SIN(PI()*A38/180))),NA())","v":{"$error":"#N/A"}},{"$f":"IF(AND($Q$4=TRUE,$P$8=ListsFlags!$A$13),$Q$6+(s4rad*(COS(PI()*A38/180))),NA())","v":{"$error":"#N/A"}},null,null,{"$f":"IF(AND($U$4=TRUE,$T$8=ListsFlags!$A$13),$U$5+(s5rad*(SIN(PI()*A38/180))),NA())","v":{"$error":"#N/A"}},{"$f":"IF(AND($U$4=TRUE,$T$8=ListsFlags!$A$13),$U$6+(s5rad*(COS(PI()*A38/180))),NA())","v":{"$error":"#N/A"}},null,null,{"$f":"IF(AND($Y$4=TRUE,$X$8=ListsFlags!$A$13),$Y$5+(s6rad*(SIN(PI()*A38/180))),NA())","v":{"$error":"#N/A"}},{"$f":"IF(AND($Y$4=TRUE,$X$8=ListsFlags!$A$13),$Y$6+(s6rad*(COS(PI()*A38/180))),NA())","v":{"$error":"#N/A"}},null,null,{"$f":"IF(AND($AC$4=TRUE,$AB$8=ListsFlags!$A$13),$AC$5+(s7rad*(SIN(PI()*A38/180))),NA())","v":{"$error":"#N/A"}},{"$f":"IF(AND($AC$4=TRUE,$AB$8=ListsFlags!$A$13),$AC$6+(s7rad*(COS(PI()*A38/180))),NA())","v":{"$error":"#N/A"}},null,null,{"$f":"IF(AND($AG$4=TRUE,$AF$8=ListsFlags!$A$13),$AG$5+(s8rad*(SIN(PI()*A38/180))),NA())","v":{"$error":"#N/A"}},{"$f":"IF(AND($AG$4=TRUE,$AF$8=ListsFlags!$A$13),$AG$6+(s8rad*(COS(PI()*A38/180))),NA())","v":{"$error":"#N/A"}},null,null,{"$f":"IF(AND($AK$4=TRUE,$AJ$8=ListsFlags!$A$13),$AK$5+(s9rad*(SIN(PI()*A38/180))),NA())","v":{"$error":"#N/A"}},{"$f":"IF(AND($AK$4=TRUE,$AJ$8=ListsFlags!$A$13),$AK$6+(s9rad*(COS(PI()*A38/180))),NA())","v":{"$error":"#N/A"}},null,null,{"$f":"IF(AND($AO$4=TRUE,$AN$8=ListsFlags!$A$13),$AO$5+(s10rad*(SIN(PI()*A38/180))),NA())","v":{"$error":"#N/A"}},{"$f":"IF(AND($AO$4=TRUE,$AN$8=ListsFlags!$A$13),$AO$6+(s10rad*(COS(PI()*A38/180))),NA())","v":{"$error":"#N/A"}},null,null,{"$error":"#DIV/0!"},{"$error":"#DIV/0!"},null,null,null,{"$error":"#DIV/0!"},{"$error":"#DIV/0!"}]
[175,null,null,null,{"$f":"IF(AND($D$4=TRUE,$C$8=ListsFlags!$A$13),$D$5+(s1rad*(SIN(PI()*Circ!A39/180))),NA())","v":{"$error":"#N/A"}},{"$f":"IF(AND($D$4=TRUE,$C$8=ListsFlags!$A$13),$D$6+(s1rad*(COS(PI()*Circ!A39/180))),NA())","v":{"$error":"#N/A"}},null,null,null,{"$f":"IF(AND($I$4=TRUE,$H$8=ListsFlags!$A$13),$I$5+(s2rad*(SIN(PI()*A39/180))),NA())","v":{"$error":"#N/A"}},{"$f":"IF(AND($I$4=TRUE,$H$8=ListsFlags!$A$13),$I$6+(s2rad*(COS(PI()*A39/180))),NA())","v":{"$error":"#N/A"}},null,null,{"$f":"IF(AND($M$4=TRUE,$L$8=ListsFlags!$A$13),$M$5+(s3rad*(SIN(PI()*A39/180))),NA())","v":{"$error":"#N/A"}},{"$f":"IF(AND($M$4=TRUE,$L$8=ListsFlags!$A$13),$M$6+(s3rad*(COS(PI()*A39/180))),NA())","v":{"$error":"#N/A"}},null,null,{"$f":"IF(AND($Q$4=TRUE,$P$8=ListsFlags!$A$13),$Q$5+(s4rad*(SIN(PI()*A39/180))),NA())","v":{"$error":"#N/A"}},{"$f":"IF(AND($Q$4=TRUE,$P$8=ListsFlags!$A$13),$Q$6+(s4rad*(COS(PI()*A39/180))),NA())","v":{"$error":"#N/A"}},null,null,{"$f":"IF(AND($U$4=TRUE,$T$8=ListsFlags!$A$13),$U$5+(s5rad*(SIN(PI()*A39/180))),NA())","v":{"$error":"#N/A"}},{"$f":"IF(AND($U$4=TRUE,$T$8=ListsFlags!$A$13),$U$6+(s5rad*(COS(PI()*A39/180))),NA())","v":{"$error":"#N/A"}},null,null,{"$f":"IF(AND($Y$4=TRUE,$X$8=ListsFlags!$A$13),$Y$5+(s6rad*(SIN(PI()*A39/180))),NA())","v":{"$error":"#N/A"}},{"$f":"IF(AND($Y$4=TRUE,$X$8=ListsFlags!$A$13),$Y$6+(s6rad*(COS(PI()*A39/180))),NA())","v":{"$error":"#N/A"}},null,null,{"$f":"IF(AND($AC$4=TRUE,$AB$8=ListsFlags!$A$13),$AC$5+(s7rad*(SIN(PI()*A39/180))),NA())","v":{"$error":"#N/A"}},{"$f":"IF(AND($AC$4=TRUE,$AB$8=ListsFlags!$A$13),$AC$6+(s7rad*(COS(PI()*A39/180))),NA())","v":{"$error":"#N/A"}},null,null,{"$f":"IF(AND($AG$4=TRUE,$AF$8=ListsFlags!$A$13),$AG$5+(s8rad*(SIN(PI()*A39/180))),NA())","v":{"$error":"#N/A"}},{"$f":"IF(AND($AG$4=TRUE,$AF$8=ListsFlags!$A$13),$AG$6+(s8rad*(COS(PI()*A39/180))),NA())","v":{"$error":"#N/A"}},null,null,{"$f":"IF(AND($AK$4=TRUE,$AJ$8=ListsFlags!$A$13),$AK$5+(s9rad*(SIN(PI()*A39/180))),NA())","v":{"$error":"#N/A"}},{"$f":"IF(AND($AK$4=TRUE,$AJ$8=ListsFlags!$A$13),$AK$6+(s9rad*(COS(PI()*A39/180))),NA())","v":{"$error":"#N/A"}},null,null,{"$f":"IF(AND($AO$4=TRUE,$AN$8=ListsFlags!$A$13),$AO$5+(s10rad*(SIN(PI()*A39/180))),NA())","v":{"$error":"#N/A"}},{"$f":"IF(AND($AO$4=TRUE,$AN$8=ListsFlags!$A$13),$AO$6+(s10rad*(COS(PI()*A39/180))),NA())","v":{"$error":"#N/A"}},null,null,{"$error":"#DIV/0!"},{"$error":"#DIV/0!"},null,null,null,{"$error":"#DIV/0!"},{"$error":"#DIV/0!"}]
[180,null,null,null,{"$f":"IF(AND($D$4=TRUE,$C$8=ListsFlags!$A$13),$D$5+(s1rad*(SIN(PI()*Circ!A40/180))),NA())","v":{"$error":"#N/A"}},{"$f":"IF(AND($D$4=TRUE,$C$8=ListsFlags!$A$13),$D$6+(s1rad*(COS(PI()*Circ!A40/180))),NA())","v":{"$error":"#N/A"}},"W",null,null,{"$f":"IF(AND($I$4=TRUE,$H$8=ListsFlags!$A$13),$I$5+(s2rad*(SIN(PI()*A40/180))),NA())","v":{"$error":"#N/A"}},{"$f":"IF(AND($I$4=TRUE,$H$8=ListsFlags!$A$13),$I$6+(s2rad*(COS(PI()*A40/180))),NA())","v":{"$error":"#N/A"}},null,null,{"$f":"IF(AND($M$4=TRUE,$L$8=ListsFlags!$A$13),$M$5+(s3rad*(SIN(PI()*A40/180))),NA())","v":{"$error":"#N/A"}},{"$f":"IF(AND($M$4=TRUE,$L$8=ListsFlags!$A$13),$M$6+(s3rad*(COS(PI()*A40/180))),NA())","v":{"$error":"#N/A"}},null,null,{"$f":"IF(AND($Q$4=TRUE,$P$8=ListsFlags!$A$13),$Q$5+(s4rad*(SIN(PI()*A40/180))),NA())","v":{"$error":"#N/A"}},{"$f":"IF(AND($Q$4=TRUE,$P$8=ListsFlags!$A$13),$Q$6+(s4rad*(COS(PI()*A40/180))),NA())","v":{"$error":"#N/A"}},null,null,{"$f":"IF(AND($U$4=TRUE,$T$8=ListsFlags!$A$13),$U$5+(s5rad*(SIN(PI()*A40/180))),NA())","v":{"$error":"#N/A"}},{"$f":"IF(AND($U$4=TRUE,$T$8=ListsFlags!$A$13),$U$6+(s5rad*(COS(PI()*A40/180))),NA())","v":{"$error":"#N/A"}},null,null,{"$f":"IF(AND($Y$4=TRUE,$X$8=ListsFlags!$A$13),$Y$5+(s6rad*(SIN(PI()*A40/180))),NA())","v":{"$error":"#N/A"}},{"$f":"IF(AND($Y$4=TRUE,$X$8=ListsFlags!$A$13),$Y$6+(s6rad*(COS(PI()*A40/180))),NA())","v":{"$error":"#N/A"}},null,null,{"$f":"IF(AND($AC$4=TRUE,$AB$8=ListsFlags!$A$13),$AC$5+(s7rad*(SIN(PI()*A40/180))),NA())","v":{"$error":"#N/A"}},{"$f":"IF(AND($AC$4=TRUE,$AB$8=ListsFlags!$A$13),$AC$6+(s7rad*(COS(PI()*A40/180))),NA())","v":{"$error":"#N/A"}},null,null,{"$f":"IF(AND($AG$4=TRUE,$AF$8=ListsFlags!$A$13),$AG$5+(s8rad*(SIN(PI()*A40/180))),NA())","v":{"$error":"#N/A"}},{"$f":"IF(AND($AG$4=TRUE,$AF$8=ListsFlags!$A$13),$AG$6+(s8rad*(COS(PI()*A40/180))),NA())","v":{"$error":"#N/A"}},null,null,{"$f":"IF(AND($AK$4=TRUE,$AJ$8=ListsFlags!$A$13),$AK$5+(s9rad*(SIN(PI()*A40/180))),NA())","v":{"$error":"#N/A"}},{"$f":"IF(AND($AK$4=TRUE,$AJ$8=ListsFlags!$A$13),$AK$6+(s9rad*(COS(PI()*A40/180))),NA())","v":{"$error":"#N/A"}},null,null,{"$f":"IF(AND($AO$4=TRUE,$AN$8=ListsFlags!$A$13),$AO$5+(s10rad*(SIN(PI()*A40/180))),NA())","v":{"$error":"#N/A"}},{"$f":"IF(AND($AO$4=TRUE,$AN$8=ListsFlags!$A$13),$AO$6+(s10rad*(COS(PI()*A40/180))),NA())","v":{"$error":"#N/A"}},null,null,{"$error":"#DIV/0!"},{"$error":"#DIV/0!"},null,null,null,{"$error":"#DIV/0!"},{"$error":"#DIV/0!"}]
[185,null,null,null,{"$f":"IF(AND($D$4=TRUE,$C$8=ListsFlags!$A$13),$D$5+(s1rad*(SIN(PI()*Circ!A41/180))),NA())","v":{"$error":"#N/A"}},{"$f":"IF(AND($D$4=TRUE,$C$8=ListsFlags!$A$13),$D$6+(s1rad*(COS(PI()*Circ!A41/180))),NA())","v":{"$error":"#N/A"}},null,null,null,{"$f":"IF(AND($I$4=TRUE,$H$8=ListsFlags!$A$13),$I$5+(s2rad*(SIN(PI()*A41/180))),NA())","v":{"$error":"#N/A"}},{"$f":"IF(AND($I$4=TRUE,$H$8=ListsFlags!$A$13),$I$6+(s2rad*(COS(PI()*A41/180))),NA())","v":{"$error":"#N/A"}},null,null,{"$f":"IF(AND($M$4=TRUE,$L$8=ListsFlags!$A$13),$M$5+(s3rad*(SIN(PI()*A41/180))),NA())","v":{"$error":"#N/A"}},{"$f":"IF(AND($M$4=TRUE,$L$8=ListsFlags!$A$13),$M$6+(s3rad*(COS(PI()*A41/180))),NA())","v":{"$error":"#N/A"}},null,null,{"$f":"IF(AND($Q$4=TRUE,$P$8=ListsFlags!$A$13),$Q$5+(s4rad*(SIN(PI()*A41/180))),NA())","v":{"$error":"#N/A"}},{"$f":"IF(AND($Q$4=TRUE,$P$8=ListsFlags!$A$13),$Q$6+(s4rad*(COS(PI()*A41/180))),NA())","v":{"$error":"#N/A"}},null,null,{"$f":"IF(AND($U$4=TRUE,$T$8=ListsFlags!$A$13),$U$5+(s5rad*(SIN(PI()*A41/180))),NA())","v":{"$error":"#N/A"}},{"$f":"IF(AND($U$4=TRUE,$T$8=ListsFlags!$A$13),$U$6+(s5rad*(COS(PI()*A41/180))),NA())","v":{"$error":"#N/A"}},null,null,{"$f":"IF(AND($Y$4=TRUE,$X$8=ListsFlags!$A$13),$Y$5+(s6rad*(SIN(PI()*A41/180))),NA())","v":{"$error":"#N/A"}},{"$f":"IF(AND($Y$4=TRUE,$X$8=ListsFlags!$A$13),$Y$6+(s6rad*(COS(PI()*A41/180))),NA())","v":{"$error":"#N/A"}},null,null,{"$f":"IF(AND($AC$4=TRUE,$AB$8=ListsFlags!$A$13),$AC$5+(s7rad*(SIN(PI()*A41/180))),NA())","v":{"$error":"#N/A"}},{"$f":"IF(AND($AC$4=TRUE,$AB$8=ListsFlags!$A$13),$AC$6+(s7rad*(COS(PI()*A41/180))),NA())","v":{"$error":"#N/A"}},null,null,{"$f":"IF(AND($AG$4=TRUE,$AF$8=ListsFlags!$A$13),$AG$5+(s8rad*(SIN(PI()*A41/180))),NA())","v":{"$error":"#N/A"}},{"$f":"IF(AND($AG$4=TRUE,$AF$8=ListsFlags!$A$13),$AG$6+(s8rad*(COS(PI()*A41/180))),NA())","v":{"$error":"#N/A"}},null,null,{"$f":"IF(AND($AK$4=TRUE,$AJ$8=ListsFlags!$A$13),$AK$5+(s9rad*(SIN(PI()*A41/180))),NA())","v":{"$error":"#N/A"}},{"$f":"IF(AND($AK$4=TRUE,$AJ$8=ListsFlags!$A$13),$AK$6+(s9rad*(COS(PI()*A41/180))),NA())","v":{"$error":"#N/A"}},null,null,{"$f":"IF(AND($AO$4=TRUE,$AN$8=ListsFlags!$A$13),$AO$5+(s10rad*(SIN(PI()*A41/180))),NA())","v":{"$error":"#N/A"}},{"$f":"IF(AND($AO$4=TRUE,$AN$8=ListsFlags!$A$13),$AO$6+(s10rad*(COS(PI()*A41/180))),NA())","v":{"$error":"#N/A"}},null,null,{"$error":"#DIV/0!"},{"$error":"#DIV/0!"},null,null,null,{"$error":"#DIV/0!"},{"$error":"#DIV/0!"}]
[190,null,null,null,{"$f":"IF(AND($D$4=TRUE,$C$8=ListsFlags!$A$13),$D$5+(s1rad*(SIN(PI()*Circ!A42/180))),NA())","v":{"$error":"#N/A"}},{"$f":"IF(AND($D$4=TRUE,$C$8=ListsFlags!$A$13),$D$6+(s1rad*(COS(PI()*Circ!A42/180))),NA())","v":{"$error":"#N/A"}},null,null,null,{"$f":"IF(AND($I$4=TRUE,$H$8=ListsFlags!$A$13),$I$5+(s2rad*(SIN(PI()*A42/180))),NA())","v":{"$error":"#N/A"}},{"$f":"IF(AND($I$4=TRUE,$H$8=ListsFlags!$A$13),$I$6+(s2rad*(COS(PI()*A42/180))),NA())","v":{"$error":"#N/A"}},null,null,{"$f":"IF(AND($M$4=TRUE,$L$8=ListsFlags!$A$13),$M$5+(s3rad*(SIN(PI()*A42/180))),NA())","v":{"$error":"#N/A"}},{"$f":"IF(AND($M$4=TRUE,$L$8=ListsFlags!$A$13),$M$6+(s3rad*(COS(PI()*A42/180))),NA())","v":{"$error":"#N/A"}},null,null,{"$f":"IF(AND($Q$4=TRUE,$P$8=ListsFlags!$A$13),$Q$5+(s4rad*(SIN(PI()*A42/180))),NA())","v":{"$error":"#N/A"}},{"$f":"IF(AND($Q$4=TRUE,$P$8=ListsFlags!$A$13),$Q$6+(s4rad*(COS(PI()*A42/180))),NA())","v":{"$error":"#N/A"}},null,null,{"$f":"IF(AND($U$4=TRUE,$T$8=ListsFlags!$A$13),$U$5+(s5rad*(SIN(PI()*A42/180))),NA())","v":{"$error":"#N/A"}},{"$f":"IF(AND($U$4=TRUE,$T$8=ListsFlags!$A$13),$U$6+(s5rad*(COS(PI()*A42/180))),NA())","v":{"$error":"#N/A"}},null,null,{"$f":"IF(AND($Y$4=TRUE,$X$8=ListsFlags!$A$13),$Y$5+(s6rad*(SIN(PI()*A42/180))),NA())","v":{"$error":"#N/A"}},{"$f":"IF(AND($Y$4=TRUE,$X$8=ListsFlags!$A$13),$Y$6+(s6rad*(COS(PI()*A42/180))),NA())","v":{"$error":"#N/A"}},null,null,{"$f":"IF(AND($AC$4=TRUE,$AB$8=ListsFlags!$A$13),$AC$5+(s7rad*(SIN(PI()*A42/180))),NA())","v":{"$error":"#N/A"}},{"$f":"IF(AND($AC$4=TRUE,$AB$8=ListsFlags!$A$13),$AC$6+(s7rad*(COS(PI()*A42/180))),NA())","v":{"$error":"#N/A"}},null,null,{"$f":"IF(AND($AG$4=TRUE,$AF$8=ListsFlags!$A$13),$AG$5+(s8rad*(SIN(PI()*A42/180))),NA())","v":{"$error":"#N/A"}},{"$f":"IF(AND($AG$4=TRUE,$AF$8=ListsFlags!$A$13),$AG$6+(s8rad*(COS(PI()*A42/180))),NA())","v":{"$error":"#N/A"}},null,null,{"$f":"IF(AND($AK$4=TRUE,$AJ$8=ListsFlags!$A$13),$AK$5+(s9rad*(SIN(PI()*A42/180))),NA())","v":{"$error":"#N/A"}},{"$f":"IF(AND($AK$4=TRUE,$AJ$8=ListsFlags!$A$13),$AK$6+(s9rad*(COS(PI()*A42/180))),NA())","v":{"$error":"#N/A"}},null,null,{"$f":"IF(AND($AO$4=TRUE,$AN$8=ListsFlags!$A$13),$AO$5+(s10rad*(SIN(PI()*A42/180))),NA())","v":{"$error":"#N/A"}},{"$f":"IF(AND($AO$4=TRUE,$AN$8=ListsFlags!$A$13),$AO$6+(s10rad*(COS(PI()*A42/180))),NA())","v":{"$error":"#N/A"}},null,null,{"$error":"#DIV/0!"},{"$error":"#DIV/0!"},null,null,null,{"$error":"#DIV/0!"},{"$error":"#DIV/0!"}]
[195,null,null,null,{"$f":"IF(AND($D$4=TRUE,$C$8=ListsFlags!$A$13),$D$5+(s1rad*(SIN(PI()*Circ!A43/180))),NA())","v":{"$error":"#N/A"}},{"$f":"IF(AND($D$4=TRUE,$C$8=ListsFlags!$A$13),$D$6+(s1rad*(COS(PI()*Circ!A43/180))),NA())","v":{"$error":"#N/A"}},null,null,null,{"$f":"IF(AND($I$4=TRUE,$H$8=ListsFlags!$A$13),$I$5+(s2rad*(SIN(PI()*A43/180))),NA())","v":{"$error":"#N/A"}},{"$f":"IF(AND($I$4=TRUE,$H$8=ListsFlags!$A$13),$I$6+(s2rad*(COS(PI()*A43/180))),NA())","v":{"$error":"#N/A"}},null,null,{"$f":"IF(AND($M$4=TRUE,$L$8=ListsFlags!$A$13),$M$5+(s3rad*(SIN(PI()*A43/180))),NA())","v":{"$error":"#N/A"}},{"$f":"IF(AND($M$4=TRUE,$L$8=ListsFlags!$A$13),$M$6+(s3rad*(COS(PI()*A43/180))),NA())","v":{"$error":"#N/A"}},null,null,{"$f":"IF(AND($Q$4=TRUE,$P$8=ListsFlags!$A$13),$Q$5+(s4rad*(SIN(PI()*A43/180))),NA())","v":{"$error":"#N/A"}},{"$f":"IF(AND($Q$4=TRUE,$P$8=ListsFlags!$A$13),$Q$6+(s4rad*(COS(PI()*A43/180))),NA())","v":{"$error":"#N/A"}},null,null,{"$f":"IF(AND($U$4=TRUE,$T$8=ListsFlags!$A$13),$U$5+(s5rad*(SIN(PI()*A43/180))),NA())","v":{"$error":"#N/A"}},{"$f":"IF(AND($U$4=TRUE,$T$8=ListsFlags!$A$13),$U$6+(s5rad*(COS(PI()*A43/180))),NA())","v":{"$error":"#N/A"}},null,null,{"$f":"IF(AND($Y$4=TRUE,$X$8=ListsFlags!$A$13),$Y$5+(s6rad*(SIN(PI()*A43/180))),NA())","v":{"$error":"#N/A"}},{"$f":"IF(AND($Y$4=TRUE,$X$8=ListsFlags!$A$13),$Y$6+(s6rad*(COS(PI()*A43/180))),NA())","v":{"$error":"#N/A"}},null,null,{"$f":"IF(AND($AC$4=TRUE,$AB$8=ListsFlags!$A$13),$AC$5+(s7rad*(SIN(PI()*A43/180))),NA())","v":{"$error":"#N/A"}},{"$f":"IF(AND($AC$4=TRUE,$AB$8=ListsFlags!$A$13),$AC$6+(s7rad*(COS(PI()*A43/180))),NA())","v":{"$error":"#N/A"}},null,null,{"$f":"IF(AND($AG$4=TRUE,$AF$8=ListsFlags!$A$13),$AG$5+(s8rad*(SIN(PI()*A43/180))),NA())","v":{"$error":"#N/A"}},{"$f":"IF(AND($AG$4=TRUE,$AF$8=ListsFlags!$A$13),$AG$6+(s8rad*(COS(PI()*A43/180))),NA())","v":{"$error":"#N/A"}},null,null,{"$f":"IF(AND($AK$4=TRUE,$AJ$8=ListsFlags!$A$13),$AK$5+(s9rad*(SIN(PI()*A43/180))),NA())","v":{"$error":"#N/A"}},{"$f":"IF(AND($AK$4=TRUE,$AJ$8=ListsFlags!$A$13),$AK$6+(s9rad*(COS(PI()*A43/180))),NA())","v":{"$error":"#N/A"}},null,null,{"$f":"IF(AND($AO$4=TRUE,$AN$8=ListsFlags!$A$13),$AO$5+(s10rad*(SIN(PI()*A43/180))),NA())","v":{"$error":"#N/A"}},{"$f":"IF(AND($AO$4=TRUE,$AN$8=ListsFlags!$A$13),$AO$6+(s10rad*(COS(PI()*A43/180))),NA())","v":{"$error":"#N/A"}},null,null,{"$error":"#DIV/0!"},{"$error":"#DIV/0!"},null,null,null,{"$error":"#DIV/0!"},{"$error":"#DIV/0!"}]
[200,null,null,null,{"$f":"IF(AND($D$4=TRUE,$C$8=ListsFlags!$A$13),$D$5+(s1rad*(SIN(PI()*Circ!A44/180))),NA())","v":{"$error":"#N/A"}},{"$f":"IF(AND($D$4=TRUE,$C$8=ListsFlags!$A$13),$D$6+(s1rad*(COS(PI()*Circ!A44/180))),NA())","v":{"$error":"#N/A"}},null,null,null,{"$f":"IF(AND($I$4=TRUE,$H$8=ListsFlags!$A$13),$I$5+(s2rad*(SIN(PI()*A44/180))),NA())","v":{"$error":"#N/A"}},{"$f":"IF(AND($I$4=TRUE,$H$8=ListsFlags!$A$13),$I$6+(s2rad*(COS(PI()*A44/180))),NA())","v":{"$error":"#N/A"}},null,null,{"$f":"IF(AND($M$4=TRUE,$L$8=ListsFlags!$A$13),$M$5+(s3rad*(SIN(PI()*A44/180))),NA())","v":{"$error":"#N/A"}},{"$f":"IF(AND($M$4=TRUE,$L$8=ListsFlags!$A$13),$M$6+(s3rad*(COS(PI()*A44/180))),NA())","v":{"$error":"#N/A"}},null,null,{"$f":"IF(AND($Q$4=TRUE,$P$8=ListsFlags!$A$13),$Q$5+(s4rad*(SIN(PI()*A44/180))),NA())","v":{"$error":"#N/A"}},{"$f":"IF(AND($Q$4=TRUE,$P$8=ListsFlags!$A$13),$Q$6+(s4rad*(COS(PI()*A44/180))),NA())","v":{"$error":"#N/A"}},null,null,{"$f":"IF(AND($U$4=TRUE,$T$8=ListsFlags!$A$13),$U$5+(s5rad*(SIN(PI()*A44/180))),NA())","v":{"$error":"#N/A"}},{"$f":"IF(AND($U$4=TRUE,$T$8=ListsFlags!$A$13),$U$6+(s5rad*(COS(PI()*A44/180))),NA())","v":{"$error":"#N/A"}},null,null,{"$f":"IF(AND($Y$4=TRUE,$X$8=ListsFlags!$A$13),$Y$5+(s6rad*(SIN(PI()*A44/180))),NA())","v":{"$error":"#N/A"}},{"$f":"IF(AND($Y$4=TRUE,$X$8=ListsFlags!$A$13),$Y$6+(s6rad*(COS(PI()*A44/180))),NA())","v":{"$error":"#N/A"}},null,null,{"$f":"IF(AND($AC$4=TRUE,$AB$8=ListsFlags!$A$13),$AC$5+(s7rad*(SIN(PI()*A44/180))),NA())","v":{"$error":"#N/A"}},{"$f":"IF(AND($AC$4=TRUE,$AB$8=ListsFlags!$A$13),$AC$6+(s7rad*(COS(PI()*A44/180))),NA())","v":{"$error":"#N/A"}},null,null,{"$f":"IF(AND($AG$4=TRUE,$AF$8=ListsFlags!$A$13),$AG$5+(s8rad*(SIN(PI()*A44/180))),NA())","v":{"$error":"#N/A"}},{"$f":"IF(AND($AG$4=TRUE,$AF$8=ListsFlags!$A$13),$AG$6+(s8rad*(COS(PI()*A44/180))),NA())","v":{"$error":"#N/A"}},null,null,{"$f":"IF(AND($AK$4=TRUE,$AJ$8=ListsFlags!$A$13),$AK$5+(s9rad*(SIN(PI()*A44/180))),NA())","v":{"$error":"#N/A"}},{"$f":"IF(AND($AK$4=TRUE,$AJ$8=ListsFlags!$A$13),$AK$6+(s9rad*(COS(PI()*A44/180))),NA())","v":{"$error":"#N/A"}},null,null,{"$f":"IF(AND($AO$4=TRUE,$AN$8=ListsFlags!$A$13),$AO$5+(s10rad*(SIN(PI()*A44/180))),NA())","v":{"$error":"#N/A"}},{"$f":"IF(AND($AO$4=TRUE,$AN$8=ListsFlags!$A$13),$AO$6+(s10rad*(COS(PI()*A44/180))),NA())","v":{"$error":"#N/A"}},null,null,{"$error":"#DIV/0!"},{"$error":"#DIV/0!"},null,null,null,{"$error":"#DIV/0!"},{"$error":"#DIV/0!"}]
[205,null,null,null,{"$f":"IF(AND($D$4=TRUE,$C$8=ListsFlags!$A$13),$D$5+(s1rad*(SIN(PI()*Circ!A45/180))),NA())","v":{"$error":"#N/A"}},{"$f":"IF(AND($D$4=TRUE,$C$8=ListsFlags!$A$13),$D$6+(s1rad*(COS(PI()*Circ!A45/180))),NA())","v":{"$error":"#N/A"}},null,null,null,{"$f":"IF(AND($I$4=TRUE,$H$8=ListsFlags!$A$13),$I$5+(s2rad*(SIN(PI()*A45/180))),NA())","v":{"$error":"#N/A"}},{"$f":"IF(AND($I$4=TRUE,$H$8=ListsFlags!$A$13),$I$6+(s2rad*(COS(PI()*A45/180))),NA())","v":{"$error":"#N/A"}},null,null,{"$f":"IF(AND($M$4=TRUE,$L$8=ListsFlags!$A$13),$M$5+(s3rad*(SIN(PI()*A45/180))),NA())","v":{"$error":"#N/A"}},{"$f":"IF(AND($M$4=TRUE,$L$8=ListsFlags!$A$13),$M$6+(s3rad*(COS(PI()*A45/180))),NA())","v":{"$error":"#N/A"}},null,null,{"$f":"IF(AND($Q$4=TRUE,$P$8=ListsFlags!$A$13),$Q$5+(s4rad*(SIN(PI()*A45/180))),NA())","v":{"$error":"#N/A"}},{"$f":"IF(AND($Q$4=TRUE,$P$8=ListsFlags!$A$13),$Q$6+(s4rad*(COS(PI()*A45/180))),NA())","v":{"$error":"#N/A"}},null,null,{"$f":"IF(AND($U$4=TRUE,$T$8=ListsFlags!$A$13),$U$5+(s5rad*(SIN(PI()*A45/180))),NA())","v":{"$error":"#N/A"}},{"$f":"IF(AND($U$4=TRUE,$T$8=ListsFlags!$A$13),$U$6+(s5rad*(COS(PI()*A45/180))),NA())","v":{"$error":"#N/A"}},null,null,{"$f":"IF(AND($Y$4=TRUE,$X$8=ListsFlags!$A$13),$Y$5+(s6rad*(SIN(PI()*A45/180))),NA())","v":{"$error":"#N/A"}},{"$f":"IF(AND($Y$4=TRUE,$X$8=ListsFlags!$A$13),$Y$6+(s6rad*(COS(PI()*A45/180))),NA())","v":{"$error":"#N/A"}},null,null,{"$f":"IF(AND($AC$4=TRUE,$AB$8=ListsFlags!$A$13),$AC$5+(s7rad*(SIN(PI()*A45/180))),NA())","v":{"$error":"#N/A"}},{"$f":"IF(AND($AC$4=TRUE,$AB$8=ListsFlags!$A$13),$AC$6+(s7rad*(COS(PI()*A45/180))),NA())","v":{"$error":"#N/A"}},null,null,{"$f":"IF(AND($AG$4=TRUE,$AF$8=ListsFlags!$A$13),$AG$5+(s8rad*(SIN(PI()*A45/180))),NA())","v":{"$error":"#N/A"}},{"$f":"IF(AND($AG$4=TRUE,$AF$8=ListsFlags!$A$13),$AG$6+(s8rad*(COS(PI()*A45/180))),NA())","v":{"$error":"#N/A"}},null,null,{"$f":"IF(AND($AK$4=TRUE,$AJ$8=ListsFlags!$A$13),$AK$5+(s9rad*(SIN(PI()*A45/180))),NA())","v":{"$error":"#N/A"}},{"$f":"IF(AND($AK$4=TRUE,$AJ$8=ListsFlags!$A$13),$AK$6+(s9rad*(COS(PI()*A45/180))),NA())","v":{"$error":"#N/A"}},null,null,{"$f":"IF(AND($AO$4=TRUE,$AN$8=ListsFlags!$A$13),$AO$5+(s10rad*(SIN(PI()*A45/180))),NA())","v":{"$error":"#N/A"}},{"$f":"IF(AND($AO$4=TRUE,$AN$8=ListsFlags!$A$13),$AO$6+(s10rad*(COS(PI()*A45/180))),NA())","v":{"$error":"#N/A"}},null,null,{"$error":"#DIV/0!"},{"$error":"#DIV/0!"},null,null,null,{"$error":"#DIV/0!"},{"$error":"#DIV/0!"}]
[210,null,null,null,{"$f":"IF(AND($D$4=TRUE,$C$8=ListsFlags!$A$13),$D$5+(s1rad*(SIN(PI()*Circ!A46/180))),NA())","v":{"$error":"#N/A"}},{"$f":"IF(AND($D$4=TRUE,$C$8=ListsFlags!$A$13),$D$6+(s1rad*(COS(PI()*Circ!A46/180))),NA())","v":{"$error":"#N/A"}},null,null,null,{"$f":"IF(AND($I$4=TRUE,$H$8=ListsFlags!$A$13),$I$5+(s2rad*(SIN(PI()*A46/180))),NA())","v":{"$error":"#N/A"}},{"$f":"IF(AND($I$4=TRUE,$H$8=ListsFlags!$A$13),$I$6+(s2rad*(COS(PI()*A46/180))),NA())","v":{"$error":"#N/A"}},null,null,{"$f":"IF(AND($M$4=TRUE,$L$8=ListsFlags!$A$13),$M$5+(s3rad*(SIN(PI()*A46/180))),NA())","v":{"$error":"#N/A"}},{"$f":"IF(AND($M$4=TRUE,$L$8=ListsFlags!$A$13),$M$6+(s3rad*(COS(PI()*A46/180))),NA())","v":{"$error":"#N/A"}},null,null,{"$f":"IF(AND($Q$4=TRUE,$P$8=ListsFlags!$A$13),$Q$5+(s4rad*(SIN(PI()*A46/180))),NA())","v":{"$error":"#N/A"}},{"$f":"IF(AND($Q$4=TRUE,$P$8=ListsFlags!$A$13),$Q$6+(s4rad*(COS(PI()*A46/180))),NA())","v":{"$error":"#N/A"}},null,null,{"$f":"IF(AND($U$4=TRUE,$T$8=ListsFlags!$A$13),$U$5+(s5rad*(SIN(PI()*A46/180))),NA())","v":{"$error":"#N/A"}},{"$f":"IF(AND($U$4=TRUE,$T$8=ListsFlags!$A$13),$U$6+(s5rad*(COS(PI()*A46/180))),NA())","v":{"$error":"#N/A"}},null,null,{"$f":"IF(AND($Y$4=TRUE,$X$8=ListsFlags!$A$13),$Y$5+(s6rad*(SIN(PI()*A46/180))),NA())","v":{"$error":"#N/A"}},{"$f":"IF(AND($Y$4=TRUE,$X$8=ListsFlags!$A$13),$Y$6+(s6rad*(COS(PI()*A46/180))),NA())","v":{"$error":"#N/A"}},null,null,{"$f":"IF(AND($AC$4=TRUE,$AB$8=ListsFlags!$A$13),$AC$5+(s7rad*(SIN(PI()*A46/180))),NA())","v":{"$error":"#N/A"}},{"$f":"IF(AND($AC$4=TRUE,$AB$8=ListsFlags!$A$13),$AC$6+(s7rad*(COS(PI()*A46/180))),NA())","v":{"$error":"#N/A"}},null,null,{"$f":"IF(AND($AG$4=TRUE,$AF$8=ListsFlags!$A$13),$AG$5+(s8rad*(SIN(PI()*A46/180))),NA())","v":{"$error":"#N/A"}},{"$f":"IF(AND($AG$4=TRUE,$AF$8=ListsFlags!$A$13),$AG$6+(s8rad*(COS(PI()*A46/180))),NA())","v":{"$error":"#N/A"}},null,null,{"$f":"IF(AND($AK$4=TRUE,$AJ$8=ListsFlags!$A$13),$AK$5+(s9rad*(SIN(PI()*A46/180))),NA())","v":{"$error":"#N/A"}},{"$f":"IF(AND($AK$4=TRUE,$AJ$8=ListsFlags!$A$13),$AK$6+(s9rad*(COS(PI()*A46/180))),NA())","v":{"$error":"#N/A"}},null,null,{"$f":"IF(AND($AO$4=TRUE,$AN$8=ListsFlags!$A$13),$AO$5+(s10rad*(SIN(PI()*A46/180))),NA())","v":{"$error":"#N/A"}},{"$f":"IF(AND($AO$4=TRUE,$AN$8=ListsFlags!$A$13),$AO$6+(s10rad*(COS(PI()*A46/180))),NA())","v":{"$error":"#N/A"}},null,null,{"$error":"#DIV/0!"},{"$error":"#DIV/0!"},null,null,null,{"$error":"#DIV/0!"},{"$error":"#DIV/0!"}]
[215,null,null,null,{"$f":"IF(AND($D$4=TRUE,$C$8=ListsFlags!$A$13),$D$5+(s1rad*(SIN(PI()*Circ!A47/180))),NA())","v":{"$error":"#N/A"}},{"$f":"IF(AND($D$4=TRUE,$C$8=ListsFlags!$A$13),$D$6+(s1rad*(COS(PI()*Circ!A47/180))),NA())","v":{"$error":"#N/A"}},null,null,null,{"$f":"IF(AND($I$4=TRUE,$H$8=ListsFlags!$A$13),$I$5+(s2rad*(SIN(PI()*A47/180))),NA())","v":{"$error":"#N/A"}},{"$f":"IF(AND($I$4=TRUE,$H$8=ListsFlags!$A$13),$I$6+(s2rad*(COS(PI()*A47/180))),NA())","v":{"$error":"#N/A"}},null,null,{"$f":"IF(AND($M$4=TRUE,$L$8=ListsFlags!$A$13),$M$5+(s3rad*(SIN(PI()*A47/180))),NA())","v":{"$error":"#N/A"}},{"$f":"IF(AND($M$4=TRUE,$L$8=ListsFlags!$A$13),$M$6+(s3rad*(COS(PI()*A47/180))),NA())","v":{"$error":"#N/A"}},null,null,{"$f":"IF(AND($Q$4=TRUE,$P$8=ListsFlags!$A$13),$Q$5+(s4rad*(SIN(PI()*A47/180))),NA())","v":{"$error":"#N/A"}},{"$f":"IF(AND($Q$4=TRUE,$P$8=ListsFlags!$A$13),$Q$6+(s4rad*(COS(PI()*A47/180))),NA())","v":{"$error":"#N/A"}},null,null,{"$f":"IF(AND($U$4=TRUE,$T$8=ListsFlags!$A$13),$U$5+(s5rad*(SIN(PI()*A47/180))),NA())","v":{"$error":"#N/A"}},{"$f":"IF(AND($U$4=TRUE,$T$8=ListsFlags!$A$13),$U$6+(s5rad*(COS(PI()*A47/180))),NA())","v":{"$error":"#N/A"}},null,null,{"$f":"IF(AND($Y$4=TRUE,$X$8=ListsFlags!$A$13),$Y$5+(s6rad*(SIN(PI()*A47/180))),NA())","v":{"$error":"#N/A"}},{"$f":"IF(AND($Y$4=TRUE,$X$8=ListsFlags!$A$13),$Y$6+(s6rad*(COS(PI()*A47/180))),NA())","v":{"$error":"#N/A"}},null,null,{"$f":"IF(AND($AC$4=TRUE,$AB$8=ListsFlags!$A$13),$AC$5+(s7rad*(SIN(PI()*A47/180))),NA())","v":{"$error":"#N/A"}},{"$f":"IF(AND($AC$4=TRUE,$AB$8=ListsFlags!$A$13),$AC$6+(s7rad*(COS(PI()*A47/180))),NA())","v":{"$error":"#N/A"}},null,null,{"$f":"IF(AND($AG$4=TRUE,$AF$8=ListsFlags!$A$13),$AG$5+(s8rad*(SIN(PI()*A47/180))),NA())","v":{"$error":"#N/A"}},{"$f":"IF(AND($AG$4=TRUE,$AF$8=ListsFlags!$A$13),$AG$6+(s8rad*(COS(PI()*A47/180))),NA())","v":{"$error":"#N/A"}},null,null,{"$f":"IF(AND($AK$4=TRUE,$AJ$8=ListsFlags!$A$13),$AK$5+(s9rad*(SIN(PI()*A47/180))),NA())","v":{"$error":"#N/A"}},{"$f":"IF(AND($AK$4=TRUE,$AJ$8=ListsFlags!$A$13),$AK$6+(s9rad*(COS(PI()*A47/180))),NA())","v":{"$error":"#N/A"}},null,null,{"$f":"IF(AND($AO$4=TRUE,$AN$8=ListsFlags!$A$13),$AO$5+(s10rad*(SIN(PI()*A47/180))),NA())","v":{"$error":"#N/A"}},{"$f":"IF(AND($AO$4=TRUE,$AN$8=ListsFlags!$A$13),$AO$6+(s10rad*(COS(PI()*A47/180))),NA())","v":{"$error":"#N/A"}},null,null,{"$error":"#DIV/0!"},{"$error":"#DIV/0!"},null,null,null,{"$error":"#DIV/0!"},{"$error":"#DIV/0!"}]
[220,null,null,null,{"$f":"IF(AND($D$4=TRUE,$C$8=ListsFlags!$A$13),$D$5+(s1rad*(SIN(PI()*Circ!A48/180))),NA())","v":{"$error":"#N/A"}},{"$f":"IF(AND($D$4=TRUE,$C$8=ListsFlags!$A$13),$D$6+(s1rad*(COS(PI()*Circ!A48/180))),NA())","v":{"$error":"#N/A"}},null,null,null,{"$f":"IF(AND($I$4=TRUE,$H$8=ListsFlags!$A$13),$I$5+(s2rad*(SIN(PI()*A48/180))),NA())","v":{"$error":"#N/A"}},{"$f":"IF(AND($I$4=TRUE,$H$8=ListsFlags!$A$13),$I$6+(s2rad*(COS(PI()*A48/180))),NA())","v":{"$error":"#N/A"}},null,null,{"$f":"IF(AND($M$4=TRUE,$L$8=ListsFlags!$A$13),$M$5+(s3rad*(SIN(PI()*A48/180))),NA())","v":{"$error":"#N/A"}},{"$f":"IF(AND($M$4=TRUE,$L$8=ListsFlags!$A$13),$M$6+(s3rad*(COS(PI()*A48/180))),NA())","v":{"$error":"#N/A"}},null,null,{"$f":"IF(AND($Q$4=TRUE,$P$8=ListsFlags!$A$13),$Q$5+(s4rad*(SIN(PI()*A48/180))),NA())","v":{"$error":"#N/A"}},{"$f":"IF(AND($Q$4=TRUE,$P$8=ListsFlags!$A$13),$Q$6+(s4rad*(COS(PI()*A48/180))),NA())","v":{"$error":"#N/A"}},null,null,{"$f":"IF(AND($U$4=TRUE,$T$8=ListsFlags!$A$13),$U$5+(s5rad*(SIN(PI()*A48/180))),NA())","v":{"$error":"#N/A"}},{"$f":"IF(AND($U$4=TRUE,$T$8=ListsFlags!$A$13),$U$6+(s5rad*(COS(PI()*A48/180))),NA())","v":{"$error":"#N/A"}},null,null,{"$f":"IF(AND($Y$4=TRUE,$X$8=ListsFlags!$A$13),$Y$5+(s6rad*(SIN(PI()*A48/180))),NA())","v":{"$error":"#N/A"}},{"$f":"IF(AND($Y$4=TRUE,$X$8=ListsFlags!$A$13),$Y$6+(s6rad*(COS(PI()*A48/180))),NA())","v":{"$error":"#N/A"}},null,null,{"$f":"IF(AND($AC$4=TRUE,$AB$8=ListsFlags!$A$13),$AC$5+(s7rad*(SIN(PI()*A48/180))),NA())","v":{"$error":"#N/A"}},{"$f":"IF(AND($AC$4=TRUE,$AB$8=ListsFlags!$A$13),$AC$6+(s7rad*(COS(PI()*A48/180))),NA())","v":{"$error":"#N/A"}},null,null,{"$f":"IF(AND($AG$4=TRUE,$AF$8=ListsFlags!$A$13),$AG$5+(s8rad*(SIN(PI()*A48/180))),NA())","v":{"$error":"#N/A"}},{"$f":"IF(AND($AG$4=TRUE,$AF$8=ListsFlags!$A$13),$AG$6+(s8rad*(COS(PI()*A48/180))),NA())","v":{"$error":"#N/A"}},null,null,{"$f":"IF(AND($AK$4=TRUE,$AJ$8=ListsFlags!$A$13),$AK$5+(s9rad*(SIN(PI()*A48/180))),NA())","v":{"$error":"#N/A"}},{"$f":"IF(AND($AK$4=TRUE,$AJ$8=ListsFlags!$A$13),$AK$6+(s9rad*(COS(PI()*A48/180))),NA())","v":{"$error":"#N/A"}},null,null,{"$f":"IF(AND($AO$4=TRUE,$AN$8=ListsFlags!$A$13),$AO$5+(s10rad*(SIN(PI()*A48/180))),NA())","v":{"$error":"#N/A"}},{"$f":"IF(AND($AO$4=TRUE,$AN$8=ListsFlags!$A$13),$AO$6+(s10rad*(COS(PI()*A48/180))),NA())","v":{"$error":"#N/A"}},null,null,{"$error":"#DIV/0!"},{"$error":"#DIV/0!"},null,null,null,{"$error":"#DIV/0!"},{"$error":"#DIV/0!"}]
[225,null,null,null,{"$f":"IF(AND($D$4=TRUE,$C$8=ListsFlags!$A$13),$D$5+(s1rad*(SIN(PI()*Circ!A49/180))),NA())","v":{"$error":"#N/A"}},{"$f":"IF(AND($D$4=TRUE,$C$8=ListsFlags!$A$13),$D$6+(s1rad*(COS(PI()*Circ!A49/180))),NA())","v":{"$error":"#N/A"}},"SW",null,null,{"$f":"IF(AND($I$4=TRUE,$H$8=ListsFlags!$A$13),$I$5+(s2rad*(SIN(PI()*A49/180))),NA())","v":{"$error":"#N/A"}},{"$f":"IF(AND($I$4=TRUE,$H$8=ListsFlags!$A$13),$I$6+(s2rad*(COS(PI()*A49/180))),NA())","v":{"$error":"#N/A"}},null,null,{"$f":"IF(AND($M$4=TRUE,$L$8=ListsFlags!$A$13),$M$5+(s3rad*(SIN(PI()*A49/180))),NA())","v":{"$error":"#N/A"}},{"$f":"IF(AND($M$4=TRUE,$L$8=ListsFlags!$A$13),$M$6+(s3rad*(COS(PI()*A49/180))),NA())","v":{"$error":"#N/A"}},null,null,{"$f":"IF(AND($Q$4=TRUE,$P$8=ListsFlags!$A$13),$Q$5+(s4rad*(SIN(PI()*A49/180))),NA())","v":{"$error":"#N/A"}},{"$f":"IF(AND($Q$4=TRUE,$P$8=ListsFlags!$A$13),$Q$6+(s4rad*(COS(PI()*A49/180))),NA())","v":{"$error":"#N/A"}},null,null,{"$f":"IF(AND($U$4=TRUE,$T$8=ListsFlags!$A$13),$U$5+(s5rad*(SIN(PI()*A49/180))),NA())","v":{"$error":"#N/A"}},{"$f":"IF(AND($U$4=TRUE,$T$8=ListsFlags!$A$13),$U$6+(s5rad*(COS(PI()*A49/180))),NA())","v":{"$error":"#N/A"}},null,null,{"$f":"IF(AND($Y$4=TRUE,$X$8=ListsFlags!$A$13),$Y$5+(s6rad*(SIN(PI()*A49/180))),NA())","v":{"$error":"#N/A"}},{"$f":"IF(AND($Y$4=TRUE,$X$8=ListsFlags!$A$13),$Y$6+(s6rad*(COS(PI()*A49/180))),NA())","v":{"$error":"#N/A"}},null,null,{"$f":"IF(AND($AC$4=TRUE,$AB$8=ListsFlags!$A$13),$AC$5+(s7rad*(SIN(PI()*A49/180))),NA())","v":{"$error":"#N/A"}},{"$f":"IF(AND($AC$4=TRUE,$AB$8=ListsFlags!$A$13),$AC$6+(s7rad*(COS(PI()*A49/180))),NA())","v":{"$error":"#N/A"}},null,null,{"$f":"IF(AND($AG$4=TRUE,$AF$8=ListsFlags!$A$13),$AG$5+(s8rad*(SIN(PI()*A49/180))),NA())","v":{"$error":"#N/A"}},{"$f":"IF(AND($AG$4=TRUE,$AF$8=ListsFlags!$A$13),$AG$6+(s8rad*(COS(PI()*A49/180))),NA())","v":{"$error":"#N/A"}},null,null,{"$f":"IF(AND($AK$4=TRUE,$AJ$8=ListsFlags!$A$13),$AK$5+(s9rad*(SIN(PI()*A49/180))),NA())","v":{"$error":"#N/A"}},{"$f":"IF(AND($AK$4=TRUE,$AJ$8=ListsFlags!$A$13),$AK$6+(s9rad*(COS(PI()*A49/180))),NA())","v":{"$error":"#N/A"}},null,null,{"$f":"IF(AND($AO$4=TRUE,$AN$8=ListsFlags!$A$13),$AO$5+(s10rad*(SIN(PI()*A49/180))),NA())","v":{"$error":"#N/A"}},{"$f":"IF(AND($AO$4=TRUE,$AN$8=ListsFlags!$A$13),$AO$6+(s10rad*(COS(PI()*A49/180))),NA())","v":{"$error":"#N/A"}},null,null,{"$error":"#DIV/0!"},{"$error":"#DIV/0!"},null,null,null,{"$error":"#DIV/0!"},{"$error":"#DIV/0!"}]
[230,null,null,null,{"$f":"IF(AND($D$4=TRUE,$C$8=ListsFlags!$A$13),$D$5+(s1rad*(SIN(PI()*Circ!A50/180))),NA())","v":{"$error":"#N/A"}},{"$f":"IF(AND($D$4=TRUE,$C$8=ListsFlags!$A$13),$D$6+(s1rad*(COS(PI()*Circ!A50/180))),NA())","v":{"$error":"#N/A"}},null,null,null,{"$f":"IF(AND($I$4=TRUE,$H$8=ListsFlags!$A$13),$I$5+(s2rad*(SIN(PI()*A50/180))),NA())","v":{"$error":"#N/A"}},{"$f":"IF(AND($I$4=TRUE,$H$8=ListsFlags!$A$13),$I$6+(s2rad*(COS(PI()*A50/180))),NA())","v":{"$error":"#N/A"}},null,null,{"$f":"IF(AND($M$4=TRUE,$L$8=ListsFlags!$A$13),$M$5+(s3rad*(SIN(PI()*A50/180))),NA())","v":{"$error":"#N/A"}},{"$f":"IF(AND($M$4=TRUE,$L$8=ListsFlags!$A$13),$M$6+(s3rad*(COS(PI()*A50/180))),NA())","v":{"$error":"#N/A"}},null,null,{"$f":"IF(AND($Q$4=TRUE,$P$8=ListsFlags!$A$13),$Q$5+(s4rad*(SIN(PI()*A50/180))),NA())","v":{"$error":"#N/A"}},{"$f":"IF(AND($Q$4=TRUE,$P$8=ListsFlags!$A$13),$Q$6+(s4rad*(COS(PI()*A50/180))),NA())","v":{"$error":"#N/A"}},null,null,{"$f":"IF(AND($U$4=TRUE,$T$8=ListsFlags!$A$13),$U$5+(s5rad*(SIN(PI()*A50/180))),NA())","v":{"$error":"#N/A"}},{"$f":"IF(AND($U$4=TRUE,$T$8=ListsFlags!$A$13),$U$6+(s5rad*(COS(PI()*A50/180))),NA())","v":{"$error":"#N/A"}},null,null,{"$f":"IF(AND($Y$4=TRUE,$X$8=ListsFlags!$A$13),$Y$5+(s6rad*(SIN(PI()*A50/180))),NA())","v":{"$error":"#N/A"}},{"$f":"IF(AND($Y$4=TRUE,$X$8=ListsFlags!$A$13),$Y$6+(s6rad*(COS(PI()*A50/180))),NA())","v":{"$error":"#N/A"}},null,null,{"$f":"IF(AND($AC$4=TRUE,$AB$8=ListsFlags!$A$13),$AC$5+(s7rad*(SIN(PI()*A50/180))),NA())","v":{"$error":"#N/A"}},{"$f":"IF(AND($AC$4=TRUE,$AB$8=ListsFlags!$A$13),$AC$6+(s7rad*(COS(PI()*A50/180))),NA())","v":{"$error":"#N/A"}},null,null,{"$f":"IF(AND($AG$4=TRUE,$AF$8=ListsFlags!$A$13),$AG$5+(s8rad*(SIN(PI()*A50/180))),NA())","v":{"$error":"#N/A"}},{"$f":"IF(AND($AG$4=TRUE,$AF$8=ListsFlags!$A$13),$AG$6+(s8rad*(COS(PI()*A50/180))),NA())","v":{"$error":"#N/A"}},null,null,{"$f":"IF(AND($AK$4=TRUE,$AJ$8=ListsFlags!$A$13),$AK$5+(s9rad*(SIN(PI()*A50/180))),NA())","v":{"$error":"#N/A"}},{"$f":"IF(AND($AK$4=TRUE,$AJ$8=ListsFlags!$A$13),$AK$6+(s9rad*(COS(PI()*A50/180))),NA())","v":{"$error":"#N/A"}},null,null,{"$f":"IF(AND($AO$4=TRUE,$AN$8=ListsFlags!$A$13),$AO$5+(s10rad*(SIN(PI()*A50/180))),NA())","v":{"$error":"#N/A"}},{"$f":"IF(AND($AO$4=TRUE,$AN$8=ListsFlags!$A$13),$AO$6+(s10rad*(COS(PI()*A50/180))),NA())","v":{"$error":"#N/A"}},null,null,{"$error":"#DIV/0!"},{"$error":"#DIV/0!"},null,null,null,{"$error":"#DIV/0!"},{"$error":"#DIV/0!"}]
[235,null,null,null,{"$f":"IF(AND($D$4=TRUE,$C$8=ListsFlags!$A$13),$D$5+(s1rad*(SIN(PI()*Circ!A51/180))),NA())","v":{"$error":"#N/A"}},{"$f":"IF(AND($D$4=TRUE,$C$8=ListsFlags!$A$13),$D$6+(s1rad*(COS(PI()*Circ!A51/180))),NA())","v":{"$error":"#N/A"}},null,null,null,{"$f":"IF(AND($I$4=TRUE,$H$8=ListsFlags!$A$13),$I$5+(s2rad*(SIN(PI()*A51/180))),NA())","v":{"$error":"#N/A"}},{"$f":"IF(AND($I$4=TRUE,$H$8=ListsFlags!$A$13),$I$6+(s2rad*(COS(PI()*A51/180))),NA())","v":{"$error":"#N/A"}},null,null,{"$f":"IF(AND($M$4=TRUE,$L$8=ListsFlags!$A$13),$M$5+(s3rad*(SIN(PI()*A51/180))),NA())","v":{"$error":"#N/A"}},{"$f":"IF(AND($M$4=TRUE,$L$8=ListsFlags!$A$13),$M$6+(s3rad*(COS(PI()*A51/180))),NA())","v":{"$error":"#N/A"}},null,null,{"$f":"IF(AND($Q$4=TRUE,$P$8=ListsFlags!$A$13),$Q$5+(s4rad*(SIN(PI()*A51/180))),NA())","v":{"$error":"#N/A"}},{"$f":"IF(AND($Q$4=TRUE,$P$8=ListsFlags!$A$13),$Q$6+(s4rad*(COS(PI()*A51/180))),NA())","v":{"$error":"#N/A"}},null,null,{"$f":"IF(AND($U$4=TRUE,$T$8=ListsFlags!$A$13),$U$5+(s5rad*(SIN(PI()*A51/180))),NA())","v":{"$error":"#N/A"}},{"$f":"IF(AND($U$4=TRUE,$T$8=ListsFlags!$A$13),$U$6+(s5rad*(COS(PI()*A51/180))),NA())","v":{"$error":"#N/A"}},null,null,{"$f":"IF(AND($Y$4=TRUE,$X$8=ListsFlags!$A$13),$Y$5+(s6rad*(SIN(PI()*A51/180))),NA())","v":{"$error":"#N/A"}},{"$f":"IF(AND($Y$4=TRUE,$X$8=ListsFlags!$A$13),$Y$6+(s6rad*(COS(PI()*A51/180))),NA())","v":{"$error":"#N/A"}},null,null,{"$f":"IF(AND($AC$4=TRUE,$AB$8=ListsFlags!$A$13),$AC$5+(s7rad*(SIN(PI()*A51/180))),NA())","v":{"$error":"#N/A"}},{"$f":"IF(AND($AC$4=TRUE,$AB$8=ListsFlags!$A$13),$AC$6+(s7rad*(COS(PI()*A51/180))),NA())","v":{"$error":"#N/A"}},null,null,{"$f":"IF(AND($AG$4=TRUE,$AF$8=ListsFlags!$A$13),$AG$5+(s8rad*(SIN(PI()*A51/180))),NA())","v":{"$error":"#N/A"}},{"$f":"IF(AND($AG$4=TRUE,$AF$8=ListsFlags!$A$13),$AG$6+(s8rad*(COS(PI()*A51/180))),NA())","v":{"$error":"#N/A"}},null,null,{"$f":"IF(AND($AK$4=TRUE,$AJ$8=ListsFlags!$A$13),$AK$5+(s9rad*(SIN(PI()*A51/180))),NA())","v":{"$error":"#N/A"}},{"$f":"IF(AND($AK$4=TRUE,$AJ$8=ListsFlags!$A$13),$AK$6+(s9rad*(COS(PI()*A51/180))),NA())","v":{"$error":"#N/A"}},null,null,{"$f":"IF(AND($AO$4=TRUE,$AN$8=ListsFlags!$A$13),$AO$5+(s10rad*(SIN(PI()*A51/180))),NA())","v":{"$error":"#N/A"}},{"$f":"IF(AND($AO$4=TRUE,$AN$8=ListsFlags!$A$13),$AO$6+(s10rad*(COS(PI()*A51/180))),NA())","v":{"$error":"#N/A"}},null,null,{"$error":"#DIV/0!"},{"$error":"#DIV/0!"},null,null,null,{"$error":"#DIV/0!"},{"$error":"#DIV/0!"}]
[240,null,null,null,{"$f":"IF(AND($D$4=TRUE,$C$8=ListsFlags!$A$13),$D$5+(s1rad*(SIN(PI()*Circ!A52/180))),NA())","v":{"$error":"#N/A"}},{"$f":"IF(AND($D$4=TRUE,$C$8=ListsFlags!$A$13),$D$6+(s1rad*(COS(PI()*Circ!A52/180))),NA())","v":{"$error":"#N/A"}},null,null,null,{"$f":"IF(AND($I$4=TRUE,$H$8=ListsFlags!$A$13),$I$5+(s2rad*(SIN(PI()*A52/180))),NA())","v":{"$error":"#N/A"}},{"$f":"IF(AND($I$4=TRUE,$H$8=ListsFlags!$A$13),$I$6+(s2rad*(COS(PI()*A52/180))),NA())","v":{"$error":"#N/A"}},null,null,{"$f":"IF(AND($M$4=TRUE,$L$8=ListsFlags!$A$13),$M$5+(s3rad*(SIN(PI()*A52/180))),NA())","v":{"$error":"#N/A"}},{"$f":"IF(AND($M$4=TRUE,$L$8=ListsFlags!$A$13),$M$6+(s3rad*(COS(PI()*A52/180))),NA())","v":{"$error":"#N/A"}},null,null,{"$f":"IF(AND($Q$4=TRUE,$P$8=ListsFlags!$A$13),$Q$5+(s4rad*(SIN(PI()*A52/180))),NA())","v":{"$error":"#N/A"}},{"$f":"IF(AND($Q$4=TRUE,$P$8=ListsFlags!$A$13),$Q$6+(s4rad*(COS(PI()*A52/180))),NA())","v":{"$error":"#N/A"}},null,null,{"$f":"IF(AND($U$4=TRUE,$T$8=ListsFlags!$A$13),$U$5+(s5rad*(SIN(PI()*A52/180))),NA())","v":{"$error":"#N/A"}},{"$f":"IF(AND($U$4=TRUE,$T$8=ListsFlags!$A$13),$U$6+(s5rad*(COS(PI()*A52/180))),NA())","v":{"$error":"#N/A"}},null,null,{"$f":"IF(AND($Y$4=TRUE,$X$8=ListsFlags!$A$13),$Y$5+(s6rad*(SIN(PI()*A52/180))),NA())","v":{"$error":"#N/A"}},{"$f":"IF(AND($Y$4=TRUE,$X$8=ListsFlags!$A$13),$Y$6+(s6rad*(COS(PI()*A52/180))),NA())","v":{"$error":"#N/A"}},null,null,{"$f":"IF(AND($AC$4=TRUE,$AB$8=ListsFlags!$A$13),$AC$5+(s7rad*(SIN(PI()*A52/180))),NA())","v":{"$error":"#N/A"}},{"$f":"IF(AND($AC$4=TRUE,$AB$8=ListsFlags!$A$13),$AC$6+(s7rad*(COS(PI()*A52/180))),NA())","v":{"$error":"#N/A"}},null,null,{"$f":"IF(AND($AG$4=TRUE,$AF$8=ListsFlags!$A$13),$AG$5+(s8rad*(SIN(PI()*A52/180))),NA())","v":{"$error":"#N/A"}},{"$f":"IF(AND($AG$4=TRUE,$AF$8=ListsFlags!$A$13),$AG$6+(s8rad*(COS(PI()*A52/180))),NA())","v":{"$error":"#N/A"}},null,null,{"$f":"IF(AND($AK$4=TRUE,$AJ$8=ListsFlags!$A$13),$AK$5+(s9rad*(SIN(PI()*A52/180))),NA())","v":{"$error":"#N/A"}},{"$f":"IF(AND($AK$4=TRUE,$AJ$8=ListsFlags!$A$13),$AK$6+(s9rad*(COS(PI()*A52/180))),NA())","v":{"$error":"#N/A"}},null,null,{"$f":"IF(AND($AO$4=TRUE,$AN$8=ListsFlags!$A$13),$AO$5+(s10rad*(SIN(PI()*A52/180))),NA())","v":{"$error":"#N/A"}},{"$f":"IF(AND($AO$4=TRUE,$AN$8=ListsFlags!$A$13),$AO$6+(s10rad*(COS(PI()*A52/180))),NA())","v":{"$error":"#N/A"}},null,null,{"$error":"#DIV/0!"},{"$error":"#DIV/0!"},null,null,null,{"$error":"#DIV/0!"},{"$error":"#DIV/0!"}]
[245,null,null,null,{"$f":"IF(AND($D$4=TRUE,$C$8=ListsFlags!$A$13),$D$5+(s1rad*(SIN(PI()*Circ!A53/180))),NA())","v":{"$error":"#N/A"}},{"$f":"IF(AND($D$4=TRUE,$C$8=ListsFlags!$A$13),$D$6+(s1rad*(COS(PI()*Circ!A53/180))),NA())","v":{"$error":"#N/A"}},null,null,null,{"$f":"IF(AND($I$4=TRUE,$H$8=ListsFlags!$A$13),$I$5+(s2rad*(SIN(PI()*A53/180))),NA())","v":{"$error":"#N/A"}},{"$f":"IF(AND($I$4=TRUE,$H$8=ListsFlags!$A$13),$I$6+(s2rad*(COS(PI()*A53/180))),NA())","v":{"$error":"#N/A"}},null,null,{"$f":"IF(AND($M$4=TRUE,$L$8=ListsFlags!$A$13),$M$5+(s3rad*(SIN(PI()*A53/180))),NA())","v":{"$error":"#N/A"}},{"$f":"IF(AND($M$4=TRUE,$L$8=ListsFlags!$A$13),$M$6+(s3rad*(COS(PI()*A53/180))),NA())","v":{"$error":"#N/A"}},null,null,{"$f":"IF(AND($Q$4=TRUE,$P$8=ListsFlags!$A$13),$Q$5+(s4rad*(SIN(PI()*A53/180))),NA())","v":{"$error":"#N/A"}},{"$f":"IF(AND($Q$4=TRUE,$P$8=ListsFlags!$A$13),$Q$6+(s4rad*(COS(PI()*A53/180))),NA())","v":{"$error":"#N/A"}},null,null,{"$f":"IF(AND($U$4=TRUE,$T$8=ListsFlags!$A$13),$U$5+(s5rad*(SIN(PI()*A53/180))),NA())","v":{"$error":"#N/A"}},{"$f":"IF(AND($U$4=TRUE,$T$8=ListsFlags!$A$13),$U$6+(s5rad*(COS(PI()*A53/180))),NA())","v":{"$error":"#N/A"}},null,null,{"$f":"IF(AND($Y$4=TRUE,$X$8=ListsFlags!$A$13),$Y$5+(s6rad*(SIN(PI()*A53/180))),NA())","v":{"$error":"#N/A"}},{"$f":"IF(AND($Y$4=TRUE,$X$8=ListsFlags!$A$13),$Y$6+(s6rad*(COS(PI()*A53/180))),NA())","v":{"$error":"#N/A"}},null,null,{"$f":"IF(AND($AC$4=TRUE,$AB$8=ListsFlags!$A$13),$AC$5+(s7rad*(SIN(PI()*A53/180))),NA())","v":{"$error":"#N/A"}},{"$f":"IF(AND($AC$4=TRUE,$AB$8=ListsFlags!$A$13),$AC$6+(s7rad*(COS(PI()*A53/180))),NA())","v":{"$error":"#N/A"}},null,null,{"$f":"IF(AND($AG$4=TRUE,$AF$8=ListsFlags!$A$13),$AG$5+(s8rad*(SIN(PI()*A53/180))),NA())","v":{"$error":"#N/A"}},{"$f":"IF(AND($AG$4=TRUE,$AF$8=ListsFlags!$A$13),$AG$6+(s8rad*(COS(PI()*A53/180))),NA())","v":{"$error":"#N/A"}},null,null,{"$f":"IF(AND($AK$4=TRUE,$AJ$8=ListsFlags!$A$13),$AK$5+(s9rad*(SIN(PI()*A53/180))),NA())","v":{"$error":"#N/A"}},{"$f":"IF(AND($AK$4=TRUE,$AJ$8=ListsFlags!$A$13),$AK$6+(s9rad*(COS(PI()*A53/180))),NA())","v":{"$error":"#N/A"}},null,null,{"$f":"IF(AND($AO$4=TRUE,$AN$8=ListsFlags!$A$13),$AO$5+(s10rad*(SIN(PI()*A53/180))),NA())","v":{"$error":"#N/A"}},{"$f":"IF(AND($AO$4=TRUE,$AN$8=ListsFlags!$A$13),$AO$6+(s10rad*(COS(PI()*A53/180))),NA())","v":{"$error":"#N/A"}},null,null,{"$error":"#DIV/0!"},{"$error":"#DIV/0!"},null,null,null,{"$error":"#DIV/0!"},{"$error":"#DIV/0!"}]
[250,null,null,null,{"$f":"IF(AND($D$4=TRUE,$C$8=ListsFlags!$A$13),$D$5+(s1rad*(SIN(PI()*Circ!A54/180))),NA())","v":{"$error":"#N/A"}},{"$f":"IF(AND($D$4=TRUE,$C$8=ListsFlags!$A$13),$D$6+(s1rad*(COS(PI()*Circ!A54/180))),NA())","v":{"$error":"#N/A"}},null,null,null,{"$f":"IF(AND($I$4=TRUE,$H$8=ListsFlags!$A$13),$I$5+(s2rad*(SIN(PI()*A54/180))),NA())","v":{"$error":"#N/A"}},{"$f":"IF(AND($I$4=TRUE,$H$8=ListsFlags!$A$13),$I$6+(s2rad*(COS(PI()*A54/180))),NA())","v":{"$error":"#N/A"}},null,null,{"$f":"IF(AND($M$4=TRUE,$L$8=ListsFlags!$A$13),$M$5+(s3rad*(SIN(PI()*A54/180))),NA())","v":{"$error":"#N/A"}},{"$f":"IF(AND($M$4=TRUE,$L$8=ListsFlags!$A$13),$M$6+(s3rad*(COS(PI()*A54/180))),NA())","v":{"$error":"#N/A"}},null,null,{"$f":"IF(AND($Q$4=TRUE,$P$8=ListsFlags!$A$13),$Q$5+(s4rad*(SIN(PI()*A54/180))),NA())","v":{"$error":"#N/A"}},{"$f":"IF(AND($Q$4=TRUE,$P$8=ListsFlags!$A$13),$Q$6+(s4rad*(COS(PI()*A54/180))),NA())","v":{"$error":"#N/A"}},null,null,{"$f":"IF(AND($U$4=TRUE,$T$8=ListsFlags!$A$13),$U$5+(s5rad*(SIN(PI()*A54/180))),NA())","v":{"$error":"#N/A"}},{"$f":"IF(AND($U$4=TRUE,$T$8=ListsFlags!$A$13),$U$6+(s5rad*(COS(PI()*A54/180))),NA())","v":{"$error":"#N/A"}},null,null,{"$f":"IF(AND($Y$4=TRUE,$X$8=ListsFlags!$A$13),$Y$5+(s6rad*(SIN(PI()*A54/180))),NA())","v":{"$error":"#N/A"}},{"$f":"IF(AND($Y$4=TRUE,$X$8=ListsFlags!$A$13),$Y$6+(s6rad*(COS(PI()*A54/180))),NA())","v":{"$error":"#N/A"}},null,null,{"$f":"IF(AND($AC$4=TRUE,$AB$8=ListsFlags!$A$13),$AC$5+(s7rad*(SIN(PI()*A54/180))),NA())","v":{"$error":"#N/A"}},{"$f":"IF(AND($AC$4=TRUE,$AB$8=ListsFlags!$A$13),$AC$6+(s7rad*(COS(PI()*A54/180))),NA())","v":{"$error":"#N/A"}},null,null,{"$f":"IF(AND($AG$4=TRUE,$AF$8=ListsFlags!$A$13),$AG$5+(s8rad*(SIN(PI()*A54/180))),NA())","v":{"$error":"#N/A"}},{"$f":"IF(AND($AG$4=TRUE,$AF$8=ListsFlags!$A$13),$AG$6+(s8rad*(COS(PI()*A54/180))),NA())","v":{"$error":"#N/A"}},null,null,{"$f":"IF(AND($AK$4=TRUE,$AJ$8=ListsFlags!$A$13),$AK$5+(s9rad*(SIN(PI()*A54/180))),NA())","v":{"$error":"#N/A"}},{"$f":"IF(AND($AK$4=TRUE,$AJ$8=ListsFlags!$A$13),$AK$6+(s9rad*(COS(PI()*A54/180))),NA())","v":{"$error":"#N/A"}},null,null,{"$f":"IF(AND($AO$4=TRUE,$AN$8=ListsFlags!$A$13),$AO$5+(s10rad*(SIN(PI()*A54/180))),NA())","v":{"$error":"#N/A"}},{"$f":"IF(AND($AO$4=TRUE,$AN$8=ListsFlags!$A$13),$AO$6+(s10rad*(COS(PI()*A54/180))),NA())","v":{"$error":"#N/A"}},null,null,{"$error":"#DIV/0!"},{"$error":"#DIV/0!"},null,null,null,{"$error":"#DIV/0!"},{"$error":"#DIV/0!"}]
[255,null,null,null,{"$f":"IF(AND($D$4=TRUE,$C$8=ListsFlags!$A$13),$D$5+(s1rad*(SIN(PI()*Circ!A55/180))),NA())","v":{"$error":"#N/A"}},{"$f":"IF(AND($D$4=TRUE,$C$8=ListsFlags!$A$13),$D$6+(s1rad*(COS(PI()*Circ!A55/180))),NA())","v":{"$error":"#N/A"}},null,null,null,{"$f":"IF(AND($I$4=TRUE,$H$8=ListsFlags!$A$13),$I$5+(s2rad*(SIN(PI()*A55/180))),NA())","v":{"$error":"#N/A"}},{"$f":"IF(AND($I$4=TRUE,$H$8=ListsFlags!$A$13),$I$6+(s2rad*(COS(PI()*A55/180))),NA())","v":{"$error":"#N/A"}},null,null,{"$f":"IF(AND($M$4=TRUE,$L$8=ListsFlags!$A$13),$M$5+(s3rad*(SIN(PI()*A55/180))),NA())","v":{"$error":"#N/A"}},{"$f":"IF(AND($M$4=TRUE,$L$8=ListsFlags!$A$13),$M$6+(s3rad*(COS(PI()*A55/180))),NA())","v":{"$error":"#N/A"}},null,null,{"$f":"IF(AND($Q$4=TRUE,$P$8=ListsFlags!$A$13),$Q$5+(s4rad*(SIN(PI()*A55/180))),NA())","v":{"$error":"#N/A"}},{"$f":"IF(AND($Q$4=TRUE,$P$8=ListsFlags!$A$13),$Q$6+(s4rad*(COS(PI()*A55/180))),NA())","v":{"$error":"#N/A"}},null,null,{"$f":"IF(AND($U$4=TRUE,$T$8=ListsFlags!$A$13),$U$5+(s5rad*(SIN(PI()*A55/180))),NA())","v":{"$error":"#N/A"}},{"$f":"IF(AND($U$4=TRUE,$T$8=ListsFlags!$A$13),$U$6+(s5rad*(COS(PI()*A55/180))),NA())","v":{"$error":"#N/A"}},null,null,{"$f":"IF(AND($Y$4=TRUE,$X$8=ListsFlags!$A$13),$Y$5+(s6rad*(SIN(PI()*A55/180))),NA())","v":{"$error":"#N/A"}},{"$f":"IF(AND($Y$4=TRUE,$X$8=ListsFlags!$A$13),$Y$6+(s6rad*(COS(PI()*A55/180))),NA())","v":{"$error":"#N/A"}},null,null,{"$f":"IF(AND($AC$4=TRUE,$AB$8=ListsFlags!$A$13),$AC$5+(s7rad*(SIN(PI()*A55/180))),NA())","v":{"$error":"#N/A"}},{"$f":"IF(AND($AC$4=TRUE,$AB$8=ListsFlags!$A$13),$AC$6+(s7rad*(COS(PI()*A55/180))),NA())","v":{"$error":"#N/A"}},null,null,{"$f":"IF(AND($AG$4=TRUE,$AF$8=ListsFlags!$A$13),$AG$5+(s8rad*(SIN(PI()*A55/180))),NA())","v":{"$error":"#N/A"}},{"$f":"IF(AND($AG$4=TRUE,$AF$8=ListsFlags!$A$13),$AG$6+(s8rad*(COS(PI()*A55/180))),NA())","v":{"$error":"#N/A"}},null,null,{"$f":"IF(AND($AK$4=TRUE,$AJ$8=ListsFlags!$A$13),$AK$5+(s9rad*(SIN(PI()*A55/180))),NA())","v":{"$error":"#N/A"}},{"$f":"IF(AND($AK$4=TRUE,$AJ$8=ListsFlags!$A$13),$AK$6+(s9rad*(COS(PI()*A55/180))),NA())","v":{"$error":"#N/A"}},null,null,{"$f":"IF(AND($AO$4=TRUE,$AN$8=ListsFlags!$A$13),$AO$5+(s10rad*(SIN(PI()*A55/180))),NA())","v":{"$error":"#N/A"}},{"$f":"IF(AND($AO$4=TRUE,$AN$8=ListsFlags!$A$13),$AO$6+(s10rad*(COS(PI()*A55/180))),NA())","v":{"$error":"#N/A"}},null,null,{"$error":"#DIV/0!"},{"$error":"#DIV/0!"},null,null,null,{"$error":"#DIV/0!"},{"$error":"#DIV/0!"}]
[260,null,null,null,{"$f":"IF(AND($D$4=TRUE,$C$8=ListsFlags!$A$13),$D$5+(s1rad*(SIN(PI()*Circ!A56/180))),NA())","v":{"$error":"#N/A"}},{"$f":"IF(AND($D$4=TRUE,$C$8=ListsFlags!$A$13),$D$6+(s1rad*(COS(PI()*Circ!A56/180))),NA())","v":{"$error":"#N/A"}},null,null,null,{"$f":"IF(AND($I$4=TRUE,$H$8=ListsFlags!$A$13),$I$5+(s2rad*(SIN(PI()*A56/180))),NA())","v":{"$error":"#N/A"}},{"$f":"IF(AND($I$4=TRUE,$H$8=ListsFlags!$A$13),$I$6+(s2rad*(COS(PI()*A56/180))),NA())","v":{"$error":"#N/A"}},null,null,{"$f":"IF(AND($M$4=TRUE,$L$8=ListsFlags!$A$13),$M$5+(s3rad*(SIN(PI()*A56/180))),NA())","v":{"$error":"#N/A"}},{"$f":"IF(AND($M$4=TRUE,$L$8=ListsFlags!$A$13),$M$6+(s3rad*(COS(PI()*A56/180))),NA())","v":{"$error":"#N/A"}},null,null,{"$f":"IF(AND($Q$4=TRUE,$P$8=ListsFlags!$A$13),$Q$5+(s4rad*(SIN(PI()*A56/180))),NA())","v":{"$error":"#N/A"}},{"$f":"IF(AND($Q$4=TRUE,$P$8=ListsFlags!$A$13),$Q$6+(s4rad*(COS(PI()*A56/180))),NA())","v":{"$error":"#N/A"}},null,null,{"$f":"IF(AND($U$4=TRUE,$T$8=ListsFlags!$A$13),$U$5+(s5rad*(SIN(PI()*A56/180))),NA())","v":{"$error":"#N/A"}},{"$f":"IF(AND($U$4=TRUE,$T$8=ListsFlags!$A$13),$U$6+(s5rad*(COS(PI()*A56/180))),NA())","v":{"$error":"#N/A"}},null,null,{"$f":"IF(AND($Y$4=TRUE,$X$8=ListsFlags!$A$13),$Y$5+(s6rad*(SIN(PI()*A56/180))),NA())","v":{"$error":"#N/A"}},{"$f":"IF(AND($Y$4=TRUE,$X$8=ListsFlags!$A$13),$Y$6+(s6rad*(COS(PI()*A56/180))),NA())","v":{"$error":"#N/A"}},null,null,{"$f":"IF(AND($AC$4=TRUE,$AB$8=ListsFlags!$A$13),$AC$5+(s7rad*(SIN(PI()*A56/180))),NA())","v":{"$error":"#N/A"}},{"$f":"IF(AND($AC$4=TRUE,$AB$8=ListsFlags!$A$13),$AC$6+(s7rad*(COS(PI()*A56/180))),NA())","v":{"$error":"#N/A"}},null,null,{"$f":"IF(AND($AG$4=TRUE,$AF$8=ListsFlags!$A$13),$AG$5+(s8rad*(SIN(PI()*A56/180))),NA())","v":{"$error":"#N/A"}},{"$f":"IF(AND($AG$4=TRUE,$AF$8=ListsFlags!$A$13),$AG$6+(s8rad*(COS(PI()*A56/180))),NA())","v":{"$error":"#N/A"}},null,null,{"$f":"IF(AND($AK$4=TRUE,$AJ$8=ListsFlags!$A$13),$AK$5+(s9rad*(SIN(PI()*A56/180))),NA())","v":{"$error":"#N/A"}},{"$f":"IF(AND($AK$4=TRUE,$AJ$8=ListsFlags!$A$13),$AK$6+(s9rad*(COS(PI()*A56/180))),NA())","v":{"$error":"#N/A"}},null,null,{"$f":"IF(AND($AO$4=TRUE,$AN$8=ListsFlags!$A$13),$AO$5+(s10rad*(SIN(PI()*A56/180))),NA())","v":{"$error":"#N/A"}},{"$f":"IF(AND($AO$4=TRUE,$AN$8=ListsFlags!$A$13),$AO$6+(s10rad*(COS(PI()*A56/180))),NA())","v":{"$error":"#N/A"}},null,null,{"$error":"#DIV/0!"},{"$error":"#DIV/0!"},null,null,null,{"$error":"#DIV/0!"},{"$error":"#DIV/0!"}]
[265,null,null,null,{"$f":"IF(AND($D$4=TRUE,$C$8=ListsFlags!$A$13),$D$5+(s1rad*(SIN(PI()*Circ!A57/180))),NA())","v":{"$error":"#N/A"}},{"$f":"IF(AND($D$4=TRUE,$C$8=ListsFlags!$A$13),$D$6+(s1rad*(COS(PI()*Circ!A57/180))),NA())","v":{"$error":"#N/A"}},null,null,null,{"$f":"IF(AND($I$4=TRUE,$H$8=ListsFlags!$A$13),$I$5+(s2rad*(SIN(PI()*A57/180))),NA())","v":{"$error":"#N/A"}},{"$f":"IF(AND($I$4=TRUE,$H$8=ListsFlags!$A$13),$I$6+(s2rad*(COS(PI()*A57/180))),NA())","v":{"$error":"#N/A"}},null,null,{"$f":"IF(AND($M$4=TRUE,$L$8=ListsFlags!$A$13),$M$5+(s3rad*(SIN(PI()*A57/180))),NA())","v":{"$error":"#N/A"}},{"$f":"IF(AND($M$4=TRUE,$L$8=ListsFlags!$A$13),$M$6+(s3rad*(COS(PI()*A57/180))),NA())","v":{"$error":"#N/A"}},null,null,{"$f":"IF(AND($Q$4=TRUE,$P$8=ListsFlags!$A$13),$Q$5+(s4rad*(SIN(PI()*A57/180))),NA())","v":{"$error":"#N/A"}},{"$f":"IF(AND($Q$4=TRUE,$P$8=ListsFlags!$A$13),$Q$6+(s4rad*(COS(PI()*A57/180))),NA())","v":{"$error":"#N/A"}},null,null,{"$f":"IF(AND($U$4=TRUE,$T$8=ListsFlags!$A$13),$U$5+(s5rad*(SIN(PI()*A57/180))),NA())","v":{"$error":"#N/A"}},{"$f":"IF(AND($U$4=TRUE,$T$8=ListsFlags!$A$13),$U$6+(s5rad*(COS(PI()*A57/180))),NA())","v":{"$error":"#N/A"}},null,null,{"$f":"IF(AND($Y$4=TRUE,$X$8=ListsFlags!$A$13),$Y$5+(s6rad*(SIN(PI()*A57/180))),NA())","v":{"$error":"#N/A"}},{"$f":"IF(AND($Y$4=TRUE,$X$8=ListsFlags!$A$13),$Y$6+(s6rad*(COS(PI()*A57/180))),NA())","v":{"$error":"#N/A"}},null,null,{"$f":"IF(AND($AC$4=TRUE,$AB$8=ListsFlags!$A$13),$AC$5+(s7rad*(SIN(PI()*A57/180))),NA())","v":{"$error":"#N/A"}},{"$f":"IF(AND($AC$4=TRUE,$AB$8=ListsFlags!$A$13),$AC$6+(s7rad*(COS(PI()*A57/180))),NA())","v":{"$error":"#N/A"}},null,null,{"$f":"IF(AND($AG$4=TRUE,$AF$8=ListsFlags!$A$13),$AG$5+(s8rad*(SIN(PI()*A57/180))),NA())","v":{"$error":"#N/A"}},{"$f":"IF(AND($AG$4=TRUE,$AF$8=ListsFlags!$A$13),$AG$6+(s8rad*(COS(PI()*A57/180))),NA())","v":{"$error":"#N/A"}},null,null,{"$f":"IF(AND($AK$4=TRUE,$AJ$8=ListsFlags!$A$13),$AK$5+(s9rad*(SIN(PI()*A57/180))),NA())","v":{"$error":"#N/A"}},{"$f":"IF(AND($AK$4=TRUE,$AJ$8=ListsFlags!$A$13),$AK$6+(s9rad*(COS(PI()*A57/180))),NA())","v":{"$error":"#N/A"}},null,null,{"$f":"IF(AND($AO$4=TRUE,$AN$8=ListsFlags!$A$13),$AO$5+(s10rad*(SIN(PI()*A57/180))),NA())","v":{"$error":"#N/A"}},{"$f":"IF(AND($AO$4=TRUE,$AN$8=ListsFlags!$A$13),$AO$6+(s10rad*(COS(PI()*A57/180))),NA())","v":{"$error":"#N/A"}},null,null,{"$error":"#DIV/0!"},{"$error":"#DIV/0!"},null,null,null,{"$error":"#DIV/0!"},{"$error":"#DIV/0!"}]
[270,null,null,null,{"$f":"IF(AND($D$4=TRUE,$C$8=ListsFlags!$A$13),$D$5+(s1rad*(SIN(PI()*Circ!A58/180))),NA())","v":{"$error":"#N/A"}},{"$f":"IF(AND($D$4=TRUE,$C$8=ListsFlags!$A$13),$D$6+(s1rad*(COS(PI()*Circ!A58/180))),NA())","v":{"$error":"#N/A"}},"S",null,null,{"$f":"IF(AND($I$4=TRUE,$H$8=ListsFlags!$A$13),$I$5+(s2rad*(SIN(PI()*A58/180))),NA())","v":{"$error":"#N/A"}},{"$f":"IF(AND($I$4=TRUE,$H$8=ListsFlags!$A$13),$I$6+(s2rad*(COS(PI()*A58/180))),NA())","v":{"$error":"#N/A"}},null,null,{"$f":"IF(AND($M$4=TRUE,$L$8=ListsFlags!$A$13),$M$5+(s3rad*(SIN(PI()*A58/180))),NA())","v":{"$error":"#N/A"}},{"$f":"IF(AND($M$4=TRUE,$L$8=ListsFlags!$A$13),$M$6+(s3rad*(COS(PI()*A58/180))),NA())","v":{"$error":"#N/A"}},null,null,{"$f":"IF(AND($Q$4=TRUE,$P$8=ListsFlags!$A$13),$Q$5+(s4rad*(SIN(PI()*A58/180))),NA())","v":{"$error":"#N/A"}},{"$f":"IF(AND($Q$4=TRUE,$P$8=ListsFlags!$A$13),$Q$6+(s4rad*(COS(PI()*A58/180))),NA())","v":{"$error":"#N/A"}},null,null,{"$f":"IF(AND($U$4=TRUE,$T$8=ListsFlags!$A$13),$U$5+(s5rad*(SIN(PI()*A58/180))),NA())","v":{"$error":"#N/A"}},{"$f":"IF(AND($U$4=TRUE,$T$8=ListsFlags!$A$13),$U$6+(s5rad*(COS(PI()*A58/180))),NA())","v":{"$error":"#N/A"}},null,null,{"$f":"IF(AND($Y$4=TRUE,$X$8=ListsFlags!$A$13),$Y$5+(s6rad*(SIN(PI()*A58/180))),NA())","v":{"$error":"#N/A"}},{"$f":"IF(AND($Y$4=TRUE,$X$8=ListsFlags!$A$13),$Y$6+(s6rad*(COS(PI()*A58/180))),NA())","v":{"$error":"#N/A"}},null,null,{"$f":"IF(AND($AC$4=TRUE,$AB$8=ListsFlags!$A$13),$AC$5+(s7rad*(SIN(PI()*A58/180))),NA())","v":{"$error":"#N/A"}},{"$f":"IF(AND($AC$4=TRUE,$AB$8=ListsFlags!$A$13),$AC$6+(s7rad*(COS(PI()*A58/180))),NA())","v":{"$error":"#N/A"}},null,null,{"$f":"IF(AND($AG$4=TRUE,$AF$8=ListsFlags!$A$13),$AG$5+(s8rad*(SIN(PI()*A58/180))),NA())","v":{"$error":"#N/A"}},{"$f":"IF(AND($AG$4=TRUE,$AF$8=ListsFlags!$A$13),$AG$6+(s8rad*(COS(PI()*A58/180))),NA())","v":{"$error":"#N/A"}},null,null,{"$f":"IF(AND($AK$4=TRUE,$AJ$8=ListsFlags!$A$13),$AK$5+(s9rad*(SIN(PI()*A58/180))),NA())","v":{"$error":"#N/A"}},{"$f":"IF(AND($AK$4=TRUE,$AJ$8=ListsFlags!$A$13),$AK$6+(s9rad*(COS(PI()*A58/180))),NA())","v":{"$error":"#N/A"}},null,null,{"$f":"IF(AND($AO$4=TRUE,$AN$8=ListsFlags!$A$13),$AO$5+(s10rad*(SIN(PI()*A58/180))),NA())","v":{"$error":"#N/A"}},{"$f":"IF(AND($AO$4=TRUE,$AN$8=ListsFlags!$A$13),$AO$6+(s10rad*(COS(PI()*A58/180))),NA())","v":{"$error":"#N/A"}},null,null,{"$error":"#DIV/0!"},{"$error":"#DIV/0!"},null,null,null,{"$error":"#DIV/0!"},{"$error":"#DIV/0!"}]
[275,null,null,null,{"$f":"IF(AND($D$4=TRUE,$C$8=ListsFlags!$A$13),$D$5+(s1rad*(SIN(PI()*Circ!A59/180))),NA())","v":{"$error":"#N/A"}},{"$f":"IF(AND($D$4=TRUE,$C$8=ListsFlags!$A$13),$D$6+(s1rad*(COS(PI()*Circ!A59/180))),NA())","v":{"$error":"#N/A"}},null,null,null,{"$f":"IF(AND($I$4=TRUE,$H$8=ListsFlags!$A$13),$I$5+(s2rad*(SIN(PI()*A59/180))),NA())","v":{"$error":"#N/A"}},{"$f":"IF(AND($I$4=TRUE,$H$8=ListsFlags!$A$13),$I$6+(s2rad*(COS(PI()*A59/180))),NA())","v":{"$error":"#N/A"}},null,null,{"$f":"IF(AND($M$4=TRUE,$L$8=ListsFlags!$A$13),$M$5+(s3rad*(SIN(PI()*A59/180))),NA())","v":{"$error":"#N/A"}},{"$f":"IF(AND($M$4=TRUE,$L$8=ListsFlags!$A$13),$M$6+(s3rad*(COS(PI()*A59/180))),NA())","v":{"$error":"#N/A"}},null,null,{"$f":"IF(AND($Q$4=TRUE,$P$8=ListsFlags!$A$13),$Q$5+(s4rad*(SIN(PI()*A59/180))),NA())","v":{"$error":"#N/A"}},{"$f":"IF(AND($Q$4=TRUE,$P$8=ListsFlags!$A$13),$Q$6+(s4rad*(COS(PI()*A59/180))),NA())","v":{"$error":"#N/A"}},null,null,{"$f":"IF(AND($U$4=TRUE,$T$8=ListsFlags!$A$13),$U$5+(s5rad*(SIN(PI()*A59/180))),NA())","v":{"$error":"#N/A"}},{"$f":"IF(AND($U$4=TRUE,$T$8=ListsFlags!$A$13),$U$6+(s5rad*(COS(PI()*A59/180))),NA())","v":{"$error":"#N/A"}},null,null,{"$f":"IF(AND($Y$4=TRUE,$X$8=ListsFlags!$A$13),$Y$5+(s6rad*(SIN(PI()*A59/180))),NA())","v":{"$error":"#N/A"}},{"$f":"IF(AND($Y$4=TRUE,$X$8=ListsFlags!$A$13),$Y$6+(s6rad*(COS(PI()*A59/180))),NA())","v":{"$error":"#N/A"}},null,null,{"$f":"IF(AND($AC$4=TRUE,$AB$8=ListsFlags!$A$13),$AC$5+(s7rad*(SIN(PI()*A59/180))),NA())","v":{"$error":"#N/A"}},{"$f":"IF(AND($AC$4=TRUE,$AB$8=ListsFlags!$A$13),$AC$6+(s7rad*(COS(PI()*A59/180))),NA())","v":{"$error":"#N/A"}},null,null,{"$f":"IF(AND($AG$4=TRUE,$AF$8=ListsFlags!$A$13),$AG$5+(s8rad*(SIN(PI()*A59/180))),NA())","v":{"$error":"#N/A"}},{"$f":"IF(AND($AG$4=TRUE,$AF$8=ListsFlags!$A$13),$AG$6+(s8rad*(COS(PI()*A59/180))),NA())","v":{"$error":"#N/A"}},null,null,{"$f":"IF(AND($AK$4=TRUE,$AJ$8=ListsFlags!$A$13),$AK$5+(s9rad*(SIN(PI()*A59/180))),NA())","v":{"$error":"#N/A"}},{"$f":"IF(AND($AK$4=TRUE,$AJ$8=ListsFlags!$A$13),$AK$6+(s9rad*(COS(PI()*A59/180))),NA())","v":{"$error":"#N/A"}},null,null,{"$f":"IF(AND($AO$4=TRUE,$AN$8=ListsFlags!$A$13),$AO$5+(s10rad*(SIN(PI()*A59/180))),NA())","v":{"$error":"#N/A"}},{"$f":"IF(AND($AO$4=TRUE,$AN$8=ListsFlags!$A$13),$AO$6+(s10rad*(COS(PI()*A59/180))),NA())","v":{"$error":"#N/A"}},null,null,{"$error":"#DIV/0!"},{"$error":"#DIV/0!"},null,null,null,{"$error":"#DIV/0!"},{"$error":"#DIV/0!"}]
[280,null,null,null,{"$f":"IF(AND($D$4=TRUE,$C$8=ListsFlags!$A$13),$D$5+(s1rad*(SIN(PI()*Circ!A60/180))),NA())","v":{"$error":"#N/A"}},{"$f":"IF(AND($D$4=TRUE,$C$8=ListsFlags!$A$13),$D$6+(s1rad*(COS(PI()*Circ!A60/180))),NA())","v":{"$error":"#N/A"}},null,null,null,{"$f":"IF(AND($I$4=TRUE,$H$8=ListsFlags!$A$13),$I$5+(s2rad*(SIN(PI()*A60/180))),NA())","v":{"$error":"#N/A"}},{"$f":"IF(AND($I$4=TRUE,$H$8=ListsFlags!$A$13),$I$6+(s2rad*(COS(PI()*A60/180))),NA())","v":{"$error":"#N/A"}},null,null,{"$f":"IF(AND($M$4=TRUE,$L$8=ListsFlags!$A$13),$M$5+(s3rad*(SIN(PI()*A60/180))),NA())","v":{"$error":"#N/A"}},{"$f":"IF(AND($M$4=TRUE,$L$8=ListsFlags!$A$13),$M$6+(s3rad*(COS(PI()*A60/180))),NA())","v":{"$error":"#N/A"}},null,null,{"$f":"IF(AND($Q$4=TRUE,$P$8=ListsFlags!$A$13),$Q$5+(s4rad*(SIN(PI()*A60/180))),NA())","v":{"$error":"#N/A"}},{"$f":"IF(AND($Q$4=TRUE,$P$8=ListsFlags!$A$13),$Q$6+(s4rad*(COS(PI()*A60/180))),NA())","v":{"$error":"#N/A"}},null,null,{"$f":"IF(AND($U$4=TRUE,$T$8=ListsFlags!$A$13),$U$5+(s5rad*(SIN(PI()*A60/180))),NA())","v":{"$error":"#N/A"}},{"$f":"IF(AND($U$4=TRUE,$T$8=ListsFlags!$A$13),$U$6+(s5rad*(COS(PI()*A60/180))),NA())","v":{"$error":"#N/A"}},null,null,{"$f":"IF(AND($Y$4=TRUE,$X$8=ListsFlags!$A$13),$Y$5+(s6rad*(SIN(PI()*A60/180))),NA())","v":{"$error":"#N/A"}},{"$f":"IF(AND($Y$4=TRUE,$X$8=ListsFlags!$A$13),$Y$6+(s6rad*(COS(PI()*A60/180))),NA())","v":{"$error":"#N/A"}},null,null,{"$f":"IF(AND($AC$4=TRUE,$AB$8=ListsFlags!$A$13),$AC$5+(s7rad*(SIN(PI()*A60/180))),NA())","v":{"$error":"#N/A"}},{"$f":"IF(AND($AC$4=TRUE,$AB$8=ListsFlags!$A$13),$AC$6+(s7rad*(COS(PI()*A60/180))),NA())","v":{"$error":"#N/A"}},null,null,{"$f":"IF(AND($AG$4=TRUE,$AF$8=ListsFlags!$A$13),$AG$5+(s8rad*(SIN(PI()*A60/180))),NA())","v":{"$error":"#N/A"}},{"$f":"IF(AND($AG$4=TRUE,$AF$8=ListsFlags!$A$13),$AG$6+(s8rad*(COS(PI()*A60/180))),NA())","v":{"$error":"#N/A"}},null,null,{"$f":"IF(AND($AK$4=TRUE,$AJ$8=ListsFlags!$A$13),$AK$5+(s9rad*(SIN(PI()*A60/180))),NA())","v":{"$error":"#N/A"}},{"$f":"IF(AND($AK$4=TRUE,$AJ$8=ListsFlags!$A$13),$AK$6+(s9rad*(COS(PI()*A60/180))),NA())","v":{"$error":"#N/A"}},null,null,{"$f":"IF(AND($AO$4=TRUE,$AN$8=ListsFlags!$A$13),$AO$5+(s10rad*(SIN(PI()*A60/180))),NA())","v":{"$error":"#N/A"}},{"$f":"IF(AND($AO$4=TRUE,$AN$8=ListsFlags!$A$13),$AO$6+(s10rad*(COS(PI()*A60/180))),NA())","v":{"$error":"#N/A"}},null,null,{"$error":"#DIV/0!"},{"$error":"#DIV/0!"},null,null,null,{"$error":"#DIV/0!"},{"$error":"#DIV/0!"}]
[285,null,null,null,{"$f":"IF(AND($D$4=TRUE,$C$8=ListsFlags!$A$13),$D$5+(s1rad*(SIN(PI()*Circ!A61/180))),NA())","v":{"$error":"#N/A"}},{"$f":"IF(AND($D$4=TRUE,$C$8=ListsFlags!$A$13),$D$6+(s1rad*(COS(PI()*Circ!A61/180))),NA())","v":{"$error":"#N/A"}},null,null,null,{"$f":"IF(AND($I$4=TRUE,$H$8=ListsFlags!$A$13),$I$5+(s2rad*(SIN(PI()*A61/180))),NA())","v":{"$error":"#N/A"}},{"$f":"IF(AND($I$4=TRUE,$H$8=ListsFlags!$A$13),$I$6+(s2rad*(COS(PI()*A61/180))),NA())","v":{"$error":"#N/A"}},null,null,{"$f":"IF(AND($M$4=TRUE,$L$8=ListsFlags!$A$13),$M$5+(s3rad*(SIN(PI()*A61/180))),NA())","v":{"$error":"#N/A"}},{"$f":"IF(AND($M$4=TRUE,$L$8=ListsFlags!$A$13),$M$6+(s3rad*(COS(PI()*A61/180))),NA())","v":{"$error":"#N/A"}},null,null,{"$f":"IF(AND($Q$4=TRUE,$P$8=ListsFlags!$A$13),$Q$5+(s4rad*(SIN(PI()*A61/180))),NA())","v":{"$error":"#N/A"}},{"$f":"IF(AND($Q$4=TRUE,$P$8=ListsFlags!$A$13),$Q$6+(s4rad*(COS(PI()*A61/180))),NA())","v":{"$error":"#N/A"}},null,null,{"$f":"IF(AND($U$4=TRUE,$T$8=ListsFlags!$A$13),$U$5+(s5rad*(SIN(PI()*A61/180))),NA())","v":{"$error":"#N/A"}},{"$f":"IF(AND($U$4=TRUE,$T$8=ListsFlags!$A$13),$U$6+(s5rad*(COS(PI()*A61/180))),NA())","v":{"$error":"#N/A"}},null,null,{"$f":"IF(AND($Y$4=TRUE,$X$8=ListsFlags!$A$13),$Y$5+(s6rad*(SIN(PI()*A61/180))),NA())","v":{"$error":"#N/A"}},{"$f":"IF(AND($Y$4=TRUE,$X$8=ListsFlags!$A$13),$Y$6+(s6rad*(COS(PI()*A61/180))),NA())","v":{"$error":"#N/A"}},null,null,{"$f":"IF(AND($AC$4=TRUE,$AB$8=ListsFlags!$A$13),$AC$5+(s7rad*(SIN(PI()*A61/180))),NA())","v":{"$error":"#N/A"}},{"$f":"IF(AND($AC$4=TRUE,$AB$8=ListsFlags!$A$13),$AC$6+(s7rad*(COS(PI()*A61/180))),NA())","v":{"$error":"#N/A"}},null,null,{"$f":"IF(AND($AG$4=TRUE,$AF$8=ListsFlags!$A$13),$AG$5+(s8rad*(SIN(PI()*A61/180))),NA())","v":{"$error":"#N/A"}},{"$f":"IF(AND($AG$4=TRUE,$AF$8=ListsFlags!$A$13),$AG$6+(s8rad*(COS(PI()*A61/180))),NA())","v":{"$error":"#N/A"}},null,null,{"$f":"IF(AND($AK$4=TRUE,$AJ$8=ListsFlags!$A$13),$AK$5+(s9rad*(SIN(PI()*A61/180))),NA())","v":{"$error":"#N/A"}},{"$f":"IF(AND($AK$4=TRUE,$AJ$8=ListsFlags!$A$13),$AK$6+(s9rad*(COS(PI()*A61/180))),NA())","v":{"$error":"#N/A"}},null,null,{"$f":"IF(AND($AO$4=TRUE,$AN$8=ListsFlags!$A$13),$AO$5+(s10rad*(SIN(PI()*A61/180))),NA())","v":{"$error":"#N/A"}},{"$f":"IF(AND($AO$4=TRUE,$AN$8=ListsFlags!$A$13),$AO$6+(s10rad*(COS(PI()*A61/180))),NA())","v":{"$error":"#N/A"}},null,null,{"$error":"#DIV/0!"},{"$error":"#DIV/0!"},null,null,null,{"$error":"#DIV/0!"},{"$error":"#DIV/0!"}]
[290,null,null,null,{"$f":"IF(AND($D$4=TRUE,$C$8=ListsFlags!$A$13),$D$5+(s1rad*(SIN(PI()*Circ!A62/180))),NA())","v":{"$error":"#N/A"}},{"$f":"IF(AND($D$4=TRUE,$C$8=ListsFlags!$A$13),$D$6+(s1rad*(COS(PI()*Circ!A62/180))),NA())","v":{"$error":"#N/A"}},null,null,null,{"$f":"IF(AND($I$4=TRUE,$H$8=ListsFlags!$A$13),$I$5+(s2rad*(SIN(PI()*A62/180))),NA())","v":{"$error":"#N/A"}},{"$f":"IF(AND($I$4=TRUE,$H$8=ListsFlags!$A$13),$I$6+(s2rad*(COS(PI()*A62/180))),NA())","v":{"$error":"#N/A"}},null,null,{"$f":"IF(AND($M$4=TRUE,$L$8=ListsFlags!$A$13),$M$5+(s3rad*(SIN(PI()*A62/180))),NA())","v":{"$error":"#N/A"}},{"$f":"IF(AND($M$4=TRUE,$L$8=ListsFlags!$A$13),$M$6+(s3rad*(COS(PI()*A62/180))),NA())","v":{"$error":"#N/A"}},null,null,{"$f":"IF(AND($Q$4=TRUE,$P$8=ListsFlags!$A$13),$Q$5+(s4rad*(SIN(PI()*A62/180))),NA())","v":{"$error":"#N/A"}},{"$f":"IF(AND($Q$4=TRUE,$P$8=ListsFlags!$A$13),$Q$6+(s4rad*(COS(PI()*A62/180))),NA())","v":{"$error":"#N/A"}},null,null,{"$f":"IF(AND($U$4=TRUE,$T$8=ListsFlags!$A$13),$U$5+(s5rad*(SIN(PI()*A62/180))),NA())","v":{"$error":"#N/A"}},{"$f":"IF(AND($U$4=TRUE,$T$8=ListsFlags!$A$13),$U$6+(s5rad*(COS(PI()*A62/180))),NA())","v":{"$error":"#N/A"}},null,null,{"$f":"IF(AND($Y$4=TRUE,$X$8=ListsFlags!$A$13),$Y$5+(s6rad*(SIN(PI()*A62/180))),NA())","v":{"$error":"#N/A"}},{"$f":"IF(AND($Y$4=TRUE,$X$8=ListsFlags!$A$13),$Y$6+(s6rad*(COS(PI()*A62/180))),NA())","v":{"$error":"#N/A"}},null,null,{"$f":"IF(AND($AC$4=TRUE,$AB$8=ListsFlags!$A$13),$AC$5+(s7rad*(SIN(PI()*A62/180))),NA())","v":{"$error":"#N/A"}},{"$f":"IF(AND($AC$4=TRUE,$AB$8=ListsFlags!$A$13),$AC$6+(s7rad*(COS(PI()*A62/180))),NA())","v":{"$error":"#N/A"}},null,null,{"$f":"IF(AND($AG$4=TRUE,$AF$8=ListsFlags!$A$13),$AG$5+(s8rad*(SIN(PI()*A62/180))),NA())","v":{"$error":"#N/A"}},{"$f":"IF(AND($AG$4=TRUE,$AF$8=ListsFlags!$A$13),$AG$6+(s8rad*(COS(PI()*A62/180))),NA())","v":{"$error":"#N/A"}},null,null,{"$f":"IF(AND($AK$4=TRUE,$AJ$8=ListsFlags!$A$13),$AK$5+(s9rad*(SIN(PI()*A62/180))),NA())","v":{"$error":"#N/A"}},{"$f":"IF(AND($AK$4=TRUE,$AJ$8=ListsFlags!$A$13),$AK$6+(s9rad*(COS(PI()*A62/180))),NA())","v":{"$error":"#N/A"}},null,null,{"$f":"IF(AND($AO$4=TRUE,$AN$8=ListsFlags!$A$13),$AO$5+(s10rad*(SIN(PI()*A62/180))),NA())","v":{"$error":"#N/A"}},{"$f":"IF(AND($AO$4=TRUE,$AN$8=ListsFlags!$A$13),$AO$6+(s10rad*(COS(PI()*A62/180))),NA())","v":{"$error":"#N/A"}},null,null,{"$error":"#DIV/0!"},{"$error":"#DIV/0!"},null,null,null,{"$error":"#DIV/0!"},{"$error":"#DIV/0!"}]
[295,null,null,null,{"$f":"IF(AND($D$4=TRUE,$C$8=ListsFlags!$A$13),$D$5+(s1rad*(SIN(PI()*Circ!A63/180))),NA())","v":{"$error":"#N/A"}},{"$f":"IF(AND($D$4=TRUE,$C$8=ListsFlags!$A$13),$D$6+(s1rad*(COS(PI()*Circ!A63/180))),NA())","v":{"$error":"#N/A"}},null,null,null,{"$f":"IF(AND($I$4=TRUE,$H$8=ListsFlags!$A$13),$I$5+(s2rad*(SIN(PI()*A63/180))),NA())","v":{"$error":"#N/A"}},{"$f":"IF(AND($I$4=TRUE,$H$8=ListsFlags!$A$13),$I$6+(s2rad*(COS(PI()*A63/180))),NA())","v":{"$error":"#N/A"}},null,null,{"$f":"IF(AND($M$4=TRUE,$L$8=ListsFlags!$A$13),$M$5+(s3rad*(SIN(PI()*A63/180))),NA())","v":{"$error":"#N/A"}},{"$f":"IF(AND($M$4=TRUE,$L$8=ListsFlags!$A$13),$M$6+(s3rad*(COS(PI()*A63/180))),NA())","v":{"$error":"#N/A"}},null,null,{"$f":"IF(AND($Q$4=TRUE,$P$8=ListsFlags!$A$13),$Q$5+(s4rad*(SIN(PI()*A63/180))),NA())","v":{"$error":"#N/A"}},{"$f":"IF(AND($Q$4=TRUE,$P$8=ListsFlags!$A$13),$Q$6+(s4rad*(COS(PI()*A63/180))),NA())","v":{"$error":"#N/A"}},null,null,{"$f":"IF(AND($U$4=TRUE,$T$8=ListsFlags!$A$13),$U$5+(s5rad*(SIN(PI()*A63/180))),NA())","v":{"$error":"#N/A"}},{"$f":"IF(AND($U$4=TRUE,$T$8=ListsFlags!$A$13),$U$6+(s5rad*(COS(PI()*A63/180))),NA())","v":{"$error":"#N/A"}},null,null,{"$f":"IF(AND($Y$4=TRUE,$X$8=ListsFlags!$A$13),$Y$5+(s6rad*(SIN(PI()*A63/180))),NA())","v":{"$error":"#N/A"}},{"$f":"IF(AND($Y$4=TRUE,$X$8=ListsFlags!$A$13),$Y$6+(s6rad*(COS(PI()*A63/180))),NA())","v":{"$error":"#N/A"}},null,null,{"$f":"IF(AND($AC$4=TRUE,$AB$8=ListsFlags!$A$13),$AC$5+(s7rad*(SIN(PI()*A63/180))),NA())","v":{"$error":"#N/A"}},{"$f":"IF(AND($AC$4=TRUE,$AB$8=ListsFlags!$A$13),$AC$6+(s7rad*(COS(PI()*A63/180))),NA())","v":{"$error":"#N/A"}},null,null,{"$f":"IF(AND($AG$4=TRUE,$AF$8=ListsFlags!$A$13),$AG$5+(s8rad*(SIN(PI()*A63/180))),NA())","v":{"$error":"#N/A"}},{"$f":"IF(AND($AG$4=TRUE,$AF$8=ListsFlags!$A$13),$AG$6+(s8rad*(COS(PI()*A63/180))),NA())","v":{"$error":"#N/A"}},null,null,{"$f":"IF(AND($AK$4=TRUE,$AJ$8=ListsFlags!$A$13),$AK$5+(s9rad*(SIN(PI()*A63/180))),NA())","v":{"$error":"#N/A"}},{"$f":"IF(AND($AK$4=TRUE,$AJ$8=ListsFlags!$A$13),$AK$6+(s9rad*(COS(PI()*A63/180))),NA())","v":{"$error":"#N/A"}},null,null,{"$f":"IF(AND($AO$4=TRUE,$AN$8=ListsFlags!$A$13),$AO$5+(s10rad*(SIN(PI()*A63/180))),NA())","v":{"$error":"#N/A"}},{"$f":"IF(AND($AO$4=TRUE,$AN$8=ListsFlags!$A$13),$AO$6+(s10rad*(COS(PI()*A63/180))),NA())","v":{"$error":"#N/A"}},null,null,{"$error":"#DIV/0!"},{"$error":"#DIV/0!"},null,null,null,{"$error":"#DIV/0!"},{"$error":"#DIV/0!"}]
[300,null,null,null,{"$f":"IF(AND($D$4=TRUE,$C$8=ListsFlags!$A$13),$D$5+(s1rad*(SIN(PI()*Circ!A64/180))),NA())","v":{"$error":"#N/A"}},{"$f":"IF(AND($D$4=TRUE,$C$8=ListsFlags!$A$13),$D$6+(s1rad*(COS(PI()*Circ!A64/180))),NA())","v":{"$error":"#N/A"}},null,null,null,{"$f":"IF(AND($I$4=TRUE,$H$8=ListsFlags!$A$13),$I$5+(s2rad*(SIN(PI()*A64/180))),NA())","v":{"$error":"#N/A"}},{"$f":"IF(AND($I$4=TRUE,$H$8=ListsFlags!$A$13),$I$6+(s2rad*(COS(PI()*A64/180))),NA())","v":{"$error":"#N/A"}},null,null,{"$f":"IF(AND($M$4=TRUE,$L$8=ListsFlags!$A$13),$M$5+(s3rad*(SIN(PI()*A64/180))),NA())","v":{"$error":"#N/A"}},{"$f":"IF(AND($M$4=TRUE,$L$8=ListsFlags!$A$13),$M$6+(s3rad*(COS(PI()*A64/180))),NA())","v":{"$error":"#N/A"}},null,null,{"$f":"IF(AND($Q$4=TRUE,$P$8=ListsFlags!$A$13),$Q$5+(s4rad*(SIN(PI()*A64/180))),NA())","v":{"$error":"#N/A"}},{"$f":"IF(AND($Q$4=TRUE,$P$8=ListsFlags!$A$13),$Q$6+(s4rad*(COS(PI()*A64/180))),NA())","v":{"$error":"#N/A"}},null,null,{"$f":"IF(AND($U$4=TRUE,$T$8=ListsFlags!$A$13),$U$5+(s5rad*(SIN(PI()*A64/180))),NA())","v":{"$error":"#N/A"}},{"$f":"IF(AND($U$4=TRUE,$T$8=ListsFlags!$A$13),$U$6+(s5rad*(COS(PI()*A64/180))),NA())","v":{"$error":"#N/A"}},null,null,{"$f":"IF(AND($Y$4=TRUE,$X$8=ListsFlags!$A$13),$Y$5+(s6rad*(SIN(PI()*A64/180))),NA())","v":{"$error":"#N/A"}},{"$f":"IF(AND($Y$4=TRUE,$X$8=ListsFlags!$A$13),$Y$6+(s6rad*(COS(PI()*A64/180))),NA())","v":{"$error":"#N/A"}},null,null,{"$f":"IF(AND($AC$4=TRUE,$AB$8=ListsFlags!$A$13),$AC$5+(s7rad*(SIN(PI()*A64/180))),NA())","v":{"$error":"#N/A"}},{"$f":"IF(AND($AC$4=TRUE,$AB$8=ListsFlags!$A$13),$AC$6+(s7rad*(COS(PI()*A64/180))),NA())","v":{"$error":"#N/A"}},null,null,{"$f":"IF(AND($AG$4=TRUE,$AF$8=ListsFlags!$A$13),$AG$5+(s8rad*(SIN(PI()*A64/180))),NA())","v":{"$error":"#N/A"}},{"$f":"IF(AND($AG$4=TRUE,$AF$8=ListsFlags!$A$13),$AG$6+(s8rad*(COS(PI()*A64/180))),NA())","v":{"$error":"#N/A"}},null,null,{"$f":"IF(AND($AK$4=TRUE,$AJ$8=ListsFlags!$A$13),$AK$5+(s9rad*(SIN(PI()*A64/180))),NA())","v":{"$error":"#N/A"}},{"$f":"IF(AND($AK$4=TRUE,$AJ$8=ListsFlags!$A$13),$AK$6+(s9rad*(COS(PI()*A64/180))),NA())","v":{"$error":"#N/A"}},null,null,{"$f":"IF(AND($AO$4=TRUE,$AN$8=ListsFlags!$A$13),$AO$5+(s10rad*(SIN(PI()*A64/180))),NA())","v":{"$error":"#N/A"}},{"$f":"IF(AND($AO$4=TRUE,$AN$8=ListsFlags!$A$13),$AO$6+(s10rad*(COS(PI()*A64/180))),NA())","v":{"$error":"#N/A"}},null,null,{"$error":"#DIV/0!"},{"$error":"#DIV/0!"},null,null,null,{"$error":"#DIV/0!"},{"$error":"#DIV/0!"}]
[305,null,null,null,{"$f":"IF(AND($D$4=TRUE,$C$8=ListsFlags!$A$13),$D$5+(s1rad*(SIN(PI()*Circ!A65/180))),NA())","v":{"$error":"#N/A"}},{"$f":"IF(AND($D$4=TRUE,$C$8=ListsFlags!$A$13),$D$6+(s1rad*(COS(PI()*Circ!A65/180))),NA())","v":{"$error":"#N/A"}},null,null,null,{"$f":"IF(AND($I$4=TRUE,$H$8=ListsFlags!$A$13),$I$5+(s2rad*(SIN(PI()*A65/180))),NA())","v":{"$error":"#N/A"}},{"$f":"IF(AND($I$4=TRUE,$H$8=ListsFlags!$A$13),$I$6+(s2rad*(COS(PI()*A65/180))),NA())","v":{"$error":"#N/A"}},null,null,{"$f":"IF(AND($M$4=TRUE,$L$8=ListsFlags!$A$13),$M$5+(s3rad*(SIN(PI()*A65/180))),NA())","v":{"$error":"#N/A"}},{"$f":"IF(AND($M$4=TRUE,$L$8=ListsFlags!$A$13),$M$6+(s3rad*(COS(PI()*A65/180))),NA())","v":{"$error":"#N/A"}},null,null,{"$f":"IF(AND($Q$4=TRUE,$P$8=ListsFlags!$A$13),$Q$5+(s4rad*(SIN(PI()*A65/180))),NA())","v":{"$error":"#N/A"}},{"$f":"IF(AND($Q$4=TRUE,$P$8=ListsFlags!$A$13),$Q$6+(s4rad*(COS(PI()*A65/180))),NA())","v":{"$error":"#N/A"}},null,null,{"$f":"IF(AND($U$4=TRUE,$T$8=ListsFlags!$A$13),$U$5+(s5rad*(SIN(PI()*A65/180))),NA())","v":{"$error":"#N/A"}},{"$f":"IF(AND($U$4=TRUE,$T$8=ListsFlags!$A$13),$U$6+(s5rad*(COS(PI()*A65/180))),NA())","v":{"$error":"#N/A"}},null,null,{"$f":"IF(AND($Y$4=TRUE,$X$8=ListsFlags!$A$13),$Y$5+(s6rad*(SIN(PI()*A65/180))),NA())","v":{"$error":"#N/A"}},{"$f":"IF(AND($Y$4=TRUE,$X$8=ListsFlags!$A$13),$Y$6+(s6rad*(COS(PI()*A65/180))),NA())","v":{"$error":"#N/A"}},null,null,{"$f":"IF(AND($AC$4=TRUE,$AB$8=ListsFlags!$A$13),$AC$5+(s7rad*(SIN(PI()*A65/180))),NA())","v":{"$error":"#N/A"}},{"$f":"IF(AND($AC$4=TRUE,$AB$8=ListsFlags!$A$13),$AC$6+(s7rad*(COS(PI()*A65/180))),NA())","v":{"$error":"#N/A"}},null,null,{"$f":"IF(AND($AG$4=TRUE,$AF$8=ListsFlags!$A$13),$AG$5+(s8rad*(SIN(PI()*A65/180))),NA())","v":{"$error":"#N/A"}},{"$f":"IF(AND($AG$4=TRUE,$AF$8=ListsFlags!$A$13),$AG$6+(s8rad*(COS(PI()*A65/180))),NA())","v":{"$error":"#N/A"}},null,null,{"$f":"IF(AND($AK$4=TRUE,$AJ$8=ListsFlags!$A$13),$AK$5+(s9rad*(SIN(PI()*A65/180))),NA())","v":{"$error":"#N/A"}},{"$f":"IF(AND($AK$4=TRUE,$AJ$8=ListsFlags!$A$13),$AK$6+(s9rad*(COS(PI()*A65/180))),NA())","v":{"$error":"#N/A"}},null,null,{"$f":"IF(AND($AO$4=TRUE,$AN$8=ListsFlags!$A$13),$AO$5+(s10rad*(SIN(PI()*A65/180))),NA())","v":{"$error":"#N/A"}},{"$f":"IF(AND($AO$4=TRUE,$AN$8=ListsFlags!$A$13),$AO$6+(s10rad*(COS(PI()*A65/180))),NA())","v":{"$error":"#N/A"}},null,null,{"$error":"#DIV/0!"},{"$error":"#DIV/0!"},null,null,null,{"$error":"#DIV/0!"},{"$error":"#DIV/0!"}]
[310,null,null,null,{"$f":"IF(AND($D$4=TRUE,$C$8=ListsFlags!$A$13),$D$5+(s1rad*(SIN(PI()*Circ!A66/180))),NA())","v":{"$error":"#N/A"}},{"$f":"IF(AND($D$4=TRUE,$C$8=ListsFlags!$A$13),$D$6+(s1rad*(COS(PI()*Circ!A66/180))),NA())","v":{"$error":"#N/A"}},null,null,null,{"$f":"IF(AND($I$4=TRUE,$H$8=ListsFlags!$A$13),$I$5+(s2rad*(SIN(PI()*A66/180))),NA())","v":{"$error":"#N/A"}},{"$f":"IF(AND($I$4=TRUE,$H$8=ListsFlags!$A$13),$I$6+(s2rad*(COS(PI()*A66/180))),NA())","v":{"$error":"#N/A"}},null,null,{"$f":"IF(AND($M$4=TRUE,$L$8=ListsFlags!$A$13),$M$5+(s3rad*(SIN(PI()*A66/180))),NA())","v":{"$error":"#N/A"}},{"$f":"IF(AND($M$4=TRUE,$L$8=ListsFlags!$A$13),$M$6+(s3rad*(COS(PI()*A66/180))),NA())","v":{"$error":"#N/A"}},null,null,{"$f":"IF(AND($Q$4=TRUE,$P$8=ListsFlags!$A$13),$Q$5+(s4rad*(SIN(PI()*A66/180))),NA())","v":{"$error":"#N/A"}},{"$f":"IF(AND($Q$4=TRUE,$P$8=ListsFlags!$A$13),$Q$6+(s4rad*(COS(PI()*A66/180))),NA())","v":{"$error":"#N/A"}},null,null,{"$f":"IF(AND($U$4=TRUE,$T$8=ListsFlags!$A$13),$U$5+(s5rad*(SIN(PI()*A66/180))),NA())","v":{"$error":"#N/A"}},{"$f":"IF(AND($U$4=TRUE,$T$8=ListsFlags!$A$13),$U$6+(s5rad*(COS(PI()*A66/180))),NA())","v":{"$error":"#N/A"}},null,null,{"$f":"IF(AND($Y$4=TRUE,$X$8=ListsFlags!$A$13),$Y$5+(s6rad*(SIN(PI()*A66/180))),NA())","v":{"$error":"#N/A"}},{"$f":"IF(AND($Y$4=TRUE,$X$8=ListsFlags!$A$13),$Y$6+(s6rad*(COS(PI()*A66/180))),NA())","v":{"$error":"#N/A"}},null,null,{"$f":"IF(AND($AC$4=TRUE,$AB$8=ListsFlags!$A$13),$AC$5+(s7rad*(SIN(PI()*A66/180))),NA())","v":{"$error":"#N/A"}},{"$f":"IF(AND($AC$4=TRUE,$AB$8=ListsFlags!$A$13),$AC$6+(s7rad*(COS(PI()*A66/180))),NA())","v":{"$error":"#N/A"}},null,null,{"$f":"IF(AND($AG$4=TRUE,$AF$8=ListsFlags!$A$13),$AG$5+(s8rad*(SIN(PI()*A66/180))),NA())","v":{"$error":"#N/A"}},{"$f":"IF(AND($AG$4=TRUE,$AF$8=ListsFlags!$A$13),$AG$6+(s8rad*(COS(PI()*A66/180))),NA())","v":{"$error":"#N/A"}},null,null,{"$f":"IF(AND($AK$4=TRUE,$AJ$8=ListsFlags!$A$13),$AK$5+(s9rad*(SIN(PI()*A66/180))),NA())","v":{"$error":"#N/A"}},{"$f":"IF(AND($AK$4=TRUE,$AJ$8=ListsFlags!$A$13),$AK$6+(s9rad*(COS(PI()*A66/180))),NA())","v":{"$error":"#N/A"}},null,null,{"$f":"IF(AND($AO$4=TRUE,$AN$8=ListsFlags!$A$13),$AO$5+(s10rad*(SIN(PI()*A66/180))),NA())","v":{"$error":"#N/A"}},{"$f":"IF(AND($AO$4=TRUE,$AN$8=ListsFlags!$A$13),$AO$6+(s10rad*(COS(PI()*A66/180))),NA())","v":{"$error":"#N/A"}},null,null,{"$error":"#DIV/0!"},{"$error":"#DIV/0!"},null,null,null,{"$error":"#DIV/0!"},{"$error":"#DIV/0!"}]
[315,null,null,null,{"$f":"IF(AND($D$4=TRUE,$C$8=ListsFlags!$A$13),$D$5+(s1rad*(SIN(PI()*Circ!A67/180))),NA())","v":{"$error":"#N/A"}},{"$f":"IF(AND($D$4=TRUE,$C$8=ListsFlags!$A$13),$D$6+(s1rad*(COS(PI()*Circ!A67/180))),NA())","v":{"$error":"#N/A"}},"SE",null,null,{"$f":"IF(AND($I$4=TRUE,$H$8=ListsFlags!$A$13),$I$5+(s2rad*(SIN(PI()*A67/180))),NA())","v":{"$error":"#N/A"}},{"$f":"IF(AND($I$4=TRUE,$H$8=ListsFlags!$A$13),$I$6+(s2rad*(COS(PI()*A67/180))),NA())","v":{"$error":"#N/A"}},null,null,{"$f":"IF(AND($M$4=TRUE,$L$8=ListsFlags!$A$13),$M$5+(s3rad*(SIN(PI()*A67/180))),NA())","v":{"$error":"#N/A"}},{"$f":"IF(AND($M$4=TRUE,$L$8=ListsFlags!$A$13),$M$6+(s3rad*(COS(PI()*A67/180))),NA())","v":{"$error":"#N/A"}},null,null,{"$f":"IF(AND($Q$4=TRUE,$P$8=ListsFlags!$A$13),$Q$5+(s4rad*(SIN(PI()*A67/180))),NA())","v":{"$error":"#N/A"}},{"$f":"IF(AND($Q$4=TRUE,$P$8=ListsFlags!$A$13),$Q$6+(s4rad*(COS(PI()*A67/180))),NA())","v":{"$error":"#N/A"}},null,null,{"$f":"IF(AND($U$4=TRUE,$T$8=ListsFlags!$A$13),$U$5+(s5rad*(SIN(PI()*A67/180))),NA())","v":{"$error":"#N/A"}},{"$f":"IF(AND($U$4=TRUE,$T$8=ListsFlags!$A$13),$U$6+(s5rad*(COS(PI()*A67/180))),NA())","v":{"$error":"#N/A"}},null,null,{"$f":"IF(AND($Y$4=TRUE,$X$8=ListsFlags!$A$13),$Y$5+(s6rad*(SIN(PI()*A67/180))),NA())","v":{"$error":"#N/A"}},{"$f":"IF(AND($Y$4=TRUE,$X$8=ListsFlags!$A$13),$Y$6+(s6rad*(COS(PI()*A67/180))),NA())","v":{"$error":"#N/A"}},null,null,{"$f":"IF(AND($AC$4=TRUE,$AB$8=ListsFlags!$A$13),$AC$5+(s7rad*(SIN(PI()*A67/180))),NA())","v":{"$error":"#N/A"}},{"$f":"IF(AND($AC$4=TRUE,$AB$8=ListsFlags!$A$13),$AC$6+(s7rad*(COS(PI()*A67/180))),NA())","v":{"$error":"#N/A"}},null,null,{"$f":"IF(AND($AG$4=TRUE,$AF$8=ListsFlags!$A$13),$AG$5+(s8rad*(SIN(PI()*A67/180))),NA())","v":{"$error":"#N/A"}},{"$f":"IF(AND($AG$4=TRUE,$AF$8=ListsFlags!$A$13),$AG$6+(s8rad*(COS(PI()*A67/180))),NA())","v":{"$error":"#N/A"}},null,null,{"$f":"IF(AND($AK$4=TRUE,$AJ$8=ListsFlags!$A$13),$AK$5+(s9rad*(SIN(PI()*A67/180))),NA())","v":{"$error":"#N/A"}},{"$f":"IF(AND($AK$4=TRUE,$AJ$8=ListsFlags!$A$13),$AK$6+(s9rad*(COS(PI()*A67/180))),NA())","v":{"$error":"#N/A"}},null,null,{"$f":"IF(AND($AO$4=TRUE,$AN$8=ListsFlags!$A$13),$AO$5+(s10rad*(SIN(PI()*A67/180))),NA())","v":{"$error":"#N/A"}},{"$f":"IF(AND($AO$4=TRUE,$AN$8=ListsFlags!$A$13),$AO$6+(s10rad*(COS(PI()*A67/180))),NA())","v":{"$error":"#N/A"}},null,null,{"$error":"#DIV/0!"},{"$error":"#DIV/0!"},null,null,null,{"$error":"#DIV/0!"},{"$error":"#DIV/0!"}]
[320,null,null,null,{"$f":"IF(AND($D$4=TRUE,$C$8=ListsFlags!$A$13),$D$5+(s1rad*(SIN(PI()*Circ!A68/180))),NA())","v":{"$error":"#N/A"}},{"$f":"IF(AND($D$4=TRUE,$C$8=ListsFlags!$A$13),$D$6+(s1rad*(COS(PI()*Circ!A68/180))),NA())","v":{"$error":"#N/A"}},null,null,null,{"$f":"IF(AND($I$4=TRUE,$H$8=ListsFlags!$A$13),$I$5+(s2rad*(SIN(PI()*A68/180))),NA())","v":{"$error":"#N/A"}},{"$f":"IF(AND($I$4=TRUE,$H$8=ListsFlags!$A$13),$I$6+(s2rad*(COS(PI()*A68/180))),NA())","v":{"$error":"#N/A"}},null,null,{"$f":"IF(AND($M$4=TRUE,$L$8=ListsFlags!$A$13),$M$5+(s3rad*(SIN(PI()*A68/180))),NA())","v":{"$error":"#N/A"}},{"$f":"IF(AND($M$4=TRUE,$L$8=ListsFlags!$A$13),$M$6+(s3rad*(COS(PI()*A68/180))),NA())","v":{"$error":"#N/A"}},null,null,{"$f":"IF(AND($Q$4=TRUE,$P$8=ListsFlags!$A$13),$Q$5+(s4rad*(SIN(PI()*A68/180))),NA())","v":{"$error":"#N/A"}},{"$f":"IF(AND($Q$4=TRUE,$P$8=ListsFlags!$A$13),$Q$6+(s4rad*(COS(PI()*A68/180))),NA())","v":{"$error":"#N/A"}},null,null,{"$f":"IF(AND($U$4=TRUE,$T$8=ListsFlags!$A$13),$U$5+(s5rad*(SIN(PI()*A68/180))),NA())","v":{"$error":"#N/A"}},{"$f":"IF(AND($U$4=TRUE,$T$8=ListsFlags!$A$13),$U$6+(s5rad*(COS(PI()*A68/180))),NA())","v":{"$error":"#N/A"}},null,null,{"$f":"IF(AND($Y$4=TRUE,$X$8=ListsFlags!$A$13),$Y$5+(s6rad*(SIN(PI()*A68/180))),NA())","v":{"$error":"#N/A"}},{"$f":"IF(AND($Y$4=TRUE,$X$8=ListsFlags!$A$13),$Y$6+(s6rad*(COS(PI()*A68/180))),NA())","v":{"$error":"#N/A"}},null,null,{"$f":"IF(AND($AC$4=TRUE,$AB$8=ListsFlags!$A$13),$AC$5+(s7rad*(SIN(PI()*A68/180))),NA())","v":{"$error":"#N/A"}},{"$f":"IF(AND($AC$4=TRUE,$AB$8=ListsFlags!$A$13),$AC$6+(s7rad*(COS(PI()*A68/180))),NA())","v":{"$error":"#N/A"}},null,null,{"$f":"IF(AND($AG$4=TRUE,$AF$8=ListsFlags!$A$13),$AG$5+(s8rad*(SIN(PI()*A68/180))),NA())","v":{"$error":"#N/A"}},{"$f":"IF(AND($AG$4=TRUE,$AF$8=ListsFlags!$A$13),$AG$6+(s8rad*(COS(PI()*A68/180))),NA())","v":{"$error":"#N/A"}},null,null,{"$f":"IF(AND($AK$4=TRUE,$AJ$8=ListsFlags!$A$13),$AK$5+(s9rad*(SIN(PI()*A68/180))),NA())","v":{"$error":"#N/A"}},{"$f":"IF(AND($AK$4=TRUE,$AJ$8=ListsFlags!$A$13),$AK$6+(s9rad*(COS(PI()*A68/180))),NA())","v":{"$error":"#N/A"}},null,null,{"$f":"IF(AND($AO$4=TRUE,$AN$8=ListsFlags!$A$13),$AO$5+(s10rad*(SIN(PI()*A68/180))),NA())","v":{"$error":"#N/A"}},{"$f":"IF(AND($AO$4=TRUE,$AN$8=ListsFlags!$A$13),$AO$6+(s10rad*(COS(PI()*A68/180))),NA())","v":{"$error":"#N/A"}},null,null,{"$f":"IF($AS$4=TRUE,$AS$5+(circleradius*(SIN(PI()*A68/180))),\"\")","v":{"$error":"#DIV/0!"}},{"$f":"IF($AS$4=TRUE,$AS$6+(circleradius*(COS(PI()*A68/180))),\"\")","v":{"$error":"#DIV/0!"}},null,null,null,{"$f":"IF(AND(AT68=0,AU68=0),sitelatitude,(DEGREES(ASIN(SIN(RADIANS(sitelatitude))*COS((SQRT(AT68^2+AU68^2)/3.28)/RadiusEarth)+COS(RADIANS(sitelatitude))*SIN((SQRT(AT68^2+AU68^2)/3.28)/RadiusEarth)*COS(RADIANS((IF(AU68>=0,DEGREES(ATAN2(AT68,AU68)),360+DEGREES(ATAN2(AT68,AU68))))))))))","v":{"$error":"#DIV/0!"}},{"$f":"sitelongitude+IF(AND(AT68=0,AU68=0),0,DEGREES(ATAN2(COS((SQRT(AT68^2+AU68^2)/3.28)/RadiusEarth)-SIN(RADIANS(sitelatitude))*SIN(RADIANS(AY68)),SIN(RADIANS((IF(AU68>=0,DEGREES(ATAN2(AT68,AU68)),360+DEGREES(ATAN2(AT68,AU68))))))*SIN((SQRT(AT68^2+AU68^2)/3.28)/RadiusEarth)*COS(RADIANS(sitelatitude)))))","v":{"$error":"#DIV/0!"}}]
[325,null,null,null,{"$f":"IF(AND($D$4=TRUE,$C$8=ListsFlags!$A$13),$D$5+(s1rad*(SIN(PI()*Circ!A69/180))),NA())","v":{"$error":"#N/A"}},{"$f":"IF(AND($D$4=TRUE,$C$8=ListsFlags!$A$13),$D$6+(s1rad*(COS(PI()*Circ!A69/180))),NA())","v":{"$error":"#N/A"}},null,null,null,{"$f":"IF(AND($I$4=TRUE,$H$8=ListsFlags!$A$13),$I$5+(s2rad*(SIN(PI()*A69/180))),NA())","v":{"$error":"#N/A"}},{"$f":"IF(AND($I$4=TRUE,$H$8=ListsFlags!$A$13),$I$6+(s2rad*(COS(PI()*A69/180))),NA())","v":{"$error":"#N/A"}},null,null,{"$f":"IF(AND($M$4=TRUE,$L$8=ListsFlags!$A$13),$M$5+(s3rad*(SIN(PI()*A69/180))),NA())","v":{"$error":"#N/A"}},{"$f":"IF(AND($M$4=TRUE,$L$8=ListsFlags!$A$13),$M$6+(s3rad*(COS(PI()*A69/180))),NA())","v":{"$error":"#N/A"}},null,null,{"$f":"IF(AND($Q$4=TRUE,$P$8=ListsFlags!$A$13),$Q$5+(s4rad*(SIN(PI()*A69/180))),NA())","v":{"$error":"#N/A"}},{"$f":"IF(AND($Q$4=TRUE,$P$8=ListsFlags!$A$13),$Q$6+(s4rad*(COS(PI()*A69/180))),NA())","v":{"$error":"#N/A"}},null,null,{"$f":"IF(AND($U$4=TRUE,$T$8=ListsFlags!$A$13),$U$5+(s5rad*(SIN(PI()*A69/180))),NA())","v":{"$error":"#N/A"}},{"$f":"IF(AND($U$4=TRUE,$T$8=ListsFlags!$A$13),$U$6+(s5rad*(COS(PI()*A69/180))),NA())","v":{"$error":"#N/A"}},null,null,{"$f":"IF(AND($Y$4=TRUE,$X$8=ListsFlags!$A$13),$Y$5+(s6rad*(SIN(PI()*A69/180))),NA())","v":{"$error":"#N/A"}},{"$f":"IF(AND($Y$4=TRUE,$X$8=ListsFlags!$A$13),$Y$6+(s6rad*(COS(PI()*A69/180))),NA())","v":{"$error":"#N/A"}},null,null,{"$f":"IF(AND($AC$4=TRUE,$AB$8=ListsFlags!$A$13),$AC$5+(s7rad*(SIN(PI()*A69/180))),NA())","v":{"$error":"#N/A"}},{"$f":"IF(AND($AC$4=TRUE,$AB$8=ListsFlags!$A$13),$AC$6+(s7rad*(COS(PI()*A69/180))),NA())","v":{"$error":"#N/A"}},null,null,{"$f":"IF(AND($AG$4=TRUE,$AF$8=ListsFlags!$A$13),$AG$5+(s8rad*(SIN(PI()*A69/180))),NA())","v":{"$error":"#N/A"}},{"$f":"IF(AND($AG$4=TRUE,$AF$8=ListsFlags!$A$13),$AG$6+(s8rad*(COS(PI()*A69/180))),NA())","v":{"$error":"#N/A"}},null,null,{"$f":"IF(AND($AK$4=TRUE,$AJ$8=ListsFlags!$A$13),$AK$5+(s9rad*(SIN(PI()*A69/180))),NA())","v":{"$error":"#N/A"}},{"$f":"IF(AND($AK$4=TRUE,$AJ$8=ListsFlags!$A$13),$AK$6+(s9rad*(COS(PI()*A69/180))),NA())","v":{"$error":"#N/A"}},null,null,{"$f":"IF(AND($AO$4=TRUE,$AN$8=ListsFlags!$A$13),$AO$5+(s10rad*(SIN(PI()*A69/180))),NA())","v":{"$error":"#N/A"}},{"$f":"IF(AND($AO$4=TRUE,$AN$8=ListsFlags!$A$13),$AO$6+(s10rad*(COS(PI()*A69/180))),NA())","v":{"$error":"#N/A"}},null,null,{"$error":"#DIV/0!"},{"$error":"#DIV/0!"},null,null,null,{"$error":"#DIV/0!"},{"$error":"#DIV/0!"}]
[330,null,null,null,{"$f":"IF(AND($D$4=TRUE,$C$8=ListsFlags!$A$13),$D$5+(s1rad*(SIN(PI()*Circ!A70/180))),NA())","v":{"$error":"#N/A"}},{"$f":"IF(AND($D$4=TRUE,$C$8=ListsFlags!$A$13),$D$6+(s1rad*(COS(PI()*Circ!A70/180))),NA())","v":{"$error":"#N/A"}},null,null,null,{"$f":"IF(AND($I$4=TRUE,$H$8=ListsFlags!$A$13),$I$5+(s2rad*(SIN(PI()*A70/180))),NA())","v":{"$error":"#N/A"}},{"$f":"IF(AND($I$4=TRUE,$H$8=ListsFlags!$A$13),$I$6+(s2rad*(COS(PI()*A70/180))),NA())","v":{"$error":"#N/A"}},null,null,{"$f":"IF(AND($M$4=TRUE,$L$8=ListsFlags!$A$13),$M$5+(s3rad*(SIN(PI()*A70/180))),NA())","v":{"$error":"#N/A"}},{"$f":"IF(AND($M$4=TRUE,$L$8=ListsFlags!$A$13),$M$6+(s3rad*(COS(PI()*A70/180))),NA())","v":{"$error":"#N/A"}},null,null,{"$f":"IF(AND($Q$4=TRUE,$P$8=ListsFlags!$A$13),$Q$5+(s4rad*(SIN(PI()*A70/180))),NA())","v":{"$error":"#N/A"}},{"$f":"IF(AND($Q$4=TRUE,$P$8=ListsFlags!$A$13),$Q$6+(s4rad*(COS(PI()*A70/180))),NA())","v":{"$error":"#N/A"}},null,null,{"$f":"IF(AND($U$4=TRUE,$T$8=ListsFlags!$A$13),$U$5+(s5rad*(SIN(PI()*A70/180))),NA())","v":{"$error":"#N/A"}},{"$f":"IF(AND($U$4=TRUE,$T$8=ListsFlags!$A$13),$U$6+(s5rad*(COS(PI()*A70/180))),NA())","v":{"$error":"#N/A"}},null,null,{"$f":"IF(AND($Y$4=TRUE,$X$8=ListsFlags!$A$13),$Y$5+(s6rad*(SIN(PI()*A70/180))),NA())","v":{"$error":"#N/A"}},{"$f":"IF(AND($Y$4=TRUE,$X$8=ListsFlags!$A$13),$Y$6+(s6rad*(COS(PI()*A70/180))),NA())","v":{"$error":"#N/A"}},null,null,{"$f":"IF(AND($AC$4=TRUE,$AB$8=ListsFlags!$A$13),$AC$5+(s7rad*(SIN(PI()*A70/180))),NA())","v":{"$error":"#N/A"}},{"$f":"IF(AND($AC$4=TRUE,$AB$8=ListsFlags!$A$13),$AC$6+(s7rad*(COS(PI()*A70/180))),NA())","v":{"$error":"#N/A"}},null,null,{"$f":"IF(AND($AG$4=TRUE,$AF$8=ListsFlags!$A$13),$AG$5+(s8rad*(SIN(PI()*A70/180))),NA())","v":{"$error":"#N/A"}},{"$f":"IF(AND($AG$4=TRUE,$AF$8=ListsFlags!$A$13),$AG$6+(s8rad*(COS(PI()*A70/180))),NA())","v":{"$error":"#N/A"}},null,null,{"$f":"IF(AND($AK$4=TRUE,$AJ$8=ListsFlags!$A$13),$AK$5+(s9rad*(SIN(PI()*A70/180))),NA())","v":{"$error":"#N/A"}},{"$f":"IF(AND($AK$4=TRUE,$AJ$8=ListsFlags!$A$13),$AK$6+(s9rad*(COS(PI()*A70/180))),NA())","v":{"$error":"#N/A"}},null,null,{"$f":"IF(AND($AO$4=TRUE,$AN$8=ListsFlags!$A$13),$AO$5+(s10rad*(SIN(PI()*A70/180))),NA())","v":{"$error":"#N/A"}},{"$f":"IF(AND($AO$4=TRUE,$AN$8=ListsFlags!$A$13),$AO$6+(s10rad*(COS(PI()*A70/180))),NA())","v":{"$error":"#N/A"}},null,null,{"$error":"#DIV/0!"},{"$error":"#DIV/0!"},null,null,null,{"$error":"#DIV/0!"},{"$error":"#DIV/0!"}]
[335,null,null,null,{"$f":"IF(AND($D$4=TRUE,$C$8=ListsFlags!$A$13),$D$5+(s1rad*(SIN(PI()*Circ!A71/180))),NA())","v":{"$error":"#N/A"}},{"$f":"IF(AND($D$4=TRUE,$C$8=ListsFlags!$A$13),$D$6+(s1rad*(COS(PI()*Circ!A71/180))),NA())","v":{"$error":"#N/A"}},null,null,null,{"$f":"IF(AND($I$4=TRUE,$H$8=ListsFlags!$A$13),$I$5+(s2rad*(SIN(PI()*A71/180))),NA())","v":{"$error":"#N/A"}},{"$f":"IF(AND($I$4=TRUE,$H$8=ListsFlags!$A$13),$I$6+(s2rad*(COS(PI()*A71/180))),NA())","v":{"$error":"#N/A"}},null,null,{"$f":"IF(AND($M$4=TRUE,$L$8=ListsFlags!$A$13),$M$5+(s3rad*(SIN(PI()*A71/180))),NA())","v":{"$error":"#N/A"}},{"$f":"IF(AND($M$4=TRUE,$L$8=ListsFlags!$A$13),$M$6+(s3rad*(COS(PI()*A71/180))),NA())","v":{"$error":"#N/A"}},null,null,{"$f":"IF(AND($Q$4=TRUE,$P$8=ListsFlags!$A$13),$Q$5+(s4rad*(SIN(PI()*A71/180))),NA())","v":{"$error":"#N/A"}},{"$f":"IF(AND($Q$4=TRUE,$P$8=ListsFlags!$A$13),$Q$6+(s4rad*(COS(PI()*A71/180))),NA())","v":{"$error":"#N/A"}},null,null,{"$f":"IF(AND($U$4=TRUE,$T$8=ListsFlags!$A$13),$U$5+(s5rad*(SIN(PI()*A71/180))),NA())","v":{"$error":"#N/A"}},{"$f":"IF(AND($U$4=TRUE,$T$8=ListsFlags!$A$13),$U$6+(s5rad*(COS(PI()*A71/180))),NA())","v":{"$error":"#N/A"}},null,null,{"$f":"IF(AND($Y$4=TRUE,$X$8=ListsFlags!$A$13),$Y$5+(s6rad*(SIN(PI()*A71/180))),NA())","v":{"$error":"#N/A"}},{"$f":"IF(AND($Y$4=TRUE,$X$8=ListsFlags!$A$13),$Y$6+(s6rad*(COS(PI()*A71/180))),NA())","v":{"$error":"#N/A"}},null,null,{"$f":"IF(AND($AC$4=TRUE,$AB$8=ListsFlags!$A$13),$AC$5+(s7rad*(SIN(PI()*A71/180))),NA())","v":{"$error":"#N/A"}},{"$f":"IF(AND($AC$4=TRUE,$AB$8=ListsFlags!$A$13),$AC$6+(s7rad*(COS(PI()*A71/180))),NA())","v":{"$error":"#N/A"}},null,null,{"$f":"IF(AND($AG$4=TRUE,$AF$8=ListsFlags!$A$13),$AG$5+(s8rad*(SIN(PI()*A71/180))),NA())","v":{"$error":"#N/A"}},{"$f":"IF(AND($AG$4=TRUE,$AF$8=ListsFlags!$A$13),$AG$6+(s8rad*(COS(PI()*A71/180))),NA())","v":{"$error":"#N/A"}},null,null,{"$f":"IF(AND($AK$4=TRUE,$AJ$8=ListsFlags!$A$13),$AK$5+(s9rad*(SIN(PI()*A71/180))),NA())","v":{"$error":"#N/A"}},{"$f":"IF(AND($AK$4=TRUE,$AJ$8=ListsFlags!$A$13),$AK$6+(s9rad*(COS(PI()*A71/180))),NA())","v":{"$error":"#N/A"}},null,null,{"$f":"IF(AND($AO$4=TRUE,$AN$8=ListsFlags!$A$13),$AO$5+(s10rad*(SIN(PI()*A71/180))),NA())","v":{"$error":"#N/A"}},{"$f":"IF(AND($AO$4=TRUE,$AN$8=ListsFlags!$A$13),$AO$6+(s10rad*(COS(PI()*A71/180))),NA())","v":{"$error":"#N/A"}},null,null,{"$error":"#DIV/0!"},{"$error":"#DIV/0!"},null,null,null,{"$error":"#DIV/0!"},{"$error":"#DIV/0!"}]
[340,null,null,null,{"$f":"IF(AND($D$4=TRUE,$C$8=ListsFlags!$A$13),$D$5+(s1rad*(SIN(PI()*Circ!A72/180))),NA())","v":{"$error":"#N/A"}},{"$f":"IF(AND($D$4=TRUE,$C$8=ListsFlags!$A$13),$D$6+(s1rad*(COS(PI()*Circ!A72/180))),NA())","v":{"$error":"#N/A"}},null,null,null,{"$f":"IF(AND($I$4=TRUE,$H$8=ListsFlags!$A$13),$I$5+(s2rad*(SIN(PI()*A72/180))),NA())","v":{"$error":"#N/A"}},{"$f":"IF(AND($I$4=TRUE,$H$8=ListsFlags!$A$13),$I$6+(s2rad*(COS(PI()*A72/180))),NA())","v":{"$error":"#N/A"}},null,null,{"$f":"IF(AND($M$4=TRUE,$L$8=ListsFlags!$A$13),$M$5+(s3rad*(SIN(PI()*A72/180))),NA())","v":{"$error":"#N/A"}},{"$f":"IF(AND($M$4=TRUE,$L$8=ListsFlags!$A$13),$M$6+(s3rad*(COS(PI()*A72/180))),NA())","v":{"$error":"#N/A"}},null,null,{"$f":"IF(AND($Q$4=TRUE,$P$8=ListsFlags!$A$13),$Q$5+(s4rad*(SIN(PI()*A72/180))),NA())","v":{"$error":"#N/A"}},{"$f":"IF(AND($Q$4=TRUE,$P$8=ListsFlags!$A$13),$Q$6+(s4rad*(COS(PI()*A72/180))),NA())","v":{"$error":"#N/A"}},null,null,{"$f":"IF(AND($U$4=TRUE,$T$8=ListsFlags!$A$13),$U$5+(s5rad*(SIN(PI()*A72/180))),NA())","v":{"$error":"#N/A"}},{"$f":"IF(AND($U$4=TRUE,$T$8=ListsFlags!$A$13),$U$6+(s5rad*(COS(PI()*A72/180))),NA())","v":{"$error":"#N/A"}},null,null,{"$f":"IF(AND($Y$4=TRUE,$X$8=ListsFlags!$A$13),$Y$5+(s6rad*(SIN(PI()*A72/180))),NA())","v":{"$error":"#N/A"}},{"$f":"IF(AND($Y$4=TRUE,$X$8=ListsFlags!$A$13),$Y$6+(s6rad*(COS(PI()*A72/180))),NA())","v":{"$error":"#N/A"}},null,null,{"$f":"IF(AND($AC$4=TRUE,$AB$8=ListsFlags!$A$13),$AC$5+(s7rad*(SIN(PI()*A72/180))),NA())","v":{"$error":"#N/A"}},{"$f":"IF(AND($AC$4=TRUE,$AB$8=ListsFlags!$A$13),$AC$6+(s7rad*(COS(PI()*A72/180))),NA())","v":{"$error":"#N/A"}},null,null,{"$f":"IF(AND($AG$4=TRUE,$AF$8=ListsFlags!$A$13),$AG$5+(s8rad*(SIN(PI()*A72/180))),NA())","v":{"$error":"#N/A"}},{"$f":"IF(AND($AG$4=TRUE,$AF$8=ListsFlags!$A$13),$AG$6+(s8rad*(COS(PI()*A72/180))),NA())","v":{"$error":"#N/A"}},null,null,{"$f":"IF(AND($AK$4=TRUE,$AJ$8=ListsFlags!$A$13),$AK$5+(s9rad*(SIN(PI()*A72/180))),NA())","v":{"$error":"#N/A"}},{"$f":"IF(AND($AK$4=TRUE,$AJ$8=ListsFlags!$A$13),$AK$6+(s9rad*(COS(PI()*A72/180))),NA())","v":{"$error":"#N/A"}},null,null,{"$f":"IF(AND($AO$4=TRUE,$AN$8=ListsFlags!$A$13),$AO$5+(s10rad*(SIN(PI()*A72/180))),NA())","v":{"$error":"#N/A"}},{"$f":"IF(AND($AO$4=TRUE,$AN$8=ListsFlags!$A$13),$AO$6+(s10rad*(COS(PI()*A72/180))),NA())","v":{"$error":"#N/A"}},null,null,{"$error":"#DIV/0!"},{"$error":"#DIV/0!"},null,null,null,{"$error":"#DIV/0!"},{"$error":"#DIV/0!"}]
[345,null,null,null,{"$f":"IF(AND($D$4=TRUE,$C$8=ListsFlags!$A$13),$D$5+(s1rad*(SIN(PI()*Circ!A73/180))),NA())","v":{"$error":"#N/A"}},{"$f":"IF(AND($D$4=TRUE,$C$8=ListsFlags!$A$13),$D$6+(s1rad*(COS(PI()*Circ!A73/180))),NA())","v":{"$error":"#N/A"}},null,null,null,{"$f":"IF(AND($I$4=TRUE,$H$8=ListsFlags!$A$13),$I$5+(s2rad*(SIN(PI()*A73/180))),NA())","v":{"$error":"#N/A"}},{"$f":"IF(AND($I$4=TRUE,$H$8=ListsFlags!$A$13),$I$6+(s2rad*(COS(PI()*A73/180))),NA())","v":{"$error":"#N/A"}},null,null,{"$f":"IF(AND($M$4=TRUE,$L$8=ListsFlags!$A$13),$M$5+(s3rad*(SIN(PI()*A73/180))),NA())","v":{"$error":"#N/A"}},{"$f":"IF(AND($M$4=TRUE,$L$8=ListsFlags!$A$13),$M$6+(s3rad*(COS(PI()*A73/180))),NA())","v":{"$error":"#N/A"}},null,null,{"$f":"IF(AND($Q$4=TRUE,$P$8=ListsFlags!$A$13),$Q$5+(s4rad*(SIN(PI()*A73/180))),NA())","v":{"$error":"#N/A"}},{"$f":"IF(AND($Q$4=TRUE,$P$8=ListsFlags!$A$13),$Q$6+(s4rad*(COS(PI()*A73/180))),NA())","v":{"$error":"#N/A"}},null,null,{"$f":"IF(AND($U$4=TRUE,$T$8=ListsFlags!$A$13),$U$5+(s5rad*(SIN(PI()*A73/180))),NA())","v":{"$error":"#N/A"}},{"$f":"IF(AND($U$4=TRUE,$T$8=ListsFlags!$A$13),$U$6+(s5rad*(COS(PI()*A73/180))),NA())","v":{"$error":"#N/A"}},null,null,{"$f":"IF(AND($Y$4=TRUE,$X$8=ListsFlags!$A$13),$Y$5+(s6rad*(SIN(PI()*A73/180))),NA())","v":{"$error":"#N/A"}},{"$f":"IF(AND($Y$4=TRUE,$X$8=ListsFlags!$A$13),$Y$6+(s6rad*(COS(PI()*A73/180))),NA())","v":{"$error":"#N/A"}},null,null,{"$f":"IF(AND($AC$4=TRUE,$AB$8=ListsFlags!$A$13),$AC$5+(s7rad*(SIN(PI()*A73/180))),NA())","v":{"$error":"#N/A"}},{"$f":"IF(AND($AC$4=TRUE,$AB$8=ListsFlags!$A$13),$AC$6+(s7rad*(COS(PI()*A73/180))),NA())","v":{"$error":"#N/A"}},null,null,{"$f":"IF(AND($AG$4=TRUE,$AF$8=ListsFlags!$A$13),$AG$5+(s8rad*(SIN(PI()*A73/180))),NA())","v":{"$error":"#N/A"}},{"$f":"IF(AND($AG$4=TRUE,$AF$8=ListsFlags!$A$13),$AG$6+(s8rad*(COS(PI()*A73/180))),NA())","v":{"$error":"#N/A"}},null,null,{"$f":"IF(AND($AK$4=TRUE,$AJ$8=ListsFlags!$A$13),$AK$5+(s9rad*(SIN(PI()*A73/180))),NA())","v":{"$error":"#N/A"}},{"$f":"IF(AND($AK$4=TRUE,$AJ$8=ListsFlags!$A$13),$AK$6+(s9rad*(COS(PI()*A73/180))),NA())","v":{"$error":"#N/A"}},null,null,{"$f":"IF(AND($AO$4=TRUE,$AN$8=ListsFlags!$A$13),$AO$5+(s10rad*(SIN(PI()*A73/180))),NA())","v":{"$error":"#N/A"}},{"$f":"IF(AND($AO$4=TRUE,$AN$8=ListsFlags!$A$13),$AO$6+(s10rad*(COS(PI()*A73/180))),NA())","v":{"$error":"#N/A"}},null,null,{"$error":"#DIV/0!"},{"$error":"#DIV/0!"},null,null,null,{"$error":"#DIV/0!"},{"$error":"#DIV/0!"}]
[350,null,null,null,{"$f":"IF(AND($D$4=TRUE,$C$8=ListsFlags!$A$13),$D$5+(s1rad*(SIN(PI()*Circ!A74/180))),NA())","v":{"$error":"#N/A"}},{"$f":"IF(AND($D$4=TRUE,$C$8=ListsFlags!$A$13),$D$6+(s1rad*(COS(PI()*Circ!A74/180))),NA())","v":{"$error":"#N/A"}},null,null,null,{"$f":"IF(AND($I$4=TRUE,$H$8=ListsFlags!$A$13),$I$5+(s2rad*(SIN(PI()*A74/180))),NA())","v":{"$error":"#N/A"}},{"$f":"IF(AND($I$4=TRUE,$H$8=ListsFlags!$A$13),$I$6+(s2rad*(COS(PI()*A74/180))),NA())","v":{"$error":"#N/A"}},null,null,{"$f":"IF(AND($M$4=TRUE,$L$8=ListsFlags!$A$13),$M$5+(s3rad*(SIN(PI()*A74/180))),NA())","v":{"$error":"#N/A"}},{"$f":"IF(AND($M$4=TRUE,$L$8=ListsFlags!$A$13),$M$6+(s3rad*(COS(PI()*A74/180))),NA())","v":{"$error":"#N/A"}},null,null,{"$f":"IF(AND($Q$4=TRUE,$P$8=ListsFlags!$A$13),$Q$5+(s4rad*(SIN(PI()*A74/180))),NA())","v":{"$error":"#N/A"}},{"$f":"IF(AND($Q$4=TRUE,$P$8=ListsFlags!$A$13),$Q$6+(s4rad*(COS(PI()*A74/180))),NA())","v":{"$error":"#N/A"}},null,null,{"$f":"IF(AND($U$4=TRUE,$T$8=ListsFlags!$A$13),$U$5+(s5rad*(SIN(PI()*A74/180))),NA())","v":{"$error":"#N/A"}},{"$f":"IF(AND($U$4=TRUE,$T$8=ListsFlags!$A$13),$U$6+(s5rad*(COS(PI()*A74/180))),NA())","v":{"$error":"#N/A"}},null,null,{"$f":"IF(AND($Y$4=TRUE,$X$8=ListsFlags!$A$13),$Y$5+(s6rad*(SIN(PI()*A74/180))),NA())","v":{"$error":"#N/A"}},{"$f":"IF(AND($Y$4=TRUE,$X$8=ListsFlags!$A$13),$Y$6+(s6rad*(COS(PI()*A74/180))),NA())","v":{"$error":"#N/A"}},null,null,{"$f":"IF(AND($AC$4=TRUE,$AB$8=ListsFlags!$A$13),$AC$5+(s7rad*(SIN(PI()*A74/180))),NA())","v":{"$error":"#N/A"}},{"$f":"IF(AND($AC$4=TRUE,$AB$8=ListsFlags!$A$13),$AC$6+(s7rad*(COS(PI()*A74/180))),NA())","v":{"$error":"#N/A"}},null,null,{"$f":"IF(AND($AG$4=TRUE,$AF$8=ListsFlags!$A$13),$AG$5+(s8rad*(SIN(PI()*A74/180))),NA())","v":{"$error":"#N/A"}},{"$f":"IF(AND($AG$4=TRUE,$AF$8=ListsFlags!$A$13),$AG$6+(s8rad*(COS(PI()*A74/180))),NA())","v":{"$error":"#N/A"}},null,null,{"$f":"IF(AND($AK$4=TRUE,$AJ$8=ListsFlags!$A$13),$AK$5+(s9rad*(SIN(PI()*A74/180))),NA())","v":{"$error":"#N/A"}},{"$f":"IF(AND($AK$4=TRUE,$AJ$8=ListsFlags!$A$13),$AK$6+(s9rad*(COS(PI()*A74/180))),NA())","v":{"$error":"#N/A"}},null,null,{"$f":"IF(AND($AO$4=TRUE,$AN$8=ListsFlags!$A$13),$AO$5+(s10rad*(SIN(PI()*A74/180))),NA())","v":{"$error":"#N/A"}},{"$f":"IF(AND($AO$4=TRUE,$AN$8=ListsFlags!$A$13),$AO$6+(s10rad*(COS(PI()*A74/180))),NA())","v":{"$error":"#N/A"}},null,null,{"$error":"#DIV/0!"},{"$error":"#DIV/0!"},null,null,null,{"$error":"#DIV/0!"},{"$error":"#DIV/0!"}]
[355,null,null,null,{"$f":"IF(AND($D$4=TRUE,$C$8=ListsFlags!$A$13),$D$5+(s1rad*(SIN(PI()*Circ!A75/180))),NA())","v":{"$error":"#N/A"}},{"$f":"IF(AND($D$4=TRUE,$C$8=ListsFlags!$A$13),$D$6+(s1rad*(COS(PI()*Circ!A75/180))),NA())","v":{"$error":"#N/A"}},null,null,null,{"$f":"IF(AND($I$4=TRUE,$H$8=ListsFlags!$A$13),$I$5+(s2rad*(SIN(PI()*A75/180))),NA())","v":{"$error":"#N/A"}},{"$f":"IF(AND($I$4=TRUE,$H$8=ListsFlags!$A$13),$I$6+(s2rad*(COS(PI()*A75/180))),NA())","v":{"$error":"#N/A"}},null,null,{"$f":"IF(AND($M$4=TRUE,$L$8=ListsFlags!$A$13),$M$5+(s3rad*(SIN(PI()*A75/180))),NA())","v":{"$error":"#N/A"}},{"$f":"IF(AND($M$4=TRUE,$L$8=ListsFlags!$A$13),$M$6+(s3rad*(COS(PI()*A75/180))),NA())","v":{"$error":"#N/A"}},null,null,{"$f":"IF(AND($Q$4=TRUE,$P$8=ListsFlags!$A$13),$Q$5+(s4rad*(SIN(PI()*A75/180))),NA())","v":{"$error":"#N/A"}},{"$f":"IF(AND($Q$4=TRUE,$P$8=ListsFlags!$A$13),$Q$6+(s4rad*(COS(PI()*A75/180))),NA())","v":{"$error":"#N/A"}},null,null,{"$f":"IF(AND($U$4=TRUE,$T$8=ListsFlags!$A$13),$U$5+(s5rad*(SIN(PI()*A75/180))),NA())","v":{"$error":"#N/A"}},{"$f":"IF(AND($U$4=TRUE,$T$8=ListsFlags!$A$13),$U$6+(s5rad*(COS(PI()*A75/180))),NA())","v":{"$error":"#N/A"}},null,null,{"$f":"IF(AND($Y$4=TRUE,$X$8=ListsFlags!$A$13),$Y$5+(s6rad*(SIN(PI()*A75/180))),NA())","v":{"$error":"#N/A"}},{"$f":"IF(AND($Y$4=TRUE,$X$8=ListsFlags!$A$13),$Y$6+(s6rad*(COS(PI()*A75/180))),NA())","v":{"$error":"#N/A"}},null,null,{"$f":"IF(AND($AC$4=TRUE,$AB$8=ListsFlags!$A$13),$AC$5+(s7rad*(SIN(PI()*A75/180))),NA())","v":{"$error":"#N/A"}},{"$f":"IF(AND($AC$4=TRUE,$AB$8=ListsFlags!$A$13),$AC$6+(s7rad*(COS(PI()*A75/180))),NA())","v":{"$error":"#N/A"}},null,null,{"$f":"IF(AND($AG$4=TRUE,$AF$8=ListsFlags!$A$13),$AG$5+(s8rad*(SIN(PI()*A75/180))),NA())","v":{"$error":"#N/A"}},{"$f":"IF(AND($AG$4=TRUE,$AF$8=ListsFlags!$A$13),$AG$6+(s8rad*(COS(PI()*A75/180))),NA())","v":{"$error":"#N/A"}},null,null,{"$f":"IF(AND($AK$4=TRUE,$AJ$8=ListsFlags!$A$13),$AK$5+(s9rad*(SIN(PI()*A75/180))),NA())","v":{"$error":"#N/A"}},{"$f":"IF(AND($AK$4=TRUE,$AJ$8=ListsFlags!$A$13),$AK$6+(s9rad*(COS(PI()*A75/180))),NA())","v":{"$error":"#N/A"}},null,null,{"$f":"IF(AND($AO$4=TRUE,$AN$8=ListsFlags!$A$13),$AO$5+(s10rad*(SIN(PI()*A75/180))),NA())","v":{"$error":"#N/A"}},{"$f":"IF(AND($AO$4=TRUE,$AN$8=ListsFlags!$A$13),$AO$6+(s10rad*(COS(PI()*A75/180))),NA())","v":{"$error":"#N/A"}},null,null,{"$error":"#DIV/0!"},{"$error":"#DIV/0!"},null,null,null,{"$error":"#DIV/0!"},{"$error":"#DIV/0!"}]
[360,null,null,null,{"$f":"IF(AND($D$4=TRUE,$C$8=ListsFlags!$A$13),$D$5+(s1rad*(SIN(PI()*Circ!A76/180))),NA())","v":{"$error":"#N/A"}},{"$f":"IF(AND($D$4=TRUE,$C$8=ListsFlags!$A$13),$D$6+(s1rad*(COS(PI()*Circ!A76/180))),NA())","v":{"$error":"#N/A"}},"E",null,null,{"$f":"IF(AND($I$4=TRUE,$H$8=ListsFlags!$A$13),$I$5+(s2rad*(SIN(PI()*A76/180))),NA())","v":{"$error":"#N/A"}},{"$f":"IF(AND($I$4=TRUE,$H$8=ListsFlags!$A$13),$I$6+(s2rad*(COS(PI()*A76/180))),NA())","v":{"$error":"#N/A"}},null,null,{"$f":"IF(AND($M$4=TRUE,$L$8=ListsFlags!$A$13),$M$5+(s3rad*(SIN(PI()*A76/180))),NA())","v":{"$error":"#N/A"}},{"$f":"IF(AND($M$4=TRUE,$L$8=ListsFlags!$A$13),$M$6+(s3rad*(COS(PI()*A76/180))),NA())","v":{"$error":"#N/A"}},null,null,{"$f":"IF(AND($Q$4=TRUE,$P$8=ListsFlags!$A$13),$Q$5+(s4rad*(SIN(PI()*A76/180))),NA())","v":{"$error":"#N/A"}},{"$f":"IF(AND($Q$4=TRUE,$P$8=ListsFlags!$A$13),$Q$6+(s4rad*(COS(PI()*A76/180))),NA())","v":{"$error":"#N/A"}},null,null,{"$f":"IF(AND($U$4=TRUE,$T$8=ListsFlags!$A$13),$U$5+(s5rad*(SIN(PI()*A76/180))),NA())","v":{"$error":"#N/A"}},{"$f":"IF(AND($U$4=TRUE,$T$8=ListsFlags!$A$13),$U$6+(s5rad*(COS(PI()*A76/180))),NA())","v":{"$error":"#N/A"}},null,null,{"$f":"IF(AND($Y$4=TRUE,$X$8=ListsFlags!$A$13),$Y$5+(s6rad*(SIN(PI()*A76/180))),NA())","v":{"$error":"#N/A"}},{"$f":"IF(AND($Y$4=TRUE,$X$8=ListsFlags!$A$13),$Y$6+(s6rad*(COS(PI()*A76/180))),NA())","v":{"$error":"#N/A"}},null,null,{"$f":"IF(AND($AC$4=TRUE,$AB$8=ListsFlags!$A$13),$AC$5+(s7rad*(SIN(PI()*A76/180))),NA())","v":{"$error":"#N/A"}},{"$f":"IF(AND($AC$4=TRUE,$AB$8=ListsFlags!$A$13),$AC$6+(s7rad*(COS(PI()*A76/180))),NA())","v":{"$error":"#N/A"}},null,null,{"$f":"IF(AND($AG$4=TRUE,$AF$8=ListsFlags!$A$13),$AG$5+(s8rad*(SIN(PI()*A76/180))),NA())","v":{"$error":"#N/A"}},{"$f":"IF(AND($AG$4=TRUE,$AF$8=ListsFlags!$A$13),$AG$6+(s8rad*(COS(PI()*A76/180))),NA())","v":{"$error":"#N/A"}},null,null,{"$f":"IF(AND($AK$4=TRUE,$AJ$8=ListsFlags!$A$13),$AK$5+(s9rad*(SIN(PI()*A76/180))),NA())","v":{"$error":"#N/A"}},{"$f":"IF(AND($AK$4=TRUE,$AJ$8=ListsFlags!$A$13),$AK$6+(s9rad*(COS(PI()*A76/180))),NA())","v":{"$error":"#N/A"}},null,null,{"$f":"IF(AND($AO$4=TRUE,$AN$8=ListsFlags!$A$13),$AO$5+(s10rad*(SIN(PI()*A76/180))),NA())","v":{"$error":"#N/A"}},{"$f":"IF(AND($AO$4=TRUE,$AN$8=ListsFlags!$A$13),$AO$6+(s10rad*(COS(PI()*A76/180))),NA())","v":{"$error":"#N/A"}},null,null,{"$error":"#DIV/0!"},{"$error":"#DIV/0!"},null,null,null,{"$error":"#DIV/0!"},{"$error":"#DIV/0!"}]
["Minimum",null,null,null,{"$f":"IF(ISNUMBER(E4),MIN(E4:E76),\"\")","v":""},{"$f":"IF(ISNUMBER(F4),MIN(F4:F76),\"\")","v":""},null,null,null,{"$f":"IF(ISNUMBER(J4),MIN(J4:J76),\"\")","v":""},{"$f":"IF(ISNUMBER(K4),MIN(K4:K76),\"\")","v":""},null,null,{"$f":"IF(ISNUMBER(N4),MIN(N4:N76),\"\")","v":""},{"$f":"IF(ISNUMBER(O4),MIN(O4:O76),\"\")","v":""},null,null,{"$f":"IF(ISNUMBER(R4),MIN(R4:R76),\"\")","v":""},{"$f":"IF(ISNUMBER(S4),MIN(S4:S76),\"\")","v":""},null,null,{"$f":"IF(ISNUMBER(V4),MIN(V4:V76),\"\")","v":""},{"$f":"IF(ISNUMBER(W4),MIN(W4:W76),\"\")","v":""},null,null,{"$f":"IF(ISNUMBER(Z4),MIN(Z4:Z76),\"\")","v":""},{"$f":"IF(ISNUMBER(AA4),MIN(AA4:AA76),\"\")","v":""},null,null,{"$f":"IF(ISNUMBER(AD4),MIN(AD4:AD76),\"\")","v":""},{"$f":"IF(ISNUMBER(AE4),MIN(AE4:AE76),\"\")","v":""},null,null,{"$f":"IF(ISNUMBER(AH4),MIN(AH4:AH76),\"\")","v":""},{"$f":"IF(ISNUMBER(AI4),MIN(AI4:AI76),\"\")","v":""},null,null,{"$f":"IF(ISNUMBER(AL4),MIN(AL4:AL76),\"\")","v":""},{"$f":"IF(ISNUMBER(AM4),MIN(AM4:AM76),\"\")","v":""},null,null,{"$f":"IF(ISNUMBER(AP4),MIN(AP4:AP76),\"\")","v":""},{"$f":"IF(ISNUMBER(AQ4),MIN(AQ4:AQ76),\"\")","v":""},null,null,{"$f":"IF(ISNUMBER(AT4),MIN(AT4:AT76),\"\")","v":""},{"$f":"IF(ISNUMBER(AU4),MIN(AU4:AU76),\"\")","v":""},null,null,null,{"$f":"IF(ISNUMBER(AY4),MIN(AY4:AY76),\"\")","v":""},{"$f":"IF(ISNUMBER(AZ4),MIN(AZ4:AZ76),\"\")","v":""}]
["Maximum",null,null,null,{"$f":"IF(ISNUMBER(E4),MAX(E4:E76),\"\")","v":""},{"$f":"IF(ISNUMBER(F4),MAX(F4:F76),\"\")","v":""},null,null,null,{"$f":"IF(ISNUMBER(J4),MAX(J4:J76),\"\")","v":""},{"$f":"IF(ISNUMBER(K4),MAX(K4:K76),\"\")","v":""},null,null,{"$f":"IF(ISNUMBER(N4),MAX(N4:N76),\"\")","v":""},{"$f":"IF(ISNUMBER(O4),MAX(O4:O76),\"\")","v":""},null,null,{"$f":"IF(ISNUMBER(R4),MAX(R4:R76),\"\")","v":""},{"$f":"IF(ISNUMBER(S4),MAX(S4:S76),\"\")","v":""},null,null,{"$f":"IF(ISNUMBER(V4),MAX(V4:V76),\"\")","v":""},{"$f":"IF(ISNUMBER(W4),MAX(W4:W76),\"\")","v":""},null,null,{"$f":"IF(ISNUMBER(Z4),MAX(Z4:Z76),\"\")","v":""},{"$f":"IF(ISNUMBER(AA4),MAX(AA4:AA76),\"\")","v":""},null,null,{"$f":"IF(ISNUMBER(AD4),MAX(AD4:AD76),\"\")","v":""},{"$f":"IF(ISNUMBER(AE4),MAX(AE4:AE76),\"\")","v":""},null,null,{"$f":"IF(ISNUMBER(AH4),MAX(AH4:AH76),\"\")","v":""},{"$f":"IF(ISNUMBER(AI4),MAX(AI4:AI76),\"\")","v":""},null,null,{"$f":"IF(ISNUMBER(AL4),MAX(AL4:AL76),\"\")","v":""},{"$f":"IF(ISNUMBER(AM4),MAX(AM4:AM76),\"\")","v":""},null,null,{"$f":"IF(ISNUMBER(AP4),MAX(AP4:AP76),\"\")","v":""},{"$f":"IF(ISNUMBER(AQ4),MAX(AQ4:AQ76),\"\")","v":""},null,null,{"$f":"IF(ISNUMBER(AT4),MAX(AT4:AT76),\"\")","v":""},{"$f":"IF(ISNUMBER(AU4),MAX(AU4:AU76),\"\")","v":""},null,null,null,{"$f":"IF(ISNUMBER(AY4),MAX(AY4:AY76),\"\")","v":""},{"$f":"IF(ISNUMBER(AZ4),MAX(AZ4:AZ76),\"\")","v":""}]
[]
[null,null,"C E_max",{"$f":"IF(AND($D5=\"\",$I5=\"\",$AK5=\"\",$M5=\"\",$Q5=\"\",$U5=\"\",$Y5=\"\",$AC5=\"\",$AG5=\"\",$AO5=\"\"),\"\",MIN(F78,K78,O78,S78,W78,AA78,AE78,AI78,AM78,AQ78))","v":""},"C E_min",{"$f":"IF(AND($D5=\"\",$I5=\"\",$AK5=\"\",$M5=\"\",$Q5=\"\",$U5=\"\",$Y5=\"\",$AC5=\"\",$AG5=\"\",$AO5=\"\"),\"\",MIN(F77,K77,O77,S77,W77,AA77,AE77,AI77,AM77,AQ77))","v":""}]
[null,null,"C N_max",{"$f":"IF(AND($D5=\"\",$I5=\"\",$AK5=\"\",$M5=\"\",$Q5=\"\",$U5=\"\",$Y5=\"\",$AC5=\"\",$AG5=\"\",$AO5=\"\"),\"\",MIN(E78,J78,N78,R78,V78,Z78,AD78,AH78,AL78,AP78))","v":""},"C N_min",{"$f":"IF(AND($D5=\"\",$I5=\"\",$AK5=\"\",$M5=\"\",$Q5=\"\",$U5=\"\",$Y5=\"\",$AC5=\"\",$AG5=\"\",$AO5=\"\"),\"\",MIN(E77,J77,N77,R77,V77,Z77,AD77,AH77,AL77,AP77))","v":""}]

{"sheet":"notes","index":11,"n_rows":252,"n_cols":3,"rows_kept":252,"cut":false,"hidden":true,"merged":[]}
[]
["Model Worksheet"]
["Labeled number of sources"]
["Introduced Vlookup function into the Factor worksheet for Manure Removal factor."]
["Introduced Vlookup function into the Factor worksheet for Manure Dilution  factor."]
["Condensed long equations for source-specific abatement factors"]
["Corrected errors found in the Model sheet where the validation references were incorrect."]
["Removed white space in model worksheet on left"]
["Commented on lable s1name."]
["Put label names in cell c4 of setback worksheet."]
["Found error that if L/W ratio = 8, \"\" was assigned as shape factor.  This was fixed in \"Lists & Calcs\" > Emission Source Plotting routine >  Shape FCTR column."]
["Introduced Vlookup function into the Shape FCTR column referencing ShapeFactorTable on the Factor Worksheet."]
["Eliminated N/A when circle and rectangle dimensions by adding \"IF(sxshape=\"Circle\"…. To hypotenuse calculations in \"Lists & Calcs\"."]
["Changed the logic in Cir Plot to If a Circle rather than If not a space or Rectangle."]
["Introduced vlookup functions into the manure removal flags in \"Lists & Calcs\""]
["Introduced vlookup functions into the manure dilution flags in \"Lists & Calcs\""]
["Labeled basic site setback calculations in \"Lists & Calcs\""]
["Changed the logic in Lists & Calcsfor calculating source rectangle coordinates to if a SW point rather than if not an SW point."]
["Labeled North_max, North_min, East_max and East_min."]
["Shortened COM x and y calculations using labels and sumproducts in Setback Plot worksheet."]
["Labeled setbacks and coordinates"]
["Found error in setback adjustments for diagonals"]
["Fixed adjusted setback calculations for the diagonals on Lists & Calcs page."]
["Labeled Rectangle_shape and Circle_shape in Setback Plot worksheet"]
["Removed nonsensical SUMS column from Manure worksheet."]
["5-21-13 can access the Google lat long find from Excel."]
["labeled site latitude and longitude"]
["http://www.movable-type.co.uk/scripts/latlong.html"]
["Corrected error in lat/long calculation.  All calculated angles are radians!"]
["How to use excel to calculate bearing between two points:  http://www.ehow.com/how_10034591_use-excel-calculate-bearing-between-two-points.html"]
["5-31-13:  Solved calculating bearing and distance in \"Setback Plot\" worksheet."]
["6-1-13:  Moved actual setpoint to GE Points worksheet."]
["6-19-13: Evan updated instructions and GEPoints settings"]
["6-30-13: circle is not circular on GE.  Fixed 7-2-13."]
["  Arial font.  Fixed 7-1-13."]
["  Provide a workspace to do various calculations.  7-2-13."]
["   Try to get Google Maps in Excel.  Solved."]
["2-4-14: reduced topography factor from a nested if statement to a simple vlookup function in factors worksheet.  Also named topotable."]
["2-4-14: did the same to the land use factor using defined table landusetable in the lists worksheet."]
["2-7-14: reorganized Swine worksheet."]
["2-10-14: noted that Sarah used the word \"perimeter\" to indicate that land use and topo was the same in all directions."]
["2-13-14: Reorganized SrcFactors worksheet to combine all source related variables into one table."]
["2-12-14: Reorganized DirSpec worksheet to combine all direction specific variables into one table."]
["3-18-14: After one-month hiatus, set up Layers and Layertable in Eggs worksheet."]
["3-19-14: Removed duplicate names that referred to \"Macrotester.xlsm\" in another spreadsheet.  Also introduced layer manure removal frequency table"]
["3-24-14: Removed old dairy related names, now need to search for swine and layer names made obsolete by introduction of vlookup tables."]
["3-24-14: Removed old swine and layer names.  Check out topography in DirSpec … blank cells?"]
["3-28-14: Replaced several lists with one \"Yes-No\" list for several data validation cells.  Figured out how allterrain flag works to bring in the list or not."]
["3-28-14: Need to automatically erase \"other variables\" when No is changed to yes."]
["3-29-14: Worked all day to improve and streamline input and calculation of topography and land use factors, and setbacks.  Deleted DirSpec page.  Deleted pland and pter flagging approach"]
["PALLTERRAIN (Model A60):  User enters whether terrain is uniform or directional and PALLTERRAIN is YES or NO."]
["  If PALLTERRAIN=Yes: User picks from TOPOTABLE list to give the value of PALLTYPE (Model B60). Text remains even if PALLTERRAIN changes to No."]
["  If PALLTERRAIN=No: User picks from TOPOTABLE list to give the values of directional terrain (Model A73:H73). Text remains even in PALLTERRAIN changes to Yes"]
["  Directional terrains used in calculations are either uniform or directional (Model A76:H76)"]
["Direction Specific Topography Factors obtained from lookup table (TOPOTABLE) in INPUTS worksheet and used to calculate setback in the SETBACK worksheet"]
["Added Ohio to list of states for wind stations"]
["Improved Wind Rose Selections. Defined table for each state and collection of states."]
["3-30-14: Cleaned up Wind worksheet."]
["3-31-14: Corrected name errors in inputs worksheet."]
["4-1-14: Ran macro to list the named ranges which produced a new worksheet called NamedRanges2. Ran first two macros which take you to Excel to KLM and GPS Visualizer web sites."]
["4-1-14: Talked to Mike Schutz about dairy manure management.  Need to fix error with abatement and harmonize manure factors among species."]
["4-2-14: Assigned table names to layer worksheet. Need to add layers to odor emission rates"]
["4-3-14: Fixed odor flag column in \"Model\" to include layer abatement tables.  Fixed errors in \"Model\" and added check for wrong Source.  Need to fix column K in SrcFactors, works for swine."]
["4-3-14: Figured out how to color a cell that has the wrong selection in it.  "]
["4-4-14: Finished adding layers to the model. Troubleshooting next. "]
["4-5-14: Added conditional formatting to turn cells red with wrong inputs for source, removal and dilution columns.  Copied this section of model to srcfactors worksheet.  Added false to vlookups"]
["4-5-14: Added dairy and layer removal factors to the removal and dilution factor column in scrcfactors."]
["4-5-14: Add \"false\" to vlookups and removed letters a, b, c from selection lists."]
["4-6-14: Fixed abatement selection error.  Added wind frequency from station on Model worksheet.  Need to finish final look of wind frequency."]
["6-10-14: Finished adding broilers to the model and changed layers to poultry.  "]
["6-12-14: Linked to Google Earth Online Longitude and Latitude finder.",40.576900999999999,-86.602270000000004]
["6-15-14: Finished compr worksheet to compare IA, IL, MDS-II, NSW and OFFSET models from their respective worksheets.  Also inserted a nice graph."]
["6-15-14: Added powerexpo named variable and put input on cmpr worksheet."]
["6-15-14: Settled on high rise layer emission of 0.098 (with pit fans)."]
["6-16-14: Studied Daylay data and concluded that belt houses do not reduce emissions very much."]
["6-16-14: Need to fix the standard circle.  It is messed up on Google Earth.  Figures worksheet looks ok.  Done."]
["6-16-14: Need to include layers in the AU calculator.  Done.  Also make standard circle from edges of farm rather than center?  Not now."]
["6-17-14: Presented to Jay County Manure Forum including Mike Veenhuizen and Andy Tauer. Error when saving scenario21.  Fixed."]
["6-18-14: Fixed and significantly improved the AU calculator. "]
["6-19-14: Fixed toggle switches for the MDS that didn't work at the 6-17 meeting because they weren't there.  "]
["6-20-14: Recovered working Maps CommandButton from model saved prior to meeting … had to redo the AU calculator.  Also fixd the toggle switches for the MDS again."]
["6-20-14: Contemplated revising standard circle to be a standard setback (polygon) but decided not to for now. "]
["6-21-14: Revamped the Model worksheet."]
["6-22-14: Fixed plotting errors."]
["     For a circular source, the source setback is based on the circle whereas the site setback is based on the rectangle.  Need to make them the same I think, but how?"]
["     http://www.techrepublic.com/blog/microsoft-office/two-ways-to-build-dynamic-charts-in-excel/ shows how to have dynamic ranges but that is not useful to me."]
["     Trying to figure out how to keep the charts from plotting zeros when the formula gives a \"\" for the cell.  Solution was to use NA() instead of \"\" because it won't plot NA() as zero."]
["     The solution was found at:  http://stackoverflow.com/questions/15013911/creating-a-chart-in-excel-that-ignores-n-a-or-blank-cells"]
["6-23-14: Rewrote \"Maps\" worksheet.  Still need to figure out how to let the user determine the folder.  Found this from web:"]
["Cell that contains Output folder"]
["    FPath = Range(\"F31\").Value"]
["'Cell that contains the name"]
["    ThisFile = Range(\"D2\").Value"]
["'Save"]
["    ActiveWorkbook.SaveAs filename:=FPath & \"\\\" & ThisFile"]
["This is the CommandButton1 now:"]
["Private Sub CommandButton1_Click()"]
["'Declare Variables"]
["Dim wbNew As Workbook, wbCur As Workbook"]
["'select sheet"]
["Sheets(\"GEPoints\").Select"]
["'Make PurdueSetback Active spreadsheet"]
["Set wbCur = ActiveWorkbook"]
["'Copies GE Points worksheet"]
["ThisWorkbook.Worksheets(\"GEPoints\").Copy"]
["'Save the new GEPoints spreadsheet and close"]
["ActiveWorkbook.SaveAs Range(\"B5\")  ….. ActiveWorkbook.SaveAs Filename:=Range(\"B5\").Value did not work but ActiveWorkbook.SaveAs Range(\"B5\").Value does work."]
["ActiveWorkbook.Close"]
["'Go back to PurdueSetback and make \"Maps\" the current worksheet"]
["Set wbCur = ActiveWorkbook"]
["ThisWorkbook.Worksheets(\"Maps\").Select"]
["Also this:"]
["strPath = \"c:\\\""]
["ActiveWorkbook.SaveAs Filename:=strPath & Range(\"A1\").Value"]
[]
[]
["ActiveWorkbook.SaveAs Filename:=Range(\"A1\").Value"]
["You may also need to qualify the range with its worksheet, eg: Filename:=ThisWorkbook.Worksheets(\"Sheet1\").Range(\"A1\").Value"]
[]
["ActiveWorkbook.SaveAs FileName:=CurrentPath & \"\\\" & NewFileName & Format(Now, \" - hh.mm.ss_mm-dd-yy\") & \".xls\",FileFormat:=xlWorkbookNormal"]
[]
["Private Sub CommandButton1_Click()"]
["    Const Folder As String = \"q:visidata\""]
["    Dim FileName As String"]
["    Dim LastCell As String"]
["    FileName = Folder & ThisWorkbook.Worksheets(\"Sheet1\").Range(\"A1\").Value"]
["    LastCell = ThisWorkbook.Worksheets(\"Sheet1\").Range(\"K65536\").End(xlUp).Address"]
["    ThisWorkbook.Worksheets(\"Sheet1\").Range(\"C1:\" & LastCell).Copy"]
["    Workbooks.Add"]
["    ActiveCell.PasteSpecial (xlValues)"]
["    Application.DisplayAlerts = False"]
["    ActiveWorkbook.SaveAs FileName:=FileName, FileFormat:=xlCSV"]
["    ActiveWorkbook.Close Savechanges:=False"]
["    Application.DisplayAlerts = True"]
["End Sub"]
[]
["Dim part1 As String"]
["Dim part2 As String"]
["part1 = Range(\"C5\").Value"]
["part2 = Range(\"C8\").Value"]
["ActiveWorkbook.SaveAs Filename:= _"]
["\"C:\\-docs\\cmat\\Desktop\\pieteikumi\\\" & part1 & \" \" & part2 & \".xlsm\""]
[]
["6-23-14:  http://peltiertech.com/Excel/Charts/SquareGrid.html might be a way to force x and y to have the same range so as to force proper scaling of the maps."]
["6-23-14:  Maybe add the lagoon design spreadsheet?"]
["6-23-14:  See comment in L12 of Plotdata to see solution to disagreement between plotted setbacks when there is one circular source."]
["6-23-14: Have not compared manure storages from other models."]
["7-27-14: Reformatted the front page (Model) a bit."]
["7-28-14: Introduced conditional formatting to directional wind frequencies used in setback calculations - turns red if there is an error."]
["7-28-14: Introduced conditional formatting to manure management options - turns red if manure storage because they don't apply. Modified chks in SrcFactors."]
["Make the model more user-friendly with a guestbook for comments, links to sponsor/related Indiana organizations"]
["7-29-14: Added links to Information page. Need to add manual to that page as well."]
["7-30-14: Need to fix the dairy storage abatement factors."]
["4-22-15: Need to move data validations for ws from ListFlags to Wind.  Done for Illinois."]
["4-22-15: Modified the frequency factor slope from 0.75+1*f/100 to 0.635+2*f/100 which keeps the overall averaqe the same as before."]
["5-6-15: Found lat long for Indiana sites and guessed it was at Peru Airport"]
["5-6-15: Calculate distance to nearest weather station is complete but need lat long for external WS"]
["5-6-15: Finds nearest weather station - Indiana only for now since lat long not found yet for other states."]
["6-23-15: Troubleshot prior to posting on web.  Removed blank choices in some pull down menus, which cause N/A for setbacks."]
["6-23-15: Modified names of states and cities to Wind worksheet and deleted duplications from ListFlags worksheet."]
[]
[]
[]
[]
["Meeting with ISA"]
["   Maybe remove all the abatement options if only biofilter is listed.  Rather keep the % and give some guidances for various options."]
["   Most new layer houses are going up as belt houses."]
["   Annotate the figures chart to show what each curve is."]
["   Finish layers."]
["   Add more wind sites"]
[]
["Ideas"]
["  Calculate how far away the weather stations"]
["  Create default manure management options or give an error if nothing entered when it is needed, e.g. swine"]
["  Calculate wind exposure angle effects"]
["  Account for directions other than strictly N:S and E:W"]
["  Add 20% for separate source to check overlaps per Victory code."]
["  Test for 1/2 distance to nearest receptor and compare to separation between facilities to determine whether they should be considered separately or together."]
["  See formulas in Balog Agribusiness Report by I Farran.pdf for broiler emissions vs. temperature and broiler age."]
["  Prevent user from mixing layer and broiler settings under poultry?"]
["  Add abatement technologies for broilers (trees, litter amendments, biofilters, mortalities?)"]
["  Need to fix site locator"]
["  Ask for county to make it easier for user to get the nearest weather station."]
["  Need to add land application window"]
["  Check manure storage against other setbacks."]
["  With a guestbook for comments, links to sponsor/related Indiana organizations"]
["  Need to fix the dairy storage abatement factors."]
[]
[]
["Observations"]
["  Comparing PU with OFFSET reveals that the land use effect is vary narrow for PU compared with OFFSET meaning that our assignements of odor free % was quite arbitrary."]
["  OFFSET:  They found atmospheric conditions that correspond to the 75 OEN/m3 concentration but arbitrarily assigned percentages to those conditions?"]
["  OFFSET: 99% is <1.3 m/s F, 98% is < 3.1 m/s 98%, 97% is <3.1 m/s E, 96% is <5.4 m/s E, 94% is <5.4 m/s D, and 91% is < 8.0 m/s D."]
["  OFFSET:  \"The odor-annoyance-free frequencies in various directions fro these six weather conditions can be determined by the windstar chart of the area of interest.\""]
["  OFFSET: They looked at the 1984-1992 data from six weather stations in Minnesota to see what percentage times these weather conditions occurred.  "]
["  OFFSET: \"Six stable or neutral weather conditions that favor odor transport were identified, and their historical occurrence frequencies in or for all 16 directions at "]
["    six weather stations in MN were obtained. The occurrence frequencies of these weather conditions were used to determine odor occurrence frequencies.\""]
["         OK, so the 99% weather condition occurs 1% of the time in all directions but it does not occur that often in any given direction to a given receptor."]
["         OK, if the 99% weather condition occurs 0.1% of the time toward a given neighber, will that neighbor be odor-free 99.9% of the time?"]
["  OFFSET: What about stability F with wind > 3.1 m/s?  Would you have missed some occurrences because you cut off >3.1%"]
["  OFFSET:  This is huge. Variation was not considered.  Hourly emissions vs. constant year round value. Maximum odor would coincide with more frequent weather conditions that could cause more occurrences."]
["  OFFSET: The scaling factor of 35 was used on the odor emission rates to obtain model results = to the measured results. Field used 1-5 intensity no wonder."]
["  OFFSET:  The occurrence was based on 22.5 degree wind angles.  Wind exposure angles less than 22.5 would mean less occurrence of odor."]
["  OFFSET:  Based on annual frequency without considering odor in summer."]
["  OFFSET:  Based on the worst case direction and applied to all directions."]
["  OFFSET:  If a fudge factor was applied to the odor emission rates, then why measure them? "]
[]
[]
["  Purdue Guideline: Experience-based setback guideline based on baseline odor emission data and study of existing setback guidelines"]
["  To be used by land-use planners, animal producers, and concerned rural residents."]
[]
["What the User Sees:"]
[]
["Model Worksheet"]
["   All the inputs go in this worksheet."]
["   Need to lock the manure dilution and removal factor entries when lagoon is selected."]
[]
["SWINE INPUTS in SWINE Worksheet"]
["   Pop lists for swine type, manure dilution ratio, manure removal frequency, and abatement methods for barns and storages"]
["   Are some of these lists used for other species - will find out."]
[]
[]
["Warren Spring formula"]
["The derived empirical formula (Eq. 3) relating the maximum"]
["setback distance (Dmax, meters) from the source within which"]
["complaints were likely due to the odour emission E (OU/s) is"]
["(Williams and Thompson 1986):"]
["Dmax ( E) (3)"]
[". = 2.2 0 6"]
["The estimated range of uncertainty in the maximum setback"]
["distance was (0.7 E)0.6 to (7 E)0.6."]
[]
["http://www.extendoffice.com/documents/excel/1532-excel-hide-unhide-named-ranges.html"]
["VBA: Display all named ranges in Excel"]
[1,"<strong>Sub ShowNames()"]
[2,"'Update 20140318"]
[3,"Dim xName As Name"]
[4,"For Each xName In Application.ActiveWorkbook.Names"]
[5,"    xName.Visible = True"]
[6,"Next"]
[7,"End Sub"]
[8,"</strong>"]
[]
["VBA: Hide all named ranges in Excel"]
[1,"<strong>Sub HideNames()"]
[2,"'Update 20140318"]
[3,"Dim xName As Name"]
[4,"For Each xName In Application.ActiveWorkbook.Names"]
[5,"    xName.Visible = False"]
[6,"Next"]
[7,"End Sub"]
[8,"</strong>"]

{"sheet":"SrcFactors","index":12,"n_rows":18,"n_cols":102,"rows_kept":18,"cut":false,"hidden":true,"merged":[]}
[null,null,null,null,null,null,null,null,"=IF(ISTEXT(VLOOKUP(s2dil,INDIRECT(s2mandil),1,\"FALSE\")),\"OK\",\"Wrong\")",null,null,null,null,null,null,null,null,null,null,null,null,"=IF(SrcFactors!AK6=\"SBARN\",VLOOKUP(s1dil,DRTable,2,\"false\"),\"\")",null,null,null,null,null,null,null,null,null,null,null,null,null,null,null,null,null,null,{"$f":"VLOOKUP(s4source,SWINETABLE,2,\"false\")","v":{"$error":"#N/A"}},null,null,null,null,null,null,null,null,null,null,null,null,null,null,null,null,null,null,null,null,null,null,null,null,null,null,null,null,null,null,null,null,null,null,null,null,null,null,null,null,"=IF(s1plot=\"NO\",NA(),IF(s1shape=rectangle_shape,SrcFactors!CE9+I5,IF(s1shape=circle_shape,Circ!C11+I5,NA())))"]
[]
[null,"[snname]","[sntype]","[snsource]",null,"[snrmvl]",null,"[sndil]",null,"[snnumber]","s1shape","s1SWy","s1SWx","s1ORNT","s1L","s1W","s1rad","s1plot",null,"[snrate]","[snemsn]","[snrmvlfctr]","[snrmvlfctr]","[snt1fctr]","[snt2fctr]","[snt3fctr]","[snofctr]",null,null,null,null,null,null,null,null,null,null,null,null,"SOURCE-SPECIFIC VALUES FOR SELECTED SWINE INPUTS",null,null,null,null,null,null,null,null,null,null,null,"SOURCE-SPECIFIC VALUES FOR SELECTED DAIRY INPUTS",null,null,null,null,null,null,null,null,null,null,null,"SOURCE-SPECIFIC VALUES FOR SELECTED POULTRY INPUTS"]
["FACTORS (COPIED FROM MODEL PAGE)",null,null,null,null,null,null,null,null,null,null,null,null,null,null,null,null,null,null,null,null,null,null,"ODOR ABATEMENT",null,null,null,null,"COM DISTANCES, ft",null,null,"Selection Lists",null,"EMISSION SOURCE PLOTTING",null,null,null,"d-SHAPE FCTR","HYPOTENUSE","EMISSION FACTORS",null,null,"TECHNIQUE 1",null,null,"TECHNIQUE 2",null,null,"TECHNIQUE 3",null,null,"EMISSION FACTORS",null,null,"TECHNIQUE 1",null,null,"TECHNIQUE 2",null,null,"TECHNIQUE 3",null,null,"EMISSION FACTORS",null,null,"TECHNIQUE 1",null,null,"TECHNIQUE 2",null,null,"TECHNIQUE 3",null,null,"SOURCE","ABATEMENT"]
["Source","Name","Type","Source","Chk","Removal","Chk","Dilution","Chk","#/AU","SHAPE","N Dist, ft","E Dist, ft","Ornt.","Len, ft","Wid, ft","Rad, ft","Plot?","In Dir","Std Rate","Emissions (OU/s)","Removal Factor","Dilution Factor","T 1","T 2","T 3","T Oth","Abate Factor","Shape","N","E","Manure Removal","Manure Dilution","SWx?","Shape","N Cgeo","E Cgeo",null,"(from ref pt)","SOURCE","FACTOR","TYPE","BARN ","STORAGE ","TOTAL1","BARN ","STORAGE ","TOTAL2","BARN ","STORAGE ","TOTAL 3","SOURCE","FACTOR","TYPE","BARN ","STORAGE ","TOTAL1","BARN ","STORAGE ","TOTAL2","BARN ","STORAGE ","TOTAL 3","SOURCE","FACTOR","TYPE","BARN ","STORAGE ","TOTAL1","BARN ","STORAGE ","TOTAL2","BARN ","STORAGE ","TOTAL 3","TYPE","TABLE NAMES",null,"E-W Scale Factor",1,null,"EMISSION SOURCE PLOTTING DATA (IF RECTANGULAR SHAPE, IF CIRCULAR, PLOTTING DATA COMES FROM WORKSHEET \"Circ\")"]
["S1",{"$f":"Model!A29","v":""},{"$f":"Model!B29","v":0},{"$f":"Model!C29","v":0},{"$f":"IF(ISTEXT(VLOOKUP(s1source,INDIRECT(s1type),1,\"FALSE\")),\"OK\",\"Wrong\")","v":"Wrong"},{"$f":"Model!E29","v":0},{"$f":"IF(D6=\"Manure Storage\",\"Wrong\",IF(ISTEXT(VLOOKUP(F6,INDIRECT(s1manrmv),1,\"FALSE\")),\"OK\",\"Wrong\"))","v":"Wrong"},{"$f":"Model!F29","v":0},{"$f":"IF(D6=\"Manure Storage\",\"Wrong\",IF(ISTEXT(VLOOKUP(H6,INDIRECT(s1mandil),1,\"FALSE\")),\"OK\",\"Wrong\"))","v":"Wrong"},{"$f":"Model!D29","v":0},{"$f":"Model!B15","v":0},{"$f":"Model!C15","v":0},{"$f":"Model!D15","v":0},{"$f":"Model!E15","v":0},{"$f":"Model!F15","v":0},{"$f":"Model!G15","v":0},{"$f":"Model!H15","v":0},{"$f":"Model!G29","v":0},{"$f":"IF(s1ORNT=\"N : S\",\"North\",IF(s1ORNT=\"E : W\",\"East\",\"\"))","v":""},{"$f":"IF(OR(SrcFactors!AP6=\"SBARN\",SrcFactors!AP6=\"SMAN\"),SrcFactors!AO6,IF(OR(SrcFactors!BB6=\"DBARN\",SrcFactors!BB6=\"DMAN\"),SrcFactors!BA6,IF(OR(SrcFactors!BN6=\"LBARN\",SrcFactors!BN6=\"LMAN\"),SrcFactors!BM6,\"\")))","v":""},{"$f":"IF(s1rate=\"\",\"\",IF(s1rate=\"N/A\",\"N/A\",IF(s1rate=\"SOURCE ERROR\",\"CALC ERROR\",s1rate*s1number)))","v":""},{"$f":"IF(SrcFactors!BX6=\"SBARN\",VLOOKUP(s1rmvl,MRTable,2,\"FALSE\"),IF(SrcFactors!BX6=\"DBARN\",VLOOKUP(s1rmvl,DAIRYMRTABLE,2,\"FALSE\"),IF(SrcFactors!BX6=\"LBARN\",VLOOKUP(s1rmvl,LAYERSMRTABLE,2,\"FALSE\"),\"\")))","v":""},{"$f":"IF(SrcFactors!BX6=\"SBARN\",VLOOKUP(s1dil,DRTable,2,\"FALSE\"),IF(SrcFactors!BX6=\"DBARN\",VLOOKUP(s1dil,DAIRYDRTABLE,2,\"FALSE\"),IF(SrcFactors!BX6=\"LBARN\",VLOOKUP(s1dil,layerdrtable,2,\"FALSE\"),\"\")))","v":""},{"$f":"IF(OR(BY6=\"Sbabe\",BY6=\"Smabe\"),SrcFactors!AS6,IF(OR(BY6=\"dairysbabe\",BY6=\"dairysmabe\"),SrcFactors!BE6,IF(OR(BY6=\"layerssbabe\",BY6=\"layersmbabe\"),SrcFactors!BQ6,\"\")))","v":""},{"$f":"IF(OR(BY6=\"Sbabe\",BY6=\"Smabe\"),SrcFactors!AV6,IF(OR(BY6=\"dairysbabe\",BY6=\"dairysmabe\"),SrcFactors!BH6,IF(OR(BY6=\"layerssbabe\",BY6=\"layersmbabe\"),SrcFactors!BT6,\"\")))","v":""},{"$f":"IF(OR(BY6=\"Sbabe\",BY6=\"Smabe\"),SrcFactors!AY6,IF(OR(BY6=\"dairysbabe\",BY6=\"dairysmabe\"),SrcFactors!BK6,IF(OR(BY6=\"layerssbabe\",BY6=\"layersmbabe\"),SrcFactors!BW6,\"\")))","v":""},{"$f":"IF(s1other=\"\",\"\",(100-s1other)/100)","v":""},{"$f":"IF(AND(s1t1=\"\",s1t2=\"\",s1t3=\"\",s1other=\"\"),\"\",IF(ISTEXT(s1t1),s1t1fctr,1)*IF(ISTEXT(s1t2),s1t2fctr,1)*IF(ISTEXT(s1t3),s1t3fctr,1)*IF(ISNUMBER(s1other),s1ofctr,1))","v":""},{"$f":"IF(s1shape=\"\",\"\",s1shape)","v":""},{"$f":"IF(AC6=rectangle_shape,SrcFactors!AJ6,IF(AC6=circle_shape,Circ!D5,IF(AC6=Blank_shape,0)))","v":0},{"$f":"IF(AC6=rectangle_shape,SrcFactors!AK6,IF(AC6=circle_shape,Circ!D6,IF(AC6=Blank_shape,0)))","v":0},{"$f":"VLOOKUP(s1type,ManFLagTable,2,\"false\")","v":{"$error":"#N/A"}},{"$f":"VLOOKUP(s1type,ManFLagTable,3,\"false\")","v":{"$error":"#N/A"}},{"$f":"ISNUMBER(s1SWy)","v":false},{"$f":"IF(s1shape=\"\",\"\",s1shape)","v":""},{"$f":"IF(CE9=\"\",0,(((CE9-CE8)/2)+CE8))","v":{"$error":"#N/A"}},{"$f":"IF(CF10=\"\",0,(((CF10-CF9)/2)+CF9))","v":{"$error":"#N/A"}},{"$f":"IF(s1shape=rectangle_shape,IF(s1L=\"\",\"\",VLOOKUP(s1L/s1W,ShapeFactorTable,2,TRUE)),0)","v":0},{"$f":"IF(s1shape=\"circle\",\"\",IF(AH6=TRUE,\"\",SQRT(((CE10^2)+((CF10^2))))))","v":{"$error":"#N/A"}},"S1",{"$f":"IF(s1type=\"swine\",VLOOKUP(s1source,SWINETABLE,2,\"false\"),\"\")","v":""},{"$f":"IF(s1type=\"swine\",VLOOKUP(s1source,SWINETABLE,3,\"false\"),\"\")","v":""},{"$f":"IF(AND($AP6=\"sbarn\",ISTEXT(VLOOKUP(s1t1,BARNABATETABLE,1,\"false\"))),VLOOKUP(s1t1,BARNABATETABLE,2,\"false\")/100,\"\")","v":""},{"$f":"IF(AND($AP6=\"SMAN\",ISTEXT(VLOOKUP(s1t1,STORAGEABATETABLE,1,\"false\"))),VLOOKUP(s1t1,STORAGEABATETABLE,2,\"false\")/100,\"\")","v":""},{"$f":"IF(AND(AQ6=\"\",AR6=\"\"),\"\",IF(AQ6=\"\",AR6,AQ6))","v":""},{"$f":"IF(AND($AP6=\"sbarn\",ISTEXT(VLOOKUP(s1t2,BARNABATETABLE,1,\"false\"))),VLOOKUP(s1t2,BARNABATETABLE,2,\"false\")/100,\"\")","v":""},{"$f":"IF(AND($AP6=\"SMAN\",ISTEXT(VLOOKUP(s1t2,STORAGEABATETABLE,1,\"false\"))),VLOOKUP(s1t2,STORAGEABATETABLE,2,\"false\")/100,\"\")","v":""},{"$f":"IF(AND(AT6=\"\",AU6=\"\"),\"\",IF(AT6=\"\",AU6,AT6))","v":""},{"$f":"IF(AND($AP6=\"sbarn\",ISTEXT(VLOOKUP(s1t3,BARNABATETABLE,1,\"false\"))),VLOOKUP(s1t3,BARNABATETABLE,2,\"false\")/100,\"\")","v":""},{"$f":"IF(AND($AP6=\"SMAN\",ISTEXT(VLOOKUP(s1t3,STORAGEABATETABLE,1,\"false\"))),VLOOKUP(s1t3,STORAGEABATETABLE,2,\"false\")/100,\"\")","v":""},{"$f":"IF(AND(AW6=\"\",AX6=\"\"),\"\",IF(AW6=\"\",AX6,AW6))","v":""},"S1",{"$f":"IF(s1type=\"dairy\",VLOOKUP(s1source,DAIRYTABLE,2,\"false\"),\"\")","v":""},{"$f":"IF(s1type=\"dairy\",VLOOKUP(s1source,DAIRYTABLE,3,\"false\"),\"\")","v":""},{"$f":"IF(AND($BB6=\"DBARN\",ISTEXT(VLOOKUP(s1t1,DAIRYBARNABATETABLE,1,\"false\"))),VLOOKUP(s1t1,DAIRYBARNABATETABLE,2,\"false\")/100,\"\")","v":""},{"$f":"IF(AND($BB6=\"DMAN\",ISTEXT(VLOOKUP(s1t1,DAIRYSTORAGEABATETABLE,1,\"false\"))),VLOOKUP(s1t1,DAIRYSTORAGEABATETABLE,2,\"false\")/100,\"\")","v":""},{"$f":"IF(AND(BC6=\"\",BD6=\"\"),\"\",IF(BC6=\"\",BD6,BC6))","v":""},{"$f":"IF(AND($BB6=\"DBARN\",ISTEXT(VLOOKUP(s1t2,DAIRYBARNABATETABLE,1,\"false\"))),VLOOKUP(s1t2,DAIRYBARNABATETABLE,2,\"false\")/100,\"\")","v":""},{"$f":"IF(AND($BB6=\"DMAN\",ISTEXT(VLOOKUP(s1t2,DAIRYSTORAGEABATETABLE,1,\"false\"))),VLOOKUP(s1t2,DAIRYSTORAGEABATETABLE,2,\"false\")/100,\"\")","v":""},{"$f":"IF(AND(BF6=\"\",BG6=\"\"),\"\",IF(BF6=\"\",BG6,BF6))","v":""},{"$f":"IF(AND($BB6=\"DBARN\",ISTEXT(VLOOKUP(s1t3,DAIRYBARNABATETABLE,1,\"false\"))),VLOOKUP(s1t3,DAIRYBARNABATETABLE,2,\"false\")/100,\"\")","v":""},{"$f":"IF(AND($BB6=\"DMAN\",ISTEXT(VLOOKUP(s1t3,DAIRYSTORAGEABATETABLE,1,\"false\"))),VLOOKUP(s1t3,DAIRYSTORAGEABATETABLE,2,\"false\")/100,\"\")","v":""},{"$f":"IF(AND(BI6=\"\",BJ6=\"\"),\"\",IF(BI6=\"\",BJ6,BI6))","v":""},"S1",{"$f":"IF(s1type=\"poultry\",VLOOKUP(s1source,LAYERTABLE,2,\"false\"),\"\")","v":""},{"$f":"IF(s1type=\"poultry\",VLOOKUP(s1source,LAYERTABLE,3,\"false\"),\"\")","v":""},{"$f":"IF(AND($BN6=\"LBARN\",ISTEXT(VLOOKUP(s1t1,LAYERSBARNABATETABLE,1))),VLOOKUP(s1t1,LAYERSBARNABATETABLE,2,\"false\")/100,\"\")","v":""},{"$f":"IF(AND($BN6=\"LMAN\",ISTEXT(VLOOKUP(s1t1,layersstorageabatetable,1))),VLOOKUP(s1t1,layersstorageabatetable,2,\"false\")/100,\"\")","v":""},{"$f":"IF(AND(BO6=\"\",BP6=\"\"),\"\",IF(BO6=\"\",BP6,BO6))","v":""},{"$f":"IF(AND($BN6=\"LBARN\",ISTEXT(VLOOKUP(s1t2,LAYERSBARNABATETABLE,1))),VLOOKUP(s1t2,LAYERSBARNABATETABLE,2,\"false\")/100,\"\")","v":""},{"$f":"IF(AND($BN6=\"LMAN\",ISTEXT(VLOOKUP(s1t2,layersstorageabatetable,1))),VLOOKUP(s1t2,layersstorageabatetable,2,\"false\")/100,\"\")","v":""},{"$f":"IF(AND(BR6=\"\",BS6=\"\"),\"\",IF(BR6=\"\",BS6,BR6))","v":""},{"$f":"IF(AND($BN6=\"LBARN\",ISTEXT(VLOOKUP(s1t3,LAYERSBARNABATETABLE,1))),VLOOKUP(s1t3,LAYERSBARNABATETABLE,2,\"false\")/100,\"\")","v":""},{"$f":"IF(AND($BN6=\"LMAN\",ISTEXT(VLOOKUP(s1t3,layersstorageabatetable,1))),VLOOKUP(s1t3,layersstorageabatetable,2,\"false\")/100,\"\")","v":""},{"$f":"IF(AND(BU6=\"\",BV6=\"\"),\"\",IF(BU6=\"\",BV6,BU6))","v":""},{"$f":"IF(s1type=\"swine\",VLOOKUP(s1source,SWINETABLE,3,\"false\"),IF(s1type=\"dairy\",VLOOKUP(s1source,DAIRYTABLE,3,\"false\"),IF(s1type=\"poultry\",VLOOKUP(s1source,LAYERTABLE,3,\"false\"),\"\")))","v":""},{"$f":"IF(ISTEXT(VLOOKUP(SrcFactors!BX6,Abatementflag,2,\"false\")),VLOOKUP(SrcFactors!BX6,Abatementflag,2,\"false\"),\"\")","v":""},null,"Site hypotenuse",{"$f":"SQRT(((Plotdata!L7^2)+((Plotdata!M7^2))))","v":0},null,"Corners","S1","S1","S2","S2","S3","S3","S4","S4","S5","S5","S6","S6","S7","S7","S8","S8","S9","S9","S10","S10"]
["S2",{"$f":"Model!A30","v":""},{"$f":"Model!B30","v":0},{"$f":"Model!C30","v":0},{"$f":"IF(ISTEXT(VLOOKUP(s2source,INDIRECT(s2type),1,\"FALSE\")),\"OK\",\"Wrong\")","v":"Wrong"},{"$f":"Model!E30","v":0},{"$f":"IF(D7=\"Manure Storage\",\"Wrong\",IF(ISTEXT(VLOOKUP(F7,INDIRECT(s2manrmv),1,\"FALSE\")),\"OK\",\"Wrong\"))","v":"Wrong"},{"$f":"Model!F30","v":0},{"$f":"IF(D7=\"Manure Storage\",\"Wrong\",IF(ISTEXT(VLOOKUP(H7,INDIRECT(s2mandil),1,\"FALSE\")),\"OK\",\"Wrong\"))","v":"Wrong"},{"$f":"Model!D30","v":0},{"$f":"Model!B16","v":0},{"$f":"Model!C16","v":0},{"$f":"Model!D16","v":0},{"$f":"Model!E16","v":0},{"$f":"Model!F16","v":0},{"$f":"Model!G16","v":0},{"$f":"Model!H16","v":0},{"$f":"Model!G30","v":0},{"$f":"IF(s2ORNT=\"N : S\",\"North\",IF(s2ORNT=\"E : W\",\"East\",\"\"))","v":""},{"$f":"IF(OR(SrcFactors!AP7=\"SBARN\",SrcFactors!AP7=\"SMAN\"),SrcFactors!AO7,IF(OR(SrcFactors!BB7=\"DBARN\",SrcFactors!BB7=\"DMAN\"),SrcFactors!BA7,IF(OR(SrcFactors!BN7=\"LBARN\",SrcFactors!BN7=\"LMAN\"),SrcFactors!BM7,\"\")))","v":""},{"$f":"IF(s2rate=\"\",\"\",IF(s2rate=\"N/A\",\"N/A\",IF(s2rate=\"SOURCE ERROR\",\"CALC ERROR\",s2rate*s2number)))","v":""},{"$f":"IF(SrcFactors!BX7=\"SBARN\",VLOOKUP(s2rmvl,MRTable,2,\"FALSE\"),IF(SrcFactors!BX7=\"DBARN\",VLOOKUP(s2rmvl,DAIRYMRTABLE,2,\"FALSE\"),IF(SrcFactors!BX7=\"LBARN\",VLOOKUP(s2rmvl,LAYERSMRTABLE,2,\"FALSE\"),\"\")))","v":""},{"$f":"IF(SrcFactors!BX7=\"SBARN\",VLOOKUP(s2dil,DRTable,2,\"FALSE\"),IF(SrcFactors!BX7=\"DBARN\",VLOOKUP(s2dil,DAIRYDRTABLE,2,\"FALSE\"),IF(SrcFactors!BX7=\"LBARN\",VLOOKUP(s2dil,layerdrtable,2,\"FALSE\"),\"\")))","v":""},{"$f":"IF(OR(BY7=\"Sbabe\",BY7=\"Smabe\"),SrcFactors!AS7,IF(OR(BY7=\"dairysbabe\",BY7=\"dairysmabe\"),SrcFactors!BE7,IF(OR(BY7=\"layerssbabe\",BY7=\"layersmbabe\"),SrcFactors!BQ7,\"\")))","v":""},{"$f":"IF(OR(BY7=\"Sbabe\",BY7=\"Smabe\"),SrcFactors!AV7,IF(OR(BY7=\"dairysbabe\",BY7=\"dairysmabe\"),SrcFactors!BH7,IF(OR(BY7=\"layerssbabe\",BY7=\"layersmbabe\"),SrcFactors!BT7,\"\")))","v":""},{"$f":"IF(OR(BY7=\"Sbabe\",BY7=\"Smabe\"),SrcFactors!AY7,IF(OR(BY7=\"dairysbabe\",BY7=\"dairysmabe\"),SrcFactors!BK7,IF(OR(BY7=\"layerssbabe\",BY7=\"layersmbabe\"),SrcFactors!BW7,\"\")))","v":""},{"$f":"IF(s2other=\"\",\"\",(100-s2other)/100)","v":""},{"$f":"IF(AND(s2t1=\"\",s2t2=\"\",s2t3=\"\",s2other=\"\"),\"\",IF(ISTEXT(s2t1),s2t1fctr,1)*IF(ISTEXT(s2t2),s2t2fctr,1)*IF(ISTEXT(s2t3),s2t3fctr,1)*IF(ISNUMBER(s2other),s2ofctr,1))","v":""},{"$f":"IF(s2shape=\"\",\"\",s2shape)","v":""},{"$f":"IF(AC7=rectangle_shape,SrcFactors!AJ7,IF(AC7=circle_shape,Circ!I5,IF(AC7=Blank_shape,0)))","v":0},{"$f":"IF(AC7=rectangle_shape,SrcFactors!AK7,IF(AC7=circle_shape,Circ!I6,IF(AC7=Blank_shape,0)))","v":0},{"$f":"VLOOKUP(s2type,ManFLagTable,2,\"false\")","v":{"$error":"#N/A"}},{"$f":"VLOOKUP(s2type,ManFLagTable,3,\"false\")","v":{"$error":"#N/A"}},{"$f":"ISNUMBER(s2SWy)","v":false},{"$f":"IF(s2shape=\"\",\"\",s2shape)","v":""},{"$f":"IF(CG9=\"\",0,(((CG9-CG8)/2)+CG8))","v":{"$error":"#N/A"}},{"$f":"IF(CH10=\"\",0,(((CH10-CH9)/2)+CH9))","v":{"$error":"#N/A"}},{"$f":"IF(s2shape=rectangle_shape,IF(s2L=\"\",\"\",VLOOKUP(s2L/s2W,ShapeFactorTable,2,TRUE)),0)","v":0},{"$f":"IF(s2shape=\"circle\",\"\",IF(AH7=TRUE,\"\",SQRT(((CG10^2)+((CH10^2))))))","v":{"$error":"#N/A"}},"S2",{"$f":"IF(s2type=\"swine\",VLOOKUP(s2source,SWINETABLE,2,\"false\"),\"\")","v":""},{"$f":"IF(s2type=\"swine\",VLOOKUP(s2source,SWINETABLE,3,\"false\"),\"\")","v":""},{"$f":"IF(AND($AP7=\"sbarn\",ISTEXT(VLOOKUP(s2t1,BARNABATETABLE,1,\"false\"))),VLOOKUP(s2t1,BARNABATETABLE,2,\"false\")/100,\"\")","v":""},{"$f":"IF(AND($AP7=\"SMAN\",ISTEXT(VLOOKUP(s2t1,STORAGEABATETABLE,1,\"false\"))),VLOOKUP(s2t1,STORAGEABATETABLE,2,\"false\")/100,\"\")","v":""},"",{"$f":"IF(AND($AP7=\"sbarn\",ISTEXT(VLOOKUP(s2t2,BARNABATETABLE,1,\"false\"))),VLOOKUP(s2t2,BARNABATETABLE,2,\"false\")/100,\"\")","v":""},{"$f":"IF(AND($AP7=\"SMAN\",ISTEXT(VLOOKUP(s2t2,STORAGEABATETABLE,1,\"false\"))),VLOOKUP(s2t2,STORAGEABATETABLE,2,\"false\")/100,\"\")","v":""},"",{"$f":"IF(AND($AP7=\"sbarn\",ISTEXT(VLOOKUP(s2t3,BARNABATETABLE,1,\"false\"))),VLOOKUP(s2t3,BARNABATETABLE,2,\"false\")/100,\"\")","v":""},{"$f":"IF(AND($AP7=\"SMAN\",ISTEXT(VLOOKUP(s2t3,STORAGEABATETABLE,1,\"false\"))),VLOOKUP(s2t3,STORAGEABATETABLE,2,\"false\")/100,\"\")","v":""},"","S2",{"$f":"IF(s2type=\"dairy\",VLOOKUP(s2source,DAIRYTABLE,2,\"false\"),\"\")","v":""},{"$f":"IF(s2type=\"dairy\",VLOOKUP(s2source,DAIRYTABLE,3,\"false\"),\"\")","v":""},{"$f":"IF(AND($BB7=\"DBARN\",ISTEXT(VLOOKUP(s2t1,DAIRYBARNABATETABLE,1,\"false\"))),VLOOKUP(s2t1,DAIRYBARNABATETABLE,2,\"false\")/100,\"\")","v":""},{"$f":"IF(AND($BB7=\"DMAN\",ISTEXT(VLOOKUP(s2t1,DAIRYSTORAGEABATETABLE,1,\"false\"))),VLOOKUP(s2t1,DAIRYSTORAGEABATETABLE,2,\"false\")/100,\"\")","v":""},{"$f":"IF(AND(BC7=\"\",BD7=\"\"),\"\",IF(BC7=\"\",BD7,BC7))","v":""},{"$f":"IF(AND($BB7=\"DBARN\",ISTEXT(VLOOKUP(s2t2,DAIRYBARNABATETABLE,1,\"false\"))),VLOOKUP(s2t2,DAIRYBARNABATETABLE,2,\"false\")/100,\"\")","v":""},{"$f":"IF(AND($BB7=\"DMAN\",ISTEXT(VLOOKUP(s2t2,DAIRYSTORAGEABATETABLE,1,\"false\"))),VLOOKUP(s2t2,DAIRYSTORAGEABATETABLE,2,\"false\")/100,\"\")","v":""},"",{"$f":"IF(AND($BB7=\"DBARN\",ISTEXT(VLOOKUP(s2t3,DAIRYBARNABATETABLE,1,\"false\"))),VLOOKUP(s2t3,DAIRYBARNABATETABLE,2,\"false\")/100,\"\")","v":""},{"$f":"IF(AND($BB7=\"DMAN\",ISTEXT(VLOOKUP(s2t3,DAIRYSTORAGEABATETABLE,1,\"false\"))),VLOOKUP(s2t3,DAIRYSTORAGEABATETABLE,2,\"false\")/100,\"\")","v":""},"","S2",{"$f":"IF(s2type=\"poultry\",VLOOKUP(s2source,LAYERTABLE,2,\"false\"),\"\")","v":""},{"$f":"IF(s2type=\"poultry\",VLOOKUP(s2source,LAYERTABLE,3,\"false\"),\"\")","v":""},{"$f":"IF(AND($BN7=\"LBARN\",ISTEXT(VLOOKUP(s2t1,LAYERSBARNABATETABLE,1))),VLOOKUP(s2t1,LAYERSBARNABATETABLE,2,\"false\")/100,\"\")","v":""},{"$f":"IF(AND($BN7=\"LMAN\",ISTEXT(VLOOKUP(s2t1,layersstorageabatetable,1))),VLOOKUP(s2t1,layersstorageabatetable,2,\"false\")/100,\"\")","v":""},"",{"$f":"IF(AND($BN7=\"LBARN\",ISTEXT(VLOOKUP(s2t2,LAYERSBARNABATETABLE,1))),VLOOKUP(s2t2,LAYERSBARNABATETABLE,2,\"false\")/100,\"\")","v":""},{"$f":"IF(AND($BN7=\"LMAN\",ISTEXT(VLOOKUP(s2t2,layersstorageabatetable,1))),VLOOKUP(s2t2,layersstorageabatetable,2,\"false\")/100,\"\")","v":""},"",{"$f":"IF(AND($BN7=\"LBARN\",ISTEXT(VLOOKUP(s2t3,LAYERSBARNABATETABLE,1))),VLOOKUP(s2t3,LAYERSBARNABATETABLE,2,\"false\")/100,\"\")","v":""},{"$f":"IF(AND($BN7=\"LMAN\",ISTEXT(VLOOKUP(s2t3,layersstorageabatetable,1))),VLOOKUP(s2t3,layersstorageabatetable,2,\"false\")/100,\"\")","v":""},"",{"$f":"IF(s2type=\"swine\",VLOOKUP(s2source,SWINETABLE,3,\"false\"),IF(s2type=\"dairy\",VLOOKUP(s2source,DAIRYTABLE,3,\"false\"),IF(s2type=\"poultry\",VLOOKUP(s2source,LAYERTABLE,3,\"false\"),\"\")))","v":""},{"$f":"IF(ISTEXT(VLOOKUP(SrcFactors!BX7,Abatementflag,2,\"false\")),VLOOKUP(SrcFactors!BX7,Abatementflag,2,\"false\"),\"\")","v":""},null,"Hypotenuse/2 =",{"$f":"CB6/2","v":0},null,null,"N-DIR","E-DIR","N-DIR","E-DIR","N-DIR","E-DIR","N-DIR","E-DIR","N-DIR","E-DIR","N-DIR","E-DIR","N-DIR","E-DIR","N-DIR","E-DIR","N-DIR","E-DIR","N-DIR","E-DIR"]
["S3",{"$f":"Model!A31","v":""},{"$f":"Model!B31","v":0},{"$f":"Model!C31","v":0},{"$f":"IF(ISTEXT(VLOOKUP(s3source,INDIRECT(s3type),1,\"FALSE\")),\"OK\",\"Wrong\")","v":"Wrong"},{"$f":"Model!E31","v":0},{"$f":"IF(D8=\"Manure Storage\",\"Wrong\",IF(ISTEXT(VLOOKUP(F8,INDIRECT(s3manrmv),1,\"FALSE\")),\"OK\",\"Wrong\"))","v":"Wrong"},{"$f":"Model!F31","v":0},{"$f":"IF(D8=\"Manure Storage\",\"Wrong\",IF(ISTEXT(VLOOKUP(H8,INDIRECT(s3mandil),1,\"FALSE\")),\"OK\",\"Wrong\"))","v":"Wrong"},{"$f":"Model!D31","v":0},{"$f":"Model!B17","v":0},{"$f":"Model!C17","v":0},{"$f":"Model!D17","v":0},{"$f":"Model!E17","v":0},{"$f":"Model!F17","v":0},{"$f":"Model!G17","v":0},{"$f":"Model!H17","v":0},{"$f":"Model!G31","v":0},{"$f":"IF(s3ORNT=\"N : S\",\"North\",IF(s3ORNT=\"E : W\",\"East\",\"\"))","v":""},{"$f":"IF(OR(SrcFactors!AP8=\"SBARN\",SrcFactors!AP8=\"SMAN\"),SrcFactors!AO8,IF(OR(SrcFactors!BB8=\"DBARN\",SrcFactors!BB8=\"DMAN\"),SrcFactors!BA8,IF(OR(SrcFactors!BN8=\"LBARN\",SrcFactors!BN8=\"LMAN\"),SrcFactors!BM8,\"\")))","v":""},{"$f":"IF(s3rate=\"\",\"\",IF(s3rate=\"N/A\",\"N/A\",IF(s3rate=\"SOURCE ERROR\",\"CALC ERROR\",s3rate*s3number)))","v":""},{"$f":"IF(SrcFactors!BX8=\"SBARN\",VLOOKUP(s3rmvl,MRTable,2,\"FALSE\"),IF(SrcFactors!BX8=\"DBARN\",VLOOKUP(s3rmvl,DAIRYMRTABLE,2,\"FALSE\"),IF(SrcFactors!BX8=\"LBARN\",VLOOKUP(s3rmvl,LAYERSMRTABLE,2,\"FALSE\"),\"\")))","v":""},{"$f":"IF(SrcFactors!BX8=\"SBARN\",VLOOKUP(s3dil,DRTable,2,\"FALSE\"),IF(SrcFactors!BX8=\"DBARN\",VLOOKUP(s3dil,DAIRYDRTABLE,2,\"FALSE\"),IF(SrcFactors!BX8=\"LBARN\",VLOOKUP(s3dil,layerdrtable,2,\"FALSE\"),\"\")))","v":""},{"$f":"IF(OR(BY8=\"Sbabe\",BY8=\"Smabe\"),SrcFactors!AS8,IF(OR(BY8=\"dairysbabe\",BY8=\"dairysmabe\"),SrcFactors!BE8,IF(OR(BY8=\"layerssbabe\",BY8=\"layersmbabe\"),SrcFactors!BQ8,\"\")))","v":""},{"$f":"IF(OR(BY8=\"Sbabe\",BY8=\"Smabe\"),SrcFactors!AV8,IF(OR(BY8=\"dairysbabe\",BY8=\"dairysmabe\"),SrcFactors!BH8,IF(OR(BY8=\"layerssbabe\",BY8=\"layersmbabe\"),SrcFactors!BT8,\"\")))","v":""},{"$f":"IF(OR(BY8=\"Sbabe\",BY8=\"Smabe\"),SrcFactors!AY8,IF(OR(BY8=\"dairysbabe\",BY8=\"dairysmabe\"),SrcFactors!BK8,IF(OR(BY8=\"layerssbabe\",BY8=\"layersmbabe\"),SrcFactors!BW8,\"\")))","v":""},{"$f":"IF(s3other=\"\",\"\",(100-s3other)/100)","v":""},{"$f":"IF(AND(s3t1=\"\",s3t2=\"\",s3t3=\"\",s3other=\"\"),\"\",IF(ISTEXT(s3t1),s3t1fctr,1)*IF(ISTEXT(s3t2),s3t2fctr,1)*IF(ISTEXT(s3t3),s3t3fctr,1)*IF(ISNUMBER(s3other),s3ofctr,1))","v":""},{"$f":"IF(s3shape=\"\",\"\",s3shape)","v":""},{"$f":"IF(AC8=rectangle_shape,SrcFactors!AJ8,IF(AC8=circle_shape,Circ!M5,IF(AC8=Blank_shape,0)))","v":0},{"$f":"IF(AC8=rectangle_shape,SrcFactors!AK8,IF(AC8=circle_shape,Circ!M6,IF(AC8=Blank_shape,0)))","v":0},{"$f":"VLOOKUP(s3type,ManFLagTable,2,\"false\")","v":{"$error":"#N/A"}},{"$f":"VLOOKUP(s3type,ManFLagTable,3,\"false\")","v":{"$error":"#N/A"}},{"$f":"ISNUMBER(s3SWy)","v":false},{"$f":"IF(s3shape=\"\",\"\",s3shape)","v":""},{"$f":"IF(CI9=\"\",0,(((CI9-CI8)/2)+CI8))","v":{"$error":"#N/A"}},{"$f":"IF(CJ10=\"\",0,(((CJ10-CJ9)/2)+CJ9))","v":{"$error":"#N/A"}},{"$f":"IF(s3shape=rectangle_shape,IF(s3L=\"\",\"\",VLOOKUP(s3L/s3W,ShapeFactorTable,2,TRUE)),0)","v":0},{"$f":"IF(s3shape=\"circle\",\"\",IF(AH8=TRUE,\"\",SQRT(((CI10^2)+((CJ10^2))))))","v":{"$error":"#N/A"}},"S3",{"$f":"IF(s3type=\"swine\",VLOOKUP(s3source,SWINETABLE,2,\"false\"),\"\")","v":""},{"$f":"IF(s3type=\"swine\",VLOOKUP(s3source,SWINETABLE,3,\"false\"),\"\")","v":""},{"$f":"IF(AND($AP8=\"sbarn\",ISTEXT(VLOOKUP(s3t1,BARNABATETABLE,1,\"false\"))),VLOOKUP(s3t1,BARNABATETABLE,2,\"false\")/100,\"\")","v":""},{"$f":"IF(AND($AP8=\"SMAN\",ISTEXT(VLOOKUP(s3t1,STORAGEABATETABLE,1,\"false\"))),VLOOKUP(s3t1,STORAGEABATETABLE,2,\"false\")/100,\"\")","v":""},"",{"$f":"IF(AND($AP8=\"sbarn\",ISTEXT(VLOOKUP(s3t2,BARNABATETABLE,1,\"false\"))),VLOOKUP(s3t2,BARNABATETABLE,2,\"false\")/100,\"\")","v":""},{"$f":"IF(AND($AP8=\"SMAN\",ISTEXT(VLOOKUP(s3t2,STORAGEABATETABLE,1,\"false\"))),VLOOKUP(s3t2,STORAGEABATETABLE,2,\"false\")/100,\"\")","v":""},"",{"$f":"IF(AND($AP8=\"sbarn\",ISTEXT(VLOOKUP(s3t3,BARNABATETABLE,1,\"false\"))),VLOOKUP(s3t3,BARNABATETABLE,2,\"false\")/100,\"\")","v":""},{"$f":"IF(AND($AP8=\"SMAN\",ISTEXT(VLOOKUP(s3t3,STORAGEABATETABLE,1,\"false\"))),VLOOKUP(s3t3,STORAGEABATETABLE,2,\"false\")/100,\"\")","v":""},"","S3",{"$f":"IF(s3type=\"dairy\",VLOOKUP(s3source,DAIRYTABLE,2,\"false\"),\"\")","v":""},{"$f":"IF(s3type=\"dairy\",VLOOKUP(s3source,DAIRYTABLE,3,\"false\"),\"\")","v":""},{"$f":"IF(AND($BB8=\"DBARN\",ISTEXT(VLOOKUP(s3t1,DAIRYBARNABATETABLE,1,\"false\"))),VLOOKUP(s3t1,DAIRYBARNABATETABLE,2,\"false\")/100,\"\")","v":""},{"$f":"IF(AND($BB8=\"DMAN\",ISTEXT(VLOOKUP(s3t1,DAIRYSTORAGEABATETABLE,1,\"false\"))),VLOOKUP(s3t1,DAIRYSTORAGEABATETABLE,2,\"false\")/100,\"\")","v":""},"",{"$f":"IF(AND($BB8=\"DBARN\",ISTEXT(VLOOKUP(s3t2,DAIRYBARNABATETABLE,1,\"false\"))),VLOOKUP(s3t2,DAIRYBARNABATETABLE,2,\"false\")/100,\"\")","v":""},{"$f":"IF(AND($BB8=\"DMAN\",ISTEXT(VLOOKUP(s3t2,DAIRYSTORAGEABATETABLE,1,\"false\"))),VLOOKUP(s3t2,DAIRYSTORAGEABATETABLE,2,\"false\")/100,\"\")","v":""},"",{"$f":"IF(AND($BB8=\"DBARN\",ISTEXT(VLOOKUP(s3t3,DAIRYBARNABATETABLE,1,\"false\"))),VLOOKUP(s3t3,DAIRYBARNABATETABLE,2,\"false\")/100,\"\")","v":""},{"$f":"IF(AND($BB8=\"DMAN\",ISTEXT(VLOOKUP(s3t3,DAIRYSTORAGEABATETABLE,1,\"false\"))),VLOOKUP(s3t3,DAIRYSTORAGEABATETABLE,2,\"false\")/100,\"\")","v":""},"","S3",{"$f":"IF(s3type=\"poultry\",VLOOKUP(s3source,LAYERTABLE,2,\"false\"),\"\")","v":""},{"$f":"IF(s3type=\"poultry\",VLOOKUP(s3source,LAYERTABLE,3,\"false\"),\"\")","v":""},{"$f":"IF(AND($BN8=\"LBARN\",ISTEXT(VLOOKUP(s3t1,LAYERSBARNABATETABLE,1))),VLOOKUP(s3t1,LAYERSBARNABATETABLE,2,\"false\")/100,\"\")","v":""},{"$f":"IF(AND($BN8=\"LMAN\",ISTEXT(VLOOKUP(s3t1,layersstorageabatetable,1))),VLOOKUP(s3t1,layersstorageabatetable,2,\"false\")/100,\"\")","v":""},"",{"$f":"IF(AND($BN8=\"LBARN\",ISTEXT(VLOOKUP(s3t2,LAYERSBARNABATETABLE,1))),VLOOKUP(s3t2,LAYERSBARNABATETABLE,2,\"false\")/100,\"\")","v":""},{"$f":"IF(AND($BN8=\"LMAN\",ISTEXT(VLOOKUP(s3t2,layersstorageabatetable,1))),VLOOKUP(s3t2,layersstorageabatetable,2,\"false\")/100,\"\")","v":""},"",{"$f":"IF(AND($BN8=\"LBARN\",ISTEXT(VLOOKUP(s3t3,LAYERSBARNABATETABLE,1))),VLOOKUP(s3t3,LAYERSBARNABATETABLE,2,\"false\")/100,\"\")","v":""},{"$f":"IF(AND($BN8=\"LMAN\",ISTEXT(VLOOKUP(s3t3,layersstorageabatetable,1))),VLOOKUP(s3t3,layersstorageabatetable,2,\"false\")/100,\"\")","v":""},"",{"$f":"IF(s3type=\"swine\",VLOOKUP(s3source,SWINETABLE,3,\"false\"),IF(s3type=\"dairy\",VLOOKUP(s3source,DAIRYTABLE,3,\"false\"),IF(s3type=\"poultry\",VLOOKUP(s3source,LAYERTABLE,3,\"false\"),\"\")))","v":""},{"$f":"IF(ISTEXT(VLOOKUP(SrcFactors!BX8,Abatementflag,2,\"false\")),VLOOKUP(SrcFactors!BX8,Abatementflag,2,\"false\"),\"\")","v":""},null,"R_EMAX=",{"$f":"MAX(CF13,CH13,CJ13,CL13,CN13,CP13,CR13,CT13,CV13,CX13)","v":0},null,"SW",{"$f":"IF(AND(AH6=TRUE,AI6=rectangle_shape), s1SWy, NA())","v":{"$error":"#N/A"}},{"$f":"IF(AND(AH6=TRUE,AI6=rectangle_shape), s1SWx*scalefctr, NA())","v":{"$error":"#N/A"}},{"$f":"IF(AND(AH7=TRUE,AI7=rectangle_shape), s2SWy, NA())","v":{"$error":"#N/A"}},{"$f":"IF(AND(AH7=TRUE,AI7=rectangle_shape), s2SWx*scalefctr, NA())","v":{"$error":"#N/A"}},{"$f":"IF(AND(AH8=TRUE,AI8=rectangle_shape), s3SWy, NA())","v":{"$error":"#N/A"}},{"$f":"IF(AND(AH8=TRUE,AI8=rectangle_shape), s3SWx, NA())","v":{"$error":"#N/A"}},{"$f":"IF(AND(AH9=TRUE,AI9=rectangle_shape), s4SWy, NA())","v":{"$error":"#N/A"}},{"$f":"IF(AND(AH9=TRUE,AI9=rectangle_shape), s4SWx, NA())","v":{"$error":"#N/A"}},{"$f":"IF(AND(AH10=TRUE,AI10=rectangle_shape), s5SWy, NA())","v":{"$error":"#N/A"}},{"$f":"IF(AND(AH10=TRUE,AI10=rectangle_shape), s5SWx, NA())","v":{"$error":"#N/A"}},{"$f":"IF(AND(AH11=TRUE,AI11=rectangle_shape), s6SWy, NA())","v":{"$error":"#N/A"}},{"$f":"IF(AND(AH11=TRUE,AI11=rectangle_shape), s6SWx, NA())","v":{"$error":"#N/A"}},{"$f":"IF(AND(AH12=TRUE,AI12=rectangle_shape), s7SWy, NA())","v":{"$error":"#N/A"}},{"$f":"IF(AND(AH12=TRUE,AI12=rectangle_shape), s7SWx, NA())","v":{"$error":"#N/A"}},{"$f":"IF(AND(AH13=TRUE,AI13=rectangle_shape), s8SWy, NA())","v":{"$error":"#N/A"}},{"$f":"IF(AND(AH13=TRUE,AI13=rectangle_shape), s8SWx, NA())","v":{"$error":"#N/A"}},{"$f":"IF(AND(AH14=TRUE,AI14=rectangle_shape), s9SWy, NA())","v":{"$error":"#N/A"}},{"$f":"IF(AND(AH14=TRUE,AI14=rectangle_shape), s9SWx, NA())","v":{"$error":"#N/A"}},{"$f":"IF(AND(AH15=TRUE,AI15=rectangle_shape), s10SWy, NA())","v":{"$error":"#N/A"}},{"$f":"IF(AND(AH15=TRUE,AI15=rectangle_shape), s10SWx, NA())","v":{"$error":"#N/A"}}]
["S4",{"$f":"Model!A32","v":""},{"$f":"Model!B32","v":0},{"$f":"Model!C32","v":0},{"$f":"IF(ISTEXT(VLOOKUP(s4source,INDIRECT(s4type),1,\"FALSE\")),\"OK\",\"Wrong\")","v":"Wrong"},{"$f":"Model!E32","v":0},{"$f":"IF(D9=\"Manure Storage\",\"Wrong\",IF(ISTEXT(VLOOKUP(F9,INDIRECT(s4manrmv),1,\"FALSE\")),\"OK\",\"Wrong\"))","v":"Wrong"},{"$f":"Model!F32","v":0},{"$f":"IF(D9=\"Manure Storage\",\"Wrong\",IF(ISTEXT(VLOOKUP(H9,INDIRECT(s4mandil),1,\"FALSE\")),\"OK\",\"Wrong\"))","v":"Wrong"},{"$f":"Model!D32","v":0},{"$f":"Model!B18","v":0},{"$f":"Model!C18","v":0},{"$f":"Model!D18","v":0},{"$f":"Model!E18","v":0},{"$f":"Model!F18","v":0},{"$f":"Model!G18","v":0},{"$f":"Model!H18","v":0},{"$f":"Model!G32","v":0},{"$f":"IF(s4ORNT=\"N : S\",\"North\",IF(s4ORNT=\"E : W\",\"East\",\"\"))","v":""},{"$f":"IF(OR(SrcFactors!AP9=\"SBARN\",SrcFactors!AP9=\"SMAN\"),SrcFactors!AO9,IF(OR(SrcFactors!BB9=\"DBARN\",SrcFactors!BB9=\"DMAN\"),SrcFactors!BA9,IF(OR(SrcFactors!BN9=\"LBARN\",SrcFactors!BN9=\"LMAN\"),SrcFactors!BM9,\"\")))","v":""},{"$f":"IF(s4rate=\"\",\"\",IF(s4rate=\"N/A\",\"N/A\",IF(s4rate=\"SOURCE ERROR\",\"CALC ERROR\",s4rate*s4number)))","v":""},{"$f":"IF(SrcFactors!BX9=\"SBARN\",VLOOKUP(s4rmvl,MRTable,2,\"FALSE\"),IF(SrcFactors!BX9=\"DBARN\",VLOOKUP(s4rmvl,DAIRYMRTABLE,2,\"FALSE\"),IF(SrcFactors!BX9=\"LBARN\",VLOOKUP(s4rmvl,LAYERSMRTABLE,2,\"FALSE\"),\"\")))","v":""},{"$f":"IF(SrcFactors!BX9=\"SBARN\",VLOOKUP(s4dil,DRTable,2,\"FALSE\"),IF(SrcFactors!BX9=\"DBARN\",VLOOKUP(s4dil,DAIRYDRTABLE,2,\"FALSE\"),IF(SrcFactors!BX9=\"LBARN\",VLOOKUP(s4dil,layerdrtable,2,\"FALSE\"),\"\")))","v":""},{"$f":"IF(OR(BY9=\"Sbabe\",BY9=\"Smabe\"),SrcFactors!AS9,IF(OR(BY9=\"dairysbabe\",BY9=\"dairysmabe\"),SrcFactors!BE9,IF(OR(BY9=\"layerssbabe\",BY9=\"layersmbabe\"),SrcFactors!BQ9,\"\")))","v":""},{"$f":"IF(OR(BY9=\"Sbabe\",BY9=\"Smabe\"),SrcFactors!AV9,IF(OR(BY9=\"dairysbabe\",BY9=\"dairysmabe\"),SrcFactors!BH9,IF(OR(BY9=\"layerssbabe\",BY9=\"layersmbabe\"),SrcFactors!BT9,\"\")))","v":""},{"$f":"IF(OR(BY9=\"Sbabe\",BY9=\"Smabe\"),SrcFactors!AY9,IF(OR(BY9=\"dairysbabe\",BY9=\"dairysmabe\"),SrcFactors!BK9,IF(OR(BY9=\"layerssbabe\",BY9=\"layersmbabe\"),SrcFactors!BW9,\"\")))","v":""},{"$f":"IF(s4other=\"\",\"\",(100-s4other)/100)","v":""},{"$f":"IF(AND(s4t1=\"\",s4t2=\"\",s4t3=\"\",s4other=\"\"),\"\",IF(ISTEXT(s4t1),s4t1fctr,1)*IF(ISTEXT(s4t2),s4t2fctr,1)*IF(ISTEXT(s4t3),s4t3fctr,1)*IF(ISNUMBER(s4other),s4ofctr,1))","v":""},{"$f":"IF(s4shape=\"\",\"\",s4shape)","v":""},{"$f":"IF(AC9=rectangle_shape,SrcFactors!AJ9,IF(AC9=circle_shape,Circ!Q5,IF(AC9=Blank_shape,0)))","v":0},{"$f":"IF(AC9=rectangle_shape,SrcFactors!AK9,IF(AC9=circle_shape,Circ!Q6,IF(AC9=Blank_shape,0)))","v":0},{"$f":"VLOOKUP(s4type,ManFLagTable,2,\"false\")","v":{"$error":"#N/A"}},{"$f":"VLOOKUP(s4type,ManFLagTable,3,\"false\")","v":{"$error":"#N/A"}},{"$f":"ISNUMBER(s4SWy)","v":false},{"$f":"IF(s4shape=\"\",\"\",s4shape)","v":""},{"$f":"IF(CK9=\"\",0,(((CK9-CK8)/2)+CK8))","v":{"$error":"#N/A"}},{"$f":"IF(CL10=\"\",0,(((CL10-CL9)/2)+CL9))","v":{"$error":"#N/A"}},{"$f":"IF(s4shape=rectangle_shape,IF(s4L=\"\",\"\",VLOOKUP(s4L/s4W,ShapeFactorTable,2,TRUE)),0)","v":0},{"$f":"IF(s4shape=\"circle\",\"\",IF(AH9=TRUE,\"\",SQRT(((CK10^2)+((CL10^2))))))","v":{"$error":"#N/A"}},"S4",{"$f":"IF(s4type=\"swine\",VLOOKUP(s4source,SWINETABLE,2,\"false\"),\"\")","v":""},{"$f":"IF(s4type=\"swine\",VLOOKUP(s4source,SWINETABLE,3,\"false\"),\"\")","v":""},{"$f":"IF(AND($AP9=\"sbarn\",ISTEXT(VLOOKUP(s4t1,BARNABATETABLE,1,\"false\"))),VLOOKUP(s4t1,BARNABATETABLE,2,\"false\")/100,\"\")","v":""},{"$f":"IF(AND($AP9=\"SMAN\",ISTEXT(VLOOKUP(s4t1,STORAGEABATETABLE,1,\"false\"))),VLOOKUP(s4t1,STORAGEABATETABLE,2,\"false\")/100,\"\")","v":""},"",{"$f":"IF(AND($AP9=\"sbarn\",ISTEXT(VLOOKUP(s4t2,BARNABATETABLE,1,\"false\"))),VLOOKUP(s4t2,BARNABATETABLE,2,\"false\")/100,\"\")","v":""},{"$f":"IF(AND($AP9=\"SMAN\",ISTEXT(VLOOKUP(s4t2,STORAGEABATETABLE,1,\"false\"))),VLOOKUP(s4t2,STORAGEABATETABLE,2,\"false\")/100,\"\")","v":""},"",{"$f":"IF(AND($AP9=\"sbarn\",ISTEXT(VLOOKUP(s4t3,BARNABATETABLE,1,\"false\"))),VLOOKUP(s4t3,BARNABATETABLE,2,\"false\")/100,\"\")","v":""},{"$f":"IF(AND($AP9=\"SMAN\",ISTEXT(VLOOKUP(s4t3,STORAGEABATETABLE,1,\"false\"))),VLOOKUP(s4t3,STORAGEABATETABLE,2,\"false\")/100,\"\")","v":""},"","S4",{"$f":"IF(s4type=\"dairy\",VLOOKUP(s4source,DAIRYTABLE,2,\"false\"),\"\")","v":""},{"$f":"IF(s4type=\"dairy\",VLOOKUP(s4source,DAIRYTABLE,3,\"false\"),\"\")","v":""},{"$f":"IF(AND($BB9=\"DBARN\",ISTEXT(VLOOKUP(s4t1,DAIRYBARNABATETABLE,1,\"false\"))),VLOOKUP(s4t1,DAIRYBARNABATETABLE,2,\"false\")/100,\"\")","v":""},{"$f":"IF(AND($BB9=\"DMAN\",ISTEXT(VLOOKUP(s4t1,DAIRYSTORAGEABATETABLE,1,\"false\"))),VLOOKUP(s4t1,DAIRYSTORAGEABATETABLE,2,\"false\")/100,\"\")","v":""},"",{"$f":"IF(AND($BB9=\"DBARN\",ISTEXT(VLOOKUP(s4t2,DAIRYBARNABATETABLE,1,\"false\"))),VLOOKUP(s4t2,DAIRYBARNABATETABLE,2,\"false\")/100,\"\")","v":""},{"$f":"IF(AND($BB9=\"DMAN\",ISTEXT(VLOOKUP(s4t2,DAIRYSTORAGEABATETABLE,1,\"false\"))),VLOOKUP(s4t2,DAIRYSTORAGEABATETABLE,2,\"false\")/100,\"\")","v":""},"",{"$f":"IF(AND($BB9=\"DBARN\",ISTEXT(VLOOKUP(s4t3,DAIRYBARNABATETABLE,1,\"false\"))),VLOOKUP(s4t3,DAIRYBARNABATETABLE,2,\"false\")/100,\"\")","v":""},{"$f":"IF(AND($BB9=\"DMAN\",ISTEXT(VLOOKUP(s4t3,DAIRYSTORAGEABATETABLE,1,\"false\"))),VLOOKUP(s4t3,DAIRYSTORAGEABATETABLE,2,\"false\")/100,\"\")","v":""},"","S4",{"$f":"IF(s4type=\"poultry\",VLOOKUP(s4source,LAYERTABLE,2,\"false\"),\"\")","v":""},{"$f":"IF(s4type=\"poultry\",VLOOKUP(s4source,LAYERTABLE,3,\"false\"),\"\")","v":""},{"$f":"IF(AND($BN9=\"LBARN\",ISTEXT(VLOOKUP(s4t1,LAYERSBARNABATETABLE,1))),VLOOKUP(s4t1,LAYERSBARNABATETABLE,2,\"false\")/100,\"\")","v":""},{"$f":"IF(AND($BN9=\"LMAN\",ISTEXT(VLOOKUP(s4t1,layersstorageabatetable,1))),VLOOKUP(s4t1,layersstorageabatetable,2,\"false\")/100,\"\")","v":""},"",{"$f":"IF(AND($BN9=\"LBARN\",ISTEXT(VLOOKUP(s4t2,LAYERSBARNABATETABLE,1))),VLOOKUP(s4t2,LAYERSBARNABATETABLE,2,\"false\")/100,\"\")","v":""},{"$f":"IF(AND($BN9=\"LMAN\",ISTEXT(VLOOKUP(s4t2,layersstorageabatetable,1))),VLOOKUP(s4t2,layersstorageabatetable,2,\"false\")/100,\"\")","v":""},"",{"$f":"IF(AND($BN9=\"LBARN\",ISTEXT(VLOOKUP(s4t3,LAYERSBARNABATETABLE,1))),VLOOKUP(s4t3,LAYERSBARNABATETABLE,2,\"false\")/100,\"\")","v":""},{"$f":"IF(AND($BN9=\"LMAN\",ISTEXT(VLOOKUP(s4t3,layersstorageabatetable,1))),VLOOKUP(s4t3,layersstorageabatetable,2,\"false\")/100,\"\")","v":""},"",{"$f":"IF(s4type=\"swine\",VLOOKUP(s4source,SWINETABLE,3,\"false\"),IF(s4type=\"dairy\",VLOOKUP(s4source,DAIRYTABLE,3,\"false\"),IF(s4type=\"poultry\",VLOOKUP(s4source,LAYERTABLE,3,\"false\"),\"\")))","v":""},{"$f":"IF(ISTEXT(VLOOKUP(SrcFactors!BX9,Abatementflag,2,\"false\")),VLOOKUP(SrcFactors!BX9,Abatementflag,2,\"false\"),\"\")","v":""},null,"R_NMAX=",{"$f":"MAX(CE13,CG13,CI13,CK13,CM13,CO13,CQ13,CS13,CU13,CW13)","v":0},null,"NW",{"$f":"IF(AND(AH6=TRUE,AI6=rectangle_shape),IF(s1ORNT=\"N : S\", s1SWy +s1L, IF(s1ORNT=\"E : W\", s1SWy+s1W, NA())),NA())","v":{"$error":"#N/A"}},{"$f":"IF(AND(AH6=TRUE,AI6=rectangle_shape), s1SWx*scalefctr, NA())","v":{"$error":"#N/A"}},{"$f":"IF(AND(AH7=TRUE,AI7=rectangle_shape),IF(s2ORNT=\"N : S\", s2SWy +s2L, IF(s2ORNT=\"E : W\", s2SWy+s2W, NA())),NA())","v":{"$error":"#N/A"}},{"$f":"IF(AND(AH7=TRUE,AI7=rectangle_shape), s2SWx*scalefctr, NA())","v":{"$error":"#N/A"}},{"$f":"IF(AND(AH8=TRUE,AI8=rectangle_shape),IF(s3ORNT=\"N : S\", s3SWy+s3L, IF(s3ORNT=\"E : W\", s3SWy+s3W, NA())),NA())","v":{"$error":"#N/A"}},{"$f":"IF(AND(AH8=TRUE,AI8=rectangle_shape), s3SWx, NA())","v":{"$error":"#N/A"}},{"$f":"IF(AND(AH9=TRUE,AI9=rectangle_shape),IF(s4ORNT=\"N : S\", s4SWy+s4L, IF(s4ORNT=\"E : W\", s4SWy+s4W, NA())),NA())","v":{"$error":"#N/A"}},{"$f":"IF(AND(AH9=TRUE,AI9=rectangle_shape), s4SWx, NA())","v":{"$error":"#N/A"}},{"$f":"IF(AND(AH10=TRUE,AI10=rectangle_shape),IF(s5ORNT=\"N : S\", s5SWy+s5L, IF(s5ORNT=\"E : W\", s5SWy+s5W, NA())),NA())","v":{"$error":"#N/A"}},{"$f":"IF(AND(AH10=TRUE,AI10=rectangle_shape), s5SWx, NA())","v":{"$error":"#N/A"}},{"$f":"IF(AND(AH11=TRUE,AI11=rectangle_shape),IF(s6ORNT=\"N : S\", s6SWy+s6L, IF(s6ORNT=\"E : W\", s6SWy+s6W, NA())),NA())","v":{"$error":"#N/A"}},{"$f":"IF(AND(AH11=TRUE,AI11=rectangle_shape), s6SWx, NA())","v":{"$error":"#N/A"}},{"$f":"IF(AND(AH12=TRUE,AI12=rectangle_shape),IF(s7ORNT=\"N : S\", s7SWy+s7L, IF(s7ORNT=\"E : W\", s7SWy+s7W, NA())),NA())","v":{"$error":"#N/A"}},{"$f":"IF(AND(AH12=TRUE,AI12=rectangle_shape), s7SWx, NA())","v":{"$error":"#N/A"}},{"$f":"IF(AND(AH13=TRUE,AI13=rectangle_shape),IF(s8ORNT=\"N : S\", s8SWy+s8L, IF(s8ORNT=\"E : W\", s8SWy+s8W, NA())),NA())","v":{"$error":"#N/A"}},{"$f":"IF(AND(AH13=TRUE,AI13=rectangle_shape), s8SWx, NA())","v":{"$error":"#N/A"}},{"$f":"IF(AND(AH14=TRUE,AI14=rectangle_shape),IF(s9ORNT=\"N : S\", s9SWy+s9L, IF(s9ORNT=\"E : W\", s9SWy+s9W, NA())),NA())","v":{"$error":"#N/A"}},{"$f":"IF(AND(AH14=TRUE,AI14=rectangle_shape), s9SWx, NA())","v":{"$error":"#N/A"}},{"$f":"IF(AND(AH15=TRUE,AI15=rectangle_shape),IF(s10ORNT=\"N : S\", s10SWy+s10L, IF(s10ORNT=\"E : W\", s10SWy+s10W, NA())),NA())","v":{"$error":"#N/A"}},{"$f":"IF(AND(AH15=TRUE,AI15=rectangle_shape), s10SWx, NA())","v":{"$error":"#N/A"}}]
["S5",{"$f":"Model!A33","v":""},{"$f":"Model!B33","v":0},{"$f":"Model!C33","v":0},{"$f":"IF(ISTEXT(VLOOKUP(s5source,INDIRECT(s5type),1,\"FALSE\")),\"OK\",\"Wrong\")","v":"Wrong"},{"$f":"Model!E33","v":0},{"$f":"IF(D10=\"Manure Storage\",\"Wrong\",IF(ISTEXT(VLOOKUP(F10,INDIRECT(s5manrmv),1,\"FALSE\")),\"OK\",\"Wrong\"))","v":"Wrong"},{"$f":"Model!F33","v":0},{"$f":"IF(D10=\"Manure Storage\",\"Wrong\",IF(ISTEXT(VLOOKUP(H10,INDIRECT(s5mandil),1,\"FALSE\")),\"OK\",\"Wrong\"))","v":"Wrong"},{"$f":"Model!D33","v":0},{"$f":"Model!B19","v":0},{"$f":"Model!C19","v":0},{"$f":"Model!D19","v":0},{"$f":"Model!E19","v":0},{"$f":"Model!F19","v":0},{"$f":"Model!G19","v":0},{"$f":"Model!H19","v":0},{"$f":"Model!G33","v":0},{"$f":"IF(s5ORNT=\"N : S\",\"North\",IF(s5ORNT=\"E : W\",\"East\",\"\"))","v":""},{"$f":"IF(OR(SrcFactors!AP10=\"SBARN\",SrcFactors!AP10=\"SMAN\"),SrcFactors!AO10,IF(OR(SrcFactors!BB10=\"DBARN\",SrcFactors!BB10=\"DMAN\"),SrcFactors!BA10,IF(OR(SrcFactors!BN10=\"LBARN\",SrcFactors!BN10=\"LMAN\"),SrcFactors!BM10,\"\")))","v":""},{"$f":"IF(s5rate=\"\",\"\",IF(s5rate=\"N/A\",\"N/A\",IF(s5rate=\"SOURCE ERROR\",\"CALC ERROR\",s5rate*s5number)))","v":""},{"$f":"IF(SrcFactors!BX10=\"SBARN\",VLOOKUP(s5rmvl,MRTable,2,\"FALSE\"),IF(SrcFactors!BX10=\"DBARN\",VLOOKUP(s5rmvl,DAIRYMRTABLE,2,\"FALSE\"),IF(SrcFactors!BX10=\"LBARN\",VLOOKUP(s5rmvl,LAYERSMRTABLE,2,\"FALSE\"),\"\")))","v":""},{"$f":"IF(SrcFactors!BX10=\"SBARN\",VLOOKUP(s5dil,DRTable,2,\"FALSE\"),IF(SrcFactors!BX10=\"DBARN\",VLOOKUP(s5dil,DAIRYDRTABLE,2,\"FALSE\"),IF(SrcFactors!BX10=\"LBARN\",VLOOKUP(s5dil,layerdrtable,2,\"FALSE\"),\"\")))","v":""},{"$f":"IF(OR(BY10=\"Sbabe\",BY10=\"Smabe\"),SrcFactors!AS10,IF(OR(BY10=\"dairysbabe\",BY10=\"dairysmabe\"),SrcFactors!BE10,IF(OR(BY10=\"layerssbabe\",BY10=\"layersmbabe\"),SrcFactors!BQ10,\"\")))","v":""},{"$f":"IF(OR(BY10=\"Sbabe\",BY10=\"Smabe\"),SrcFactors!AV10,IF(OR(BY10=\"dairysbabe\",BY10=\"dairysmabe\"),SrcFactors!BH10,IF(OR(BY10=\"layerssbabe\",BY10=\"layersmbabe\"),SrcFactors!BT10,\"\")))","v":""},{"$f":"IF(OR(BY10=\"Sbabe\",BY10=\"Smabe\"),SrcFactors!AY10,IF(OR(BY10=\"dairysbabe\",BY10=\"dairysmabe\"),SrcFactors!BK10,IF(OR(BY10=\"layerssbabe\",BY10=\"layersmbabe\"),SrcFactors!BW10,\"\")))","v":""},{"$f":"IF(s5other=\"\",\"\",(100-s5other)/100)","v":""},{"$f":"IF(AND(s5t1=\"\",s5t2=\"\",s5t3=\"\",s5other=\"\"),\"\",IF(ISTEXT(s5t1),s5t1fctr,1)*IF(ISTEXT(s5t2),s5t2fctr,1)*IF(ISTEXT(s5t3),s5t3fctr,1)*IF(ISNUMBER(s5other),s5ofctr,1))","v":""},{"$f":"IF(s5shape=\"\",\"\",s5shape)","v":""},{"$f":"IF(AC10=rectangle_shape,SrcFactors!AJ10,IF(AC10=circle_shape,Circ!U5,IF(AC10=Blank_shape,0)))","v":0},{"$f":"IF(AC10=rectangle_shape,SrcFactors!AK10,IF(AC10=circle_shape,Circ!U6,IF(AC10=Blank_shape,0)))","v":0},{"$f":"VLOOKUP(s5type,ManFLagTable,2,\"false\")","v":{"$error":"#N/A"}},{"$f":"VLOOKUP(s5type,ManFLagTable,3,\"false\")","v":{"$error":"#N/A"}},{"$f":"ISNUMBER(s5SWy)","v":false},{"$f":"IF(s5shape=\"\",\"\",s5shape)","v":""},{"$f":"IF(CM9=\"\",0,(((CM9-CM8)/2)+CM8))","v":{"$error":"#N/A"}},{"$f":"IF(CN10=\"\",0,(((CN10-CN9)/2)+CN9))","v":{"$error":"#N/A"}},{"$f":"IF(s5shape=rectangle_shape,IF(s5L=\"\",\"\",VLOOKUP(s5L/s5W,ShapeFactorTable,2,TRUE)),0)","v":0},{"$f":"IF(s5shape=\"circle\",\"\",IF(AH10=TRUE,\"\",SQRT(((CM10^2)+((CN10^2))))))","v":{"$error":"#N/A"}},"S5",{"$f":"IF(s5type=\"swine\",VLOOKUP(s5source,SWINETABLE,2,\"false\"),\"\")","v":""},{"$f":"IF(s5type=\"swine\",VLOOKUP(s5source,SWINETABLE,3,\"false\"),\"\")","v":""},{"$f":"IF(AND($AP10=\"sbarn\",ISTEXT(VLOOKUP(s5t1,BARNABATETABLE,1,\"false\"))),VLOOKUP(s5t1,BARNABATETABLE,2,\"false\")/100,\"\")","v":""},{"$f":"IF(AND($AP10=\"SMAN\",ISTEXT(VLOOKUP(s5t1,STORAGEABATETABLE,1,\"false\"))),VLOOKUP(s5t1,STORAGEABATETABLE,2,\"false\")/100,\"\")","v":""},"",{"$f":"IF(AND($AP10=\"sbarn\",ISTEXT(VLOOKUP(s5t2,BARNABATETABLE,1,\"false\"))),VLOOKUP(s5t2,BARNABATETABLE,2,\"false\")/100,\"\")","v":""},{"$f":"IF(AND($AP10=\"SMAN\",ISTEXT(VLOOKUP(s5t2,STORAGEABATETABLE,1,\"false\"))),VLOOKUP(s5t2,STORAGEABATETABLE,2,\"false\")/100,\"\")","v":""},"",{"$f":"IF(AND($AP10=\"sbarn\",ISTEXT(VLOOKUP(s5t3,BARNABATETABLE,1,\"false\"))),VLOOKUP(s5t3,BARNABATETABLE,2,\"false\")/100,\"\")","v":""},{"$f":"IF(AND($AP10=\"SMAN\",ISTEXT(VLOOKUP(s5t3,STORAGEABATETABLE,1,\"false\"))),VLOOKUP(s5t3,STORAGEABATETABLE,2,\"false\")/100,\"\")","v":""},"","S5",{"$f":"IF(s5type=\"dairy\",VLOOKUP(s5source,DAIRYTABLE,2,\"false\"),\"\")","v":""},{"$f":"IF(s5type=\"dairy\",VLOOKUP(s5source,DAIRYTABLE,3,\"false\"),\"\")","v":""},{"$f":"IF(AND($BB10=\"DBARN\",ISTEXT(VLOOKUP(s5t1,DAIRYBARNABATETABLE,1,\"false\"))),VLOOKUP(s5t1,DAIRYBARNABATETABLE,2,\"false\")/100,\"\")","v":""},{"$f":"IF(AND($BB10=\"DMAN\",ISTEXT(VLOOKUP(s5t1,DAIRYSTORAGEABATETABLE,1,\"false\"))),VLOOKUP(s5t1,DAIRYSTORAGEABATETABLE,2,\"false\")/100,\"\")","v":""},"",{"$f":"IF(AND($BB10=\"DBARN\",ISTEXT(VLOOKUP(s5t2,DAIRYBARNABATETABLE,1,\"false\"))),VLOOKUP(s5t2,DAIRYBARNABATETABLE,2,\"false\")/100,\"\")","v":""},{"$f":"IF(AND($BB10=\"DMAN\",ISTEXT(VLOOKUP(s5t2,DAIRYSTORAGEABATETABLE,1,\"false\"))),VLOOKUP(s5t2,DAIRYSTORAGEABATETABLE,2,\"false\")/100,\"\")","v":""},"",{"$f":"IF(AND($BB10=\"DBARN\",ISTEXT(VLOOKUP(s5t3,DAIRYBARNABATETABLE,1,\"false\"))),VLOOKUP(s5t3,DAIRYBARNABATETABLE,2,\"false\")/100,\"\")","v":""},{"$f":"IF(AND($BB10=\"DMAN\",ISTEXT(VLOOKUP(s5t3,DAIRYSTORAGEABATETABLE,1,\"false\"))),VLOOKUP(s5t3,DAIRYSTORAGEABATETABLE,2,\"false\")/100,\"\")","v":""},"","S5",{"$f":"IF(s5type=\"poultry\",VLOOKUP(s5source,LAYERTABLE,2,\"false\"),\"\")","v":""},{"$f":"IF(s5type=\"poultry\",VLOOKUP(s5source,LAYERTABLE,3,\"false\"),\"\")","v":""},{"$f":"IF(AND($BN10=\"LBARN\",ISTEXT(VLOOKUP(s5t1,LAYERSBARNABATETABLE,1))),VLOOKUP(s5t1,LAYERSBARNABATETABLE,2,\"false\")/100,\"\")","v":""},{"$f":"IF(AND($BN10=\"LMAN\",ISTEXT(VLOOKUP(s5t1,layersstorageabatetable,1))),VLOOKUP(s5t1,layersstorageabatetable,2,\"false\")/100,\"\")","v":""},"",{"$f":"IF(AND($BN10=\"LBARN\",ISTEXT(VLOOKUP(s5t2,LAYERSBARNABATETABLE,1))),VLOOKUP(s5t2,LAYERSBARNABATETABLE,2,\"false\")/100,\"\")","v":""},{"$f":"IF(AND($BN10=\"LMAN\",ISTEXT(VLOOKUP(s5t2,layersstorageabatetable,1))),VLOOKUP(s5t2,layersstorageabatetable,2,\"false\")/100,\"\")","v":""},"",{"$f":"IF(AND($BN10=\"LBARN\",ISTEXT(VLOOKUP(s5t3,LAYERSBARNABATETABLE,1))),VLOOKUP(s5t3,LAYERSBARNABATETABLE,2,\"false\")/100,\"\")","v":""},{"$f":"IF(AND($BN10=\"LMAN\",ISTEXT(VLOOKUP(s5t3,layersstorageabatetable,1))),VLOOKUP(s5t3,layersstorageabatetable,2,\"false\")/100,\"\")","v":""},"",{"$f":"IF(s5type=\"swine\",VLOOKUP(s5source,SWINETABLE,3,\"false\"),IF(s5type=\"dairy\",VLOOKUP(s5source,DAIRYTABLE,3,\"false\"),IF(s5type=\"poultry\",VLOOKUP(s5source,LAYERTABLE,3,\"false\"),\"\")))","v":""},{"$f":"IF(ISTEXT(VLOOKUP(SrcFactors!BX10,Abatementflag,2,\"false\")),VLOOKUP(SrcFactors!BX10,Abatementflag,2,\"false\"),\"\")","v":""},null,"Emax =",{"$f":"MAX(CB8,Circ!D80)","v":0},null,"NE",{"$f":"IF(AND(AH6=TRUE,AI6=rectangle_shape),IF(s1ORNT=\"N : S\", s1SWy +s1L, IF(s1ORNT=\"E : W\", s1SWy+s1W, NA())),NA())","v":{"$error":"#N/A"}},{"$f":"IF(AND(AH6=TRUE,AI6=rectangle_shape),IF(s1ORNT=\"N : S\", (s1SWx +s1W)*scalefctr, IF(s1ORNT=\"E : W\", (s1SWx+s1L)*scalefctr, NA())),NA())","v":{"$error":"#N/A"}},{"$f":"IF(AND(AH7=TRUE,AI7=rectangle_shape),IF(s2ORNT=\"N : S\", s2SWy +s2L, IF(s2ORNT=\"E : W\", s2SWy+s2W, NA())),NA())","v":{"$error":"#N/A"}},{"$f":"IF(AND(AH7=TRUE,AI7=rectangle_shape),IF(s2ORNT=\"N : S\", (s2SWx +s2W)*scalefctr, IF(s2ORNT=\"E : W\", (s2SWx+s2L)*scalefctr, NA())),NA())","v":{"$error":"#N/A"}},{"$f":"IF(AND(AH8=TRUE,AI8=rectangle_shape),IF(s3ORNT=\"N : S\", s3SWy+s3L, IF(s3ORNT=\"E : W\", s3SWy+s3W, NA())),NA())","v":{"$error":"#N/A"}},{"$f":"IF(AND(AH8=TRUE,AI8=rectangle_shape),IF(s3ORNT=\"N : S\", (s3SWx+s3W)*scalefctr, IF(s3ORNT=\"E : W\", (s3SWx+s3L)*scalefctr, NA())),NA())","v":{"$error":"#N/A"}},{"$f":"IF(AND(AH9=TRUE,AI9=rectangle_shape),IF(s4ORNT=\"N : S\", s4SWy+s4L, IF(s4ORNT=\"E : W\", s4SWy+s4W, NA())),NA())","v":{"$error":"#N/A"}},{"$f":"IF(AND(AH9=TRUE,AI9=rectangle_shape),IF(s4ORNT=\"N : S\", (s4SWx+s4W)*scalefctr, IF(s4ORNT=\"E : W\", (s4SWx+s4L)*scalefctr, NA())),NA())","v":{"$error":"#N/A"}},{"$f":"IF(AND(AH10=TRUE,AI10=rectangle_shape),IF(s5ORNT=\"N : S\", s5SWy+s5L, IF(s5ORNT=\"E : W\", s5SWy+s5W, NA())),NA())","v":{"$error":"#N/A"}},{"$f":"IF(AND(AH10=TRUE,AI10=rectangle_shape),IF(s5ORNT=\"N : S\", (s5SWx+s5W)*scalefctr, IF(s5ORNT=\"E : W\", (s5SWx+s5L)*scalefctr, NA())),NA())","v":{"$error":"#N/A"}},{"$f":"IF(AND(AH11=TRUE,AI11=rectangle_shape),IF(s6ORNT=\"N : S\", s6SWy+s6L, IF(s6ORNT=\"E : W\", s6SWy+s6W, NA())),NA())","v":{"$error":"#N/A"}},{"$f":"IF(AND(AH11=TRUE,AI11=rectangle_shape),IF(s6ORNT=\"N : S\", (s6SWx+s6W)*scalefctr, IF(s6ORNT=\"E : W\", (s6SWx+s6L)*scalefctr, NA())),NA())","v":{"$error":"#N/A"}},{"$f":"IF(AND(AH12=TRUE,AI12=rectangle_shape),IF(s7ORNT=\"N : S\", s7SWy+s7L, IF(s7ORNT=\"E : W\", s7SWy+s7W, NA())),NA())","v":{"$error":"#N/A"}},{"$f":"IF(AND(AH12=TRUE,AI12=rectangle_shape),IF(s7ORNT=\"N : S\", (s7SWx+s7W)*scalefctr, IF(s7ORNT=\"E : W\", (s7SWx+s7L)*scalefctr, NA())),NA())","v":{"$error":"#N/A"}},{"$f":"IF(AND(AH13=TRUE,AI13=rectangle_shape),IF(s8ORNT=\"N : S\", s8SWy+s8L, IF(s8ORNT=\"E : W\", s8SWy+s8W, NA())),NA())","v":{"$error":"#N/A"}},{"$f":"IF(AND(AH13=TRUE,AI13=rectangle_shape),IF(s8ORNT=\"N : S\", (s8SWx+s8W)*scalefctr, IF(s8ORNT=\"E : W\", (s8SWx+s8L)*scalefctr, NA())),NA())","v":{"$error":"#N/A"}},{"$f":"IF(AND(AH14=TRUE,AI14=rectangle_shape),IF(s9ORNT=\"N : S\", s9SWy+s9L, IF(s9ORNT=\"E : W\", s9SWy+s9W, NA())),NA())","v":{"$error":"#N/A"}},{"$f":"IF(AND(AH14=TRUE,AI14=rectangle_shape),IF(s9ORNT=\"N : S\", (s9SWx+s9W)*scalefctr, IF(s9ORNT=\"E : W\", (s9SWx+s9L)*scalefctr, NA())),NA())","v":{"$error":"#N/A"}},{"$f":"IF(AND(AH15=TRUE,AI15=rectangle_shape),IF(s10ORNT=\"N : S\", s10SWy+s10L, IF(s10ORNT=\"E : W\", s10SWy+s10W, NA())),NA())","v":{"$error":"#N/A"}},{"$f":"IF(AND(AH15=TRUE,AI15=rectangle_shape),IF(s10ORNT=\"N : S\", (s10SWx+s10W)*scalefctr, IF(s10ORNT=\"E : W\", (s10SWx+s10L)*scalefctr, NA())),NA())","v":{"$error":"#N/A"}}]
["S6",{"$f":"Model!A34","v":""},{"$f":"Model!B34","v":0},{"$f":"Model!C34","v":0},{"$f":"IF(ISTEXT(VLOOKUP(s6source,INDIRECT(s6type),1,\"FALSE\")),\"OK\",\"Wrong\")","v":"Wrong"},{"$f":"Model!E34","v":0},{"$f":"IF(D11=\"Manure Storage\",\"Wrong\",IF(ISTEXT(VLOOKUP(F11,INDIRECT(s6manrmv),1,\"FALSE\")),\"OK\",\"Wrong\"))","v":"Wrong"},{"$f":"Model!F34","v":0},{"$f":"IF(D11=\"Manure Storage\",\"Wrong\",IF(ISTEXT(VLOOKUP(H11,INDIRECT(s6mandil),1,\"FALSE\")),\"OK\",\"Wrong\"))","v":"Wrong"},{"$f":"Model!D34","v":0},{"$f":"Model!B20","v":0},{"$f":"Model!C20","v":0},{"$f":"Model!D20","v":0},{"$f":"Model!E20","v":0},{"$f":"Model!F20","v":0},{"$f":"Model!G20","v":0},{"$f":"Model!H20","v":0},{"$f":"Model!G34","v":0},{"$f":"IF(s6ORNT=\"N : S\",\"North\",IF(s6ORNT=\"E : W\",\"East\",\"\"))","v":""},{"$f":"IF(OR(SrcFactors!AP11=\"SBARN\",SrcFactors!AP11=\"SMAN\"),SrcFactors!AO11,IF(OR(SrcFactors!BB11=\"DBARN\",SrcFactors!BB11=\"DMAN\"),SrcFactors!BA11,IF(OR(SrcFactors!BN11=\"LBARN\",SrcFactors!BN11=\"LMAN\"),SrcFactors!BM11,\"\")))","v":""},{"$f":"IF(s6rate=\"\",\"\",IF(s6rate=\"N/A\",\"N/A\",IF(s6rate=\"SOURCE ERROR\",\"CALC ERROR\",s6rate*s6number)))","v":""},{"$f":"IF(SrcFactors!BX11=\"SBARN\",VLOOKUP(s6rmvl,MRTable,2,\"FALSE\"),IF(SrcFactors!BX11=\"DBARN\",VLOOKUP(s6rmvl,DAIRYMRTABLE,2,\"FALSE\"),IF(SrcFactors!BX11=\"LBARN\",VLOOKUP(s6rmvl,LAYERSMRTABLE,2,\"FALSE\"),\"\")))","v":""},{"$f":"IF(SrcFactors!BX11=\"SBARN\",VLOOKUP(s6dil,DRTable,2,\"FALSE\"),IF(SrcFactors!BX11=\"DBARN\",VLOOKUP(s6dil,DAIRYDRTABLE,2,\"FALSE\"),IF(SrcFactors!BX11=\"LBARN\",VLOOKUP(s6dil,layerdrtable,2,\"FALSE\"),\"\")))","v":""},{"$f":"IF(OR(BY11=\"Sbabe\",BY11=\"Smabe\"),SrcFactors!AS11,IF(OR(BY11=\"dairysbabe\",BY11=\"dairysmabe\"),SrcFactors!BE11,IF(OR(BY11=\"layerssbabe\",BY11=\"layersmbabe\"),SrcFactors!BQ11,\"\")))","v":""},{"$f":"IF(OR(BY11=\"Sbabe\",BY11=\"Smabe\"),SrcFactors!AV11,IF(OR(BY11=\"dairysbabe\",BY11=\"dairysmabe\"),SrcFactors!BH11,IF(OR(BY11=\"layerssbabe\",BY11=\"layersmbabe\"),SrcFactors!BT11,\"\")))","v":""},{"$f":"IF(OR(BY11=\"Sbabe\",BY11=\"Smabe\"),SrcFactors!AY11,IF(OR(BY11=\"dairysbabe\",BY11=\"dairysmabe\"),SrcFactors!BK11,IF(OR(BY11=\"layerssbabe\",BY11=\"layersmbabe\"),SrcFactors!BW11,\"\")))","v":""},{"$f":"IF(s6other=\"\",\"\",(100-s6other)/100)","v":""},{"$f":"IF(AND(s6t1=\"\",s6t2=\"\",s6t3=\"\",s6other=\"\"),\"\",IF(ISTEXT(s6t1),s6t1fctr,1)*IF(ISTEXT(s6t2),s6t2fctr,1)*IF(ISTEXT(s6t3),s6t3fctr,1)*IF(ISNUMBER(s6other),s6ofctr,1))","v":""},{"$f":"IF(s6shape=\"\",\"\",s6shape)","v":""},{"$f":"IF(AC11=rectangle_shape,SrcFactors!AJ11,IF(AC11=circle_shape,Circ!Y5,IF(AC11=Blank_shape,0)))","v":0},{"$f":"IF(AC11=rectangle_shape,SrcFactors!AK11,IF(AC11=circle_shape,Circ!Y6,IF(AC11=Blank_shape,0)))","v":0},{"$f":"VLOOKUP(s6type,ManFLagTable,2,\"false\")","v":{"$error":"#N/A"}},{"$f":"VLOOKUP(s6type,ManFLagTable,3,\"false\")","v":{"$error":"#N/A"}},{"$f":"ISNUMBER(s6SWy)","v":false},{"$f":"IF(s6shape=\"\",\"\",s6shape)","v":""},{"$f":"IF(CO9=\"\",0,(((CO9-CO8)/2)+CO8))","v":{"$error":"#N/A"}},{"$f":"IF(CP10=\"\",0,(((CP10-CP9)/2)+CP9))","v":{"$error":"#N/A"}},{"$f":"IF(s6shape=rectangle_shape,IF(s6L=\"\",\"\",VLOOKUP(s6L/s6W,ShapeFactorTable,2,TRUE)),0)","v":0},{"$f":"IF(s6shape=\"circle\",\"\",IF(AH11=TRUE,\"\",SQRT(((CO10^2)+((CP10^2))))))","v":{"$error":"#N/A"}},"S6",{"$f":"IF(s6type=\"swine\",VLOOKUP(s6source,SWINETABLE,2,\"false\"),\"\")","v":""},{"$f":"IF(s6type=\"swine\",VLOOKUP(s6source,SWINETABLE,3,\"false\"),\"\")","v":""},{"$f":"IF(AND($AP11=\"sbarn\",ISTEXT(VLOOKUP(s6t1,BARNABATETABLE,1,\"false\"))),VLOOKUP(s6t1,BARNABATETABLE,2,\"false\")/100,\"\")","v":""},{"$f":"IF(AND($AP11=\"SMAN\",ISTEXT(VLOOKUP(s6t1,STORAGEABATETABLE,1,\"false\"))),VLOOKUP(s6t1,STORAGEABATETABLE,2,\"false\")/100,\"\")","v":""},"",{"$f":"IF(AND($AP11=\"SBARN\",ISTEXT(VLOOKUP(s6t2,BARNABATETABLE,1,\"false\"))),VLOOKUP(s6t2,BARNABATETABLE,2,\"false\")/100,\"\")","v":""},{"$f":"IF(AND($AP11=\"SMAN\",ISTEXT(VLOOKUP(s6t2,STORAGEABATETABLE,1,\"false\"))),VLOOKUP(s6t2,STORAGEABATETABLE,2,\"false\")/100,\"\")","v":""},"",{"$f":"IF(AND($AP11=\"SBARN\",ISTEXT(VLOOKUP(s6t3,BARNABATETABLE,1,\"false\"))),VLOOKUP(s6t3,BARNABATETABLE,2,\"false\")/100,\"\")","v":""},{"$f":"IF(AND($AP11=\"SMAN\",ISTEXT(VLOOKUP(s6t3,STORAGEABATETABLE,1,\"false\"))),VLOOKUP(s6t3,STORAGEABATETABLE,2,\"false\")/100,\"\")","v":""},"","S6",{"$f":"IF(s6type=\"dairy\",VLOOKUP(s6source,DAIRYTABLE,2,\"false\"),\"\")","v":""},{"$f":"IF(s6type=\"dairy\",VLOOKUP(s6source,DAIRYTABLE,3,\"false\"),\"\")","v":""},{"$f":"IF(AND($BB11=\"DBARN\",ISTEXT(VLOOKUP(s6t1,DAIRYBARNABATETABLE,1,\"false\"))),VLOOKUP(s6t1,DAIRYBARNABATETABLE,2,\"false\")/100,\"\")","v":""},{"$f":"IF(AND($BB11=\"DMAN\",ISTEXT(VLOOKUP(s6t1,DAIRYSTORAGEABATETABLE,1,\"false\"))),VLOOKUP(s6t1,DAIRYSTORAGEABATETABLE,2,\"false\")/100,\"\")","v":""},"",{"$f":"IF(AND($BB11=\"DBARN\",ISTEXT(VLOOKUP(s6t2,DAIRYBARNABATETABLE,1,\"false\"))),VLOOKUP(s6t2,DAIRYBARNABATETABLE,2,\"false\")/100,\"\")","v":""},{"$f":"IF(AND($BB11=\"DMAN\",ISTEXT(VLOOKUP(s6t2,DAIRYSTORAGEABATETABLE,1,\"false\"))),VLOOKUP(s6t2,DAIRYSTORAGEABATETABLE,2,\"false\")/100,\"\")","v":""},"",{"$f":"IF(AND($BB11=\"DBARN\",ISTEXT(VLOOKUP(s6t3,DAIRYBARNABATETABLE,1,\"false\"))),VLOOKUP(s6t3,DAIRYBARNABATETABLE,2,\"false\")/100,\"\")","v":""},{"$f":"IF(AND($BB11=\"DMAN\",ISTEXT(VLOOKUP(s6t3,DAIRYSTORAGEABATETABLE,1,\"false\"))),VLOOKUP(s6t3,DAIRYSTORAGEABATETABLE,2,\"false\")/100,\"\")","v":""},"","S6",{"$f":"IF(s6type=\"poultry\",VLOOKUP(s6source,LAYERTABLE,2,\"false\"),\"\")","v":""},{"$f":"IF(s6type=\"poultry\",VLOOKUP(s6source,LAYERTABLE,3,\"false\"),\"\")","v":""},{"$f":"IF(AND($BN11=\"LBARN\",ISTEXT(VLOOKUP(s6t1,LAYERSBARNABATETABLE,1))),VLOOKUP(s6t1,LAYERSBARNABATETABLE,2,\"false\")/100,\"\")","v":""},{"$f":"IF(AND($BN11=\"LMAN\",ISTEXT(VLOOKUP(s6t1,layersstorageabatetable,1))),VLOOKUP(s6t1,layersstorageabatetable,2,\"false\")/100,\"\")","v":""},"",{"$f":"IF(AND($BN11=\"LBARN\",ISTEXT(VLOOKUP(s6t2,LAYERSBARNABATETABLE,1))),VLOOKUP(s6t2,LAYERSBARNABATETABLE,2,\"false\")/100,\"\")","v":""},{"$f":"IF(AND($BN11=\"LMAN\",ISTEXT(VLOOKUP(s6t2,layersstorageabatetable,1))),VLOOKUP(s6t2,layersstorageabatetable,2,\"false\")/100,\"\")","v":""},"",{"$f":"IF(AND($BN11=\"LBARN\",ISTEXT(VLOOKUP(s6t3,LAYERSBARNABATETABLE,1))),VLOOKUP(s6t3,LAYERSBARNABATETABLE,2,\"false\")/100,\"\")","v":""},{"$f":"IF(AND($BN11=\"LMAN\",ISTEXT(VLOOKUP(s6t3,layersstorageabatetable,1))),VLOOKUP(s6t3,layersstorageabatetable,2,\"false\")/100,\"\")","v":""},"",{"$f":"IF(s6type=\"swine\",VLOOKUP(s6source,SWINETABLE,3,\"false\"),IF(s6type=\"dairy\",VLOOKUP(s6source,DAIRYTABLE,3,\"false\"),IF(s6type=\"poultry\",VLOOKUP(s6source,LAYERTABLE,3,\"false\"),\"\")))","v":""},{"$f":"IF(ISTEXT(VLOOKUP(SrcFactors!BX11,Abatementflag,2,\"false\")),VLOOKUP(SrcFactors!BX11,Abatementflag,2,\"false\"),\"\")","v":""},null,"Nmax =",{"$f":"MAX(CB9,Circ!D81)","v":0},null,"SE",{"$f":"IF(AND(AH6=TRUE,AI6=rectangle_shape), s1SWy, NA())","v":{"$error":"#N/A"}},{"$f":"IF(AND(AH6=TRUE,AI6=rectangle_shape),IF(s1ORNT=\"N : S\", (s1SWx +s1W)*scalefctr, IF(s1ORNT=\"E : W\", (s1SWx+s1L)*scalefctr, NA())),NA())","v":{"$error":"#N/A"}},{"$f":"IF(AND(AH7=TRUE,AI7=rectangle_shape), s2SWy, NA())","v":{"$error":"#N/A"}},{"$f":"IF(AND(AH7=TRUE,AI7=rectangle_shape),IF(s2ORNT=\"N : S\", (s2SWx +s2W)*scalefctr, IF(s2ORNT=\"E : W\", (s2SWx+s2L)*scalefctr, NA())),NA())","v":{"$error":"#N/A"}},{"$f":"IF(AND(AH8=TRUE,AI8=rectangle_shape), s3SWy, NA())","v":{"$error":"#N/A"}},{"$f":"IF(AND(AH8=TRUE,AI8=rectangle_shape),IF(s3ORNT=\"N : S\", (s3SWx+s3W)*scalefctr, IF(s3ORNT=\"E : W\", (s3SWx+s3L)*scalefctr, NA())),NA())","v":{"$error":"#N/A"}},{"$f":"IF(AND(AH9=TRUE,AI9=rectangle_shape), s4SWy, NA())","v":{"$error":"#N/A"}},{"$f":"IF(AND(AH9=TRUE,AI9=rectangle_shape),IF(s4ORNT=\"N : S\", (s4SWx+s4W)*scalefctr, IF(s4ORNT=\"E : W\", (s4SWx+s4L)*scalefctr, NA())),NA())","v":{"$error":"#N/A"}},{"$f":"IF(AND(AH10=TRUE,AI10=rectangle_shape), s5SWy, NA())","v":{"$error":"#N/A"}},{"$f":"IF(AND(AH10=TRUE,AI10=rectangle_shape),IF(s5ORNT=\"N : S\", (s5SWx+s5W)*scalefctr, IF(s5ORNT=\"E : W\", (s5SWx+s5L)*scalefctr, NA())),NA())","v":{"$error":"#N/A"}},{"$f":"IF(AND(AH11=TRUE,AI11=rectangle_shape), s6SWy, NA())","v":{"$error":"#N/A"}},{"$f":"IF(AND(AH11=TRUE,AI11=rectangle_shape),IF(s6ORNT=\"N : S\", (s6SWx+s6W)*scalefctr, IF(s6ORNT=\"E : W\", (s6SWx+s6L)*scalefctr, NA())),NA())","v":{"$error":"#N/A"}},{"$f":"IF(AND(AH12=TRUE,AI12=rectangle_shape), s7SWy, NA())","v":{"$error":"#N/A"}},{"$f":"IF(AND(AH12=TRUE,AI12=rectangle_shape),IF(s7ORNT=\"N : S\", (s7SWx+s7W)*scalefctr, IF(s7ORNT=\"E : W\", (s7SWx+s7L)*scalefctr, NA())),NA())","v":{"$error":"#N/A"}},{"$f":"IF(AND(AH13=TRUE,AI13=rectangle_shape), s8SWy, NA())","v":{"$error":"#N/A"}},{"$f":"IF(AND(AH13=TRUE,AI13=rectangle_shape),IF(s8ORNT=\"N : S\", (s8SWx+s8W)*scalefctr, IF(s8ORNT=\"E : W\", (s8SWx+s8L)*scalefctr, NA())),NA())","v":{"$error":"#N/A"}},{"$f":"IF(AND(AH14=TRUE,AI14=rectangle_shape), s9SWy, NA())","v":{"$error":"#N/A"}},{"$f":"IF(AND(AH14=TRUE,AI14=rectangle_shape),IF(s9ORNT=\"N : S\", (s9SWx+s9W)*scalefctr, IF(s9ORNT=\"E : W\", (s9SWx+s9L)*scalefctr, NA())),NA())","v":{"$error":"#N/A"}},{"$f":"IF(AND(AH15=TRUE,AI15=rectangle_shape), s10SWy, NA())","v":{"$error":"#N/A"}},{"$f":"IF(AND(AH15=TRUE,AI15=rectangle_shape),IF(s10ORNT=\"N : S\", (s10SWx+s10W)*scalefctr, IF(s10ORNT=\"E : W\", (s10SWx+s10L)*scalefctr, NA())),NA())","v":{"$error":"#N/A"}}]
["S7",{"$f":"Model!A35","v":""},{"$f":"Model!B35","v":0},{"$f":"Model!C35","v":0},{"$f":"IF(ISTEXT(VLOOKUP(s7source,INDIRECT(s7type),1,\"FALSE\")),\"OK\",\"Wrong\")","v":"Wrong"},{"$f":"Model!E35","v":0},{"$f":"IF(D12=\"Manure Storage\",\"Wrong\",IF(ISTEXT(VLOOKUP(F12,INDIRECT(s7manrmv),1,\"FALSE\")),\"OK\",\"Wrong\"))","v":"Wrong"},{"$f":"Model!F35","v":0},{"$f":"IF(D12=\"Manure Storage\",\"Wrong\",IF(ISTEXT(VLOOKUP(H12,INDIRECT(s7mandil),1,\"FALSE\")),\"OK\",\"Wrong\"))","v":"Wrong"},{"$f":"Model!D35","v":0},{"$f":"Model!B21","v":0},{"$f":"Model!C21","v":0},{"$f":"Model!D21","v":0},{"$f":"Model!E21","v":0},{"$f":"Model!F21","v":0},{"$f":"Model!G21","v":0},{"$f":"Model!H21","v":0},{"$f":"Model!G35","v":0},{"$f":"IF(s7ORNT=\"N : S\",\"North\",IF(s7ORNT=\"E : W\",\"East\",\"\"))","v":""},{"$f":"IF(OR(SrcFactors!AP12=\"SBARN\",SrcFactors!AP12=\"SMAN\"),SrcFactors!AO12,IF(OR(SrcFactors!BB12=\"DBARN\",SrcFactors!BB12=\"DMAN\"),SrcFactors!BA12,IF(OR(SrcFactors!BN12=\"LBARN\",SrcFactors!BN12=\"LMAN\"),SrcFactors!BM12,\"\")))","v":""},{"$f":"IF(s7rate=\"\",\"\",IF(s7rate=\"N/A\",\"N/A\",IF(s7rate=\"SOURCE ERROR\",\"CALC ERROR\",s7rate*s7number)))","v":""},{"$f":"IF(SrcFactors!BX12=\"SBARN\",VLOOKUP(s7rmvl,MRTable,2,\"FALSE\"),IF(SrcFactors!BX12=\"DBARN\",VLOOKUP(s7rmvl,DAIRYMRTABLE,2,\"FALSE\"),IF(SrcFactors!BX12=\"LBARN\",VLOOKUP(s7rmvl,LAYERSMRTABLE,2,\"FALSE\"),\"\")))","v":""},{"$f":"IF(SrcFactors!BX12=\"SBARN\",VLOOKUP(s7dil,DRTable,2,\"FALSE\"),IF(SrcFactors!BX12=\"DBARN\",VLOOKUP(s7dil,DAIRYDRTABLE,2,\"FALSE\"),IF(SrcFactors!BX12=\"LBARN\",VLOOKUP(s7dil,layerdrtable,2,\"FALSE\"),\"\")))","v":""},{"$f":"IF(OR(BY12=\"Sbabe\",BY12=\"Smabe\"),SrcFactors!AS12,IF(OR(BY12=\"dairysbabe\",BY12=\"dairysmabe\"),SrcFactors!BE12,IF(OR(BY12=\"layerssbabe\",BY12=\"layersmbabe\"),SrcFactors!BQ12,\"\")))","v":""},{"$f":"IF(OR(BY12=\"Sbabe\",BY12=\"Smabe\"),SrcFactors!AV12,IF(OR(BY12=\"dairysbabe\",BY12=\"dairysmabe\"),SrcFactors!BH12,IF(OR(BY12=\"layerssbabe\",BY12=\"layersmbabe\"),SrcFactors!BT12,\"\")))","v":""},{"$f":"IF(OR(BY12=\"Sbabe\",BY12=\"Smabe\"),SrcFactors!AY12,IF(OR(BY12=\"dairysbabe\",BY12=\"dairysmabe\"),SrcFactors!BK12,IF(OR(BY12=\"layerssbabe\",BY12=\"layersmbabe\"),SrcFactors!BW12,\"\")))","v":""},{"$f":"IF(s7other=\"\",\"\",(100-s7other)/100)","v":""},{"$f":"IF(AND(s7t1=\"\",s7t2=\"\",s7t3=\"\",s7other=\"\"),\"\",IF(ISTEXT(s7t1),s7t1fctr,1)*IF(ISTEXT(s7t2),s7t2fctr,1)*IF(ISTEXT(s7t3),s7t3fctr,1)*IF(ISNUMBER(s7other),s7ofctr,1))","v":""},{"$f":"IF(s7shape=\"\",\"\",s7shape)","v":""},{"$f":"IF(AC12=rectangle_shape,SrcFactors!AJ12,IF(AC12=circle_shape,Circ!AC5,IF(AC12=Blank_shape,0)))","v":0},{"$f":"IF(AC12=rectangle_shape,SrcFactors!AK12,IF(AC12=circle_shape,Circ!AC6,IF(AC12=Blank_shape,0)))","v":0},{"$f":"VLOOKUP(s7type,ManFLagTable,2,\"false\")","v":{"$error":"#N/A"}},{"$f":"VLOOKUP(s7type,ManFLagTable,3,\"false\")","v":{"$error":"#N/A"}},{"$f":"ISNUMBER(s7SWy)","v":false},{"$f":"IF(s7shape=\"\",\"\",s7shape)","v":""},{"$f":"IF(CQ9=\"\",0,(((CQ9-CQ8)/2)+CQ8))","v":{"$error":"#N/A"}},{"$f":"IF(CR10=\"\",0,(((CR10-CR9)/2)+CR9))","v":{"$error":"#N/A"}},{"$f":"IF(s7shape=rectangle_shape,IF(s7L=\"\",\"\",VLOOKUP(s7L/s7W,ShapeFactorTable,2,TRUE)),0)","v":0},{"$f":"IF(s7shape=\"circle\",\"\",IF(AH12=TRUE,\"\",SQRT(((CQ10^2)+((CR10^2))))))","v":{"$error":"#N/A"}},"S7",{"$f":"IF(s7type=\"swine\",VLOOKUP(s7source,SWINETABLE,2,\"false\"),\"\")","v":""},{"$f":"IF(s7type=\"swine\",VLOOKUP(s7source,SWINETABLE,3,\"false\"),\"\")","v":""},{"$f":"IF(AND($AP12=\"sbarn\",ISTEXT(VLOOKUP(s7t1,BARNABATETABLE,1,\"false\"))),VLOOKUP(s7t1,BARNABATETABLE,2,\"false\")/100,\"\")","v":""},{"$f":"IF(AND($AP12=\"SMAN\",ISTEXT(VLOOKUP(s7t1,STORAGEABATETABLE,1,\"false\"))),VLOOKUP(s7t1,STORAGEABATETABLE,2,\"false\")/100,\"\")","v":""},"",{"$f":"IF(AND($AP12=\"sbarn\",ISTEXT(VLOOKUP(s7t2,BARNABATETABLE,1,\"false\"))),VLOOKUP(s7t2,BARNABATETABLE,2,\"false\")/100,\"\")","v":""},{"$f":"IF(AND($AP12=\"SMAN\",ISTEXT(VLOOKUP(s7t2,STORAGEABATETABLE,1,\"false\"))),VLOOKUP(s7t2,STORAGEABATETABLE,2,\"false\")/100,\"\")","v":""},"",{"$f":"IF(AND($AP12=\"sbarn\",ISTEXT(VLOOKUP(s7t3,BARNABATETABLE,1,\"false\"))),VLOOKUP(s7t3,BARNABATETABLE,2,\"false\")/100,\"\")","v":""},{"$f":"IF(AND($AP12=\"SMAN\",ISTEXT(VLOOKUP(s7t3,STORAGEABATETABLE,1,\"false\"))),VLOOKUP(s7t3,STORAGEABATETABLE,2,\"false\")/100,\"\")","v":""},"","S7",{"$f":"IF(s7type=\"dairy\",VLOOKUP(s7source,DAIRYTABLE,2,\"false\"),\"\")","v":""},{"$f":"IF(s7type=\"dairy\",VLOOKUP(s7source,DAIRYTABLE,3,\"false\"),\"\")","v":""},{"$f":"IF(AND($BB12=\"DBARN\",ISTEXT(VLOOKUP(s7t1,DAIRYBARNABATETABLE,1,\"false\"))),VLOOKUP(s7t1,DAIRYBARNABATETABLE,2,\"false\")/100,\"\")","v":""},{"$f":"IF(AND($BB12=\"DMAN\",ISTEXT(VLOOKUP(s7t1,DAIRYSTORAGEABATETABLE,1,\"false\"))),VLOOKUP(s7t1,DAIRYSTORAGEABATETABLE,2,\"false\")/100,\"\")","v":""},"",{"$f":"IF(AND($BB12=\"DBARN\",ISTEXT(VLOOKUP(s7t2,DAIRYBARNABATETABLE,1,\"false\"))),VLOOKUP(s7t2,DAIRYBARNABATETABLE,2,\"false\")/100,\"\")","v":""},{"$f":"IF(AND($BB12=\"DMAN\",ISTEXT(VLOOKUP(s7t2,DAIRYSTORAGEABATETABLE,1,\"false\"))),VLOOKUP(s7t2,DAIRYSTORAGEABATETABLE,2,\"false\")/100,\"\")","v":""},"",{"$f":"IF(AND($BB12=\"DBARN\",ISTEXT(VLOOKUP(s7t3,DAIRYBARNABATETABLE,1,\"false\"))),VLOOKUP(s7t3,DAIRYBARNABATETABLE,2,\"false\")/100,\"\")","v":""},{"$f":"IF(AND($BB12=\"DMAN\",ISTEXT(VLOOKUP(s7t3,DAIRYSTORAGEABATETABLE,1,\"false\"))),VLOOKUP(s7t3,DAIRYSTORAGEABATETABLE,2,\"false\")/100,\"\")","v":""},"","S7",{"$f":"IF(s7type=\"poultry\",VLOOKUP(s7source,LAYERTABLE,2,\"false\"),\"\")","v":""},{"$f":"IF(s7type=\"poultry\",VLOOKUP(s7source,LAYERTABLE,3,\"false\"),\"\")","v":""},{"$f":"IF(AND($BN12=\"LBARN\",ISTEXT(VLOOKUP(s7t1,LAYERSBARNABATETABLE,1))),VLOOKUP(s7t1,LAYERSBARNABATETABLE,2,\"false\")/100,\"\")","v":""},{"$f":"IF(AND($BN12=\"LMAN\",ISTEXT(VLOOKUP(s7t1,layersstorageabatetable,1))),VLOOKUP(s7t1,layersstorageabatetable,2,\"false\")/100,\"\")","v":""},"",{"$f":"IF(AND($BN12=\"LBARN\",ISTEXT(VLOOKUP(s7t2,LAYERSBARNABATETABLE,1))),VLOOKUP(s7t2,LAYERSBARNABATETABLE,2,\"false\")/100,\"\")","v":""},{"$f":"IF(AND($BN12=\"LMAN\",ISTEXT(VLOOKUP(s7t2,layersstorageabatetable,1))),VLOOKUP(s7t2,layersstorageabatetable,2,\"false\")/100,\"\")","v":""},"",{"$f":"IF(AND($BN12=\"LBARN\",ISTEXT(VLOOKUP(s7t3,LAYERSBARNABATETABLE,1))),VLOOKUP(s7t3,LAYERSBARNABATETABLE,2,\"false\")/100,\"\")","v":""},{"$f":"IF(AND($BN12=\"LMAN\",ISTEXT(VLOOKUP(s7t3,layersstorageabatetable,1))),VLOOKUP(s7t3,layersstorageabatetable,2,\"false\")/100,\"\")","v":""},"",{"$f":"IF(s7type=\"swine\",VLOOKUP(s7source,SWINETABLE,3,\"false\"),IF(s7type=\"dairy\",VLOOKUP(s7source,DAIRYTABLE,3,\"false\"),IF(s7type=\"poultry\",VLOOKUP(s7source,LAYERTABLE,3,\"false\"),\"\")))","v":""},{"$f":"IF(ISTEXT(VLOOKUP(SrcFactors!BX12,Abatementflag,2,\"false\")),VLOOKUP(SrcFactors!BX12,Abatementflag,2,\"false\"),\"\")","v":""},null,"R_EMIN=",{"$f":"MIN(CF14,CH14,CJ14,CL14,CN14,CP14,CR14,CT14,CV14,CX14)","v":0},null,"SW",{"$f":"IF(AND(AH6=TRUE,AI6=rectangle_shape), s1SWy, NA())","v":{"$error":"#N/A"}},{"$f":"IF(AND(AH6=TRUE,AI6=rectangle_shape), s1SWx*scalefctr, NA())","v":{"$error":"#N/A"}},{"$f":"IF(AND(AH7=TRUE,AI7=rectangle_shape), s2SWy, NA())","v":{"$error":"#N/A"}},{"$f":"IF(AND(AH7=TRUE,AI7=rectangle_shape), s2SWx*scalefctr, NA())","v":{"$error":"#N/A"}},{"$f":"IF(AND(AH8=TRUE,AI8=rectangle_shape), s3SWy, NA())","v":{"$error":"#N/A"}},{"$f":"IF(AND(AH8=TRUE,AI8=rectangle_shape), s3SWx, NA())","v":{"$error":"#N/A"}},{"$f":"IF(AND(AH9=TRUE,AI9=rectangle_shape), s4SWy, NA())","v":{"$error":"#N/A"}},{"$f":"IF(AND(AH9=TRUE,AI9=rectangle_shape), s4SWx, NA())","v":{"$error":"#N/A"}},{"$f":"IF(AND(AH10=TRUE,AI10=rectangle_shape), s5SWy, NA())","v":{"$error":"#N/A"}},{"$f":"IF(AND(AH10=TRUE,AI10=rectangle_shape), s5SWx, NA())","v":{"$error":"#N/A"}},{"$f":"IF(AND(AH11=TRUE,AI11=rectangle_shape), s6SWy, NA())","v":{"$error":"#N/A"}},{"$f":"IF(AND(AH11=TRUE,AI11=rectangle_shape), s6SWx, NA())","v":{"$error":"#N/A"}},{"$f":"IF(AND(AH12=TRUE,AI12=rectangle_shape), s7SWy, NA())","v":{"$error":"#N/A"}},{"$f":"IF(AND(AH12=TRUE,AI12=rectangle_shape), s7SWx, NA())","v":{"$error":"#N/A"}},{"$f":"IF(AND(AH13=TRUE,AI13=rectangle_shape), s8SWy, NA())","v":{"$error":"#N/A"}},{"$f":"IF(AND(AH13=TRUE,AI13=rectangle_shape), s8SWx, NA())","v":{"$error":"#N/A"}},{"$f":"IF(AND(AH14=TRUE,AI14=rectangle_shape), s9SWy, NA())","v":{"$error":"#N/A"}},{"$f":"IF(AND(AH14=TRUE,AI14=rectangle_shape), s9SWx, NA())","v":{"$error":"#N/A"}},{"$f":"IF(AND(AH15=TRUE,AI15=rectangle_shape), s10SWy, NA())","v":{"$error":"#N/A"}},{"$f":"IF(AND(AH15=TRUE,AI15=rectangle_shape), s10SWx, NA())","v":{"$error":"#N/A"}}]
["S8",{"$f":"Model!A36","v":""},{"$f":"Model!B36","v":0},{"$f":"Model!C36","v":0},{"$f":"IF(ISTEXT(VLOOKUP(s8source,INDIRECT(s8type),1,\"FALSE\")),\"OK\",\"Wrong\")","v":"Wrong"},{"$f":"Model!E36","v":0},{"$f":"IF(D13=\"Manure Storage\",\"Wrong\",IF(ISTEXT(VLOOKUP(F13,INDIRECT(s8manrmv),1,\"FALSE\")),\"OK\",\"Wrong\"))","v":"Wrong"},{"$f":"Model!F36","v":0},{"$f":"IF(D13=\"Manure Storage\",\"Wrong\",IF(ISTEXT(VLOOKUP(H13,INDIRECT(s8mandil),1,\"FALSE\")),\"OK\",\"Wrong\"))","v":"Wrong"},{"$f":"Model!D36","v":0},{"$f":"Model!B22","v":0},{"$f":"Model!C22","v":0},{"$f":"Model!D22","v":0},{"$f":"Model!E22","v":0},{"$f":"Model!F22","v":0},{"$f":"Model!G22","v":0},{"$f":"Model!H22","v":0},{"$f":"Model!G36","v":0},{"$f":"IF(s8ORNT=\"N : S\",\"North\",IF(s8ORNT=\"E : W\",\"East\",\"\"))","v":""},{"$f":"IF(OR(SrcFactors!AP13=\"SBARN\",SrcFactors!AP13=\"SMAN\"),SrcFactors!AO13,IF(OR(SrcFactors!BB13=\"DBARN\",SrcFactors!BB13=\"DMAN\"),SrcFactors!BA13,IF(OR(SrcFactors!BN13=\"LBARN\",SrcFactors!BN13=\"LMAN\"),SrcFactors!BM13,\"\")))","v":""},{"$f":"IF(s8rate=\"\",\"\",IF(s8rate=\"N/A\",\"N/A\",IF(s8rate=\"SOURCE ERROR\",\"CALC ERROR\",s8rate*s8number)))","v":""},{"$f":"IF(SrcFactors!BX13=\"SBARN\",VLOOKUP(s8rmvl,MRTable,2,\"FALSE\"),IF(SrcFactors!BX13=\"DBARN\",VLOOKUP(s8rmvl,DAIRYMRTABLE,2,\"FALSE\"),IF(SrcFactors!BX13=\"LBARN\",VLOOKUP(s8rmvl,LAYERSMRTABLE,2,\"FALSE\"),\"\")))","v":""},{"$f":"IF(SrcFactors!BX13=\"SBARN\",VLOOKUP(s8dil,DRTable,2,\"FALSE\"),IF(SrcFactors!BX13=\"DBARN\",VLOOKUP(s8dil,DAIRYDRTABLE,2,\"FALSE\"),IF(SrcFactors!BX13=\"LBARN\",VLOOKUP(s8dil,layerdrtable,2,\"FALSE\"),\"\")))","v":""},{"$f":"IF(OR(BY13=\"Sbabe\",BY13=\"Smabe\"),SrcFactors!AS13,IF(OR(BY13=\"dairysbabe\",BY13=\"dairysmabe\"),SrcFactors!BE13,IF(OR(BY13=\"layerssbabe\",BY13=\"layersmbabe\"),SrcFactors!BQ13,\"\")))","v":""},{"$f":"IF(OR(BY13=\"Sbabe\",BY13=\"Smabe\"),SrcFactors!AV13,IF(OR(BY13=\"dairysbabe\",BY13=\"dairysmabe\"),SrcFactors!BH13,IF(OR(BY13=\"layerssbabe\",BY13=\"layersmbabe\"),SrcFactors!BT13,\"\")))","v":""},{"$f":"IF(OR(BY13=\"Sbabe\",BY13=\"Smabe\"),SrcFactors!AY13,IF(OR(BY13=\"dairysbabe\",BY13=\"dairysmabe\"),SrcFactors!BK13,IF(OR(BY13=\"layerssbabe\",BY13=\"layersmbabe\"),SrcFactors!BW13,\"\")))","v":""},{"$f":"IF(s8other=\"\",\"\",(100-s8other)/100)","v":""},{"$f":"IF(AND(s8t1=\"\",s8t2=\"\",s8t3=\"\",s8other=\"\"),\"\",IF(ISTEXT(s8t1),s8t1fctr,1)*IF(ISTEXT(s8t2),s8t2fctr,1)*IF(ISTEXT(s8t3),s8t3fctr,1)*IF(ISNUMBER(s8other),s8ofctr,1))","v":""},{"$f":"IF(s8shape=\"\",\"\",s8shape)","v":""},{"$f":"IF(AC13=rectangle_shape,SrcFactors!AJ13,IF(AC13=circle_shape,Circ!AG5,IF(AC13=Blank_shape,0)))","v":0},{"$f":"IF(AC13=rectangle_shape,SrcFactors!AK13,IF(AC13=circle_shape,Circ!AG6,IF(AC13=Blank_shape,0)))","v":0},{"$f":"VLOOKUP(s8type,ManFLagTable,2,\"false\")","v":{"$error":"#N/A"}},{"$f":"VLOOKUP(s8type,ManFLagTable,3,\"false\")","v":{"$error":"#N/A"}},{"$f":"ISNUMBER(s8SWy)","v":false},{"$f":"IF(s8shape=\"\",\"\",s8shape)","v":""},{"$f":"IF(CS9=\"\",0,(((CS9-CS8)/2)+CS8))","v":{"$error":"#N/A"}},{"$f":"IF(CT10=\"\",0,(((CT10-CT9)/2)+CT9))","v":{"$error":"#N/A"}},{"$f":"IF(s8shape=rectangle_shape,IF(s8L=\"\",\"\",VLOOKUP(s8L/s8W,ShapeFactorTable,2,TRUE)),0)","v":0},{"$f":"IF(s8shape=\"circle\",\"\",IF(AH13=TRUE,\"\",SQRT(((CS10^2)+((CT10^2))))))","v":{"$error":"#N/A"}},"S8",{"$f":"IF(s8type=\"swine\",VLOOKUP(s8source,SWINETABLE,2,\"false\"),\"\")","v":""},{"$f":"IF(s8type=\"swine\",VLOOKUP(s8source,SWINETABLE,3,\"false\"),\"\")","v":""},{"$f":"IF(AND($AP13=\"sbarn\",ISTEXT(VLOOKUP(s8t1,BARNABATETABLE,1,\"false\"))),VLOOKUP(s8t1,BARNABATETABLE,2,\"false\")/100,\"\")","v":""},{"$f":"IF(AND($AP13=\"SMAN\",ISTEXT(VLOOKUP(s8t1,STORAGEABATETABLE,1,\"false\"))),VLOOKUP(s8t1,STORAGEABATETABLE,2,\"false\")/100,\"\")","v":""},"",{"$f":"IF(AND($AP13=\"sbarn\",ISTEXT(VLOOKUP(s8t2,BARNABATETABLE,1,\"false\"))),VLOOKUP(s8t2,BARNABATETABLE,2,\"false\")/100,\"\")","v":""},{"$f":"IF(AND($AP13=\"SMAN\",ISTEXT(VLOOKUP(s8t2,STORAGEABATETABLE,1,\"false\"))),VLOOKUP(s8t2,STORAGEABATETABLE,2,\"false\")/100,\"\")","v":""},"",{"$f":"IF(AND($AP13=\"sbarn\",ISTEXT(VLOOKUP(s8t3,BARNABATETABLE,1,\"false\"))),VLOOKUP(s8t3,BARNABATETABLE,2,\"false\")/100,\"\")","v":""},{"$f":"IF(AND($AP13=\"SMAN\",ISTEXT(VLOOKUP(s8t3,STORAGEABATETABLE,1,\"false\"))),VLOOKUP(s8t3,STORAGEABATETABLE,2,\"false\")/100,\"\")","v":""},"","S8",{"$f":"IF(s8type=\"dairy\",VLOOKUP(s8source,DAIRYTABLE,2,\"false\"),\"\")","v":""},{"$f":"IF(s8type=\"dairy\",VLOOKUP(s8source,DAIRYTABLE,3,\"false\"),\"\")","v":""},{"$f":"IF(AND($BB13=\"DBARN\",ISTEXT(VLOOKUP(s8t1,DAIRYBARNABATETABLE,1,\"false\"))),VLOOKUP(s8t1,DAIRYBARNABATETABLE,2,\"false\")/100,\"\")","v":""},{"$f":"IF(AND($BB13=\"DMAN\",ISTEXT(VLOOKUP(s8t1,DAIRYSTORAGEABATETABLE,1,\"false\"))),VLOOKUP(s8t1,DAIRYSTORAGEABATETABLE,2,\"false\")/100,\"\")","v":""},"",{"$f":"IF(AND($BB13=\"DBARN\",ISTEXT(VLOOKUP(s8t2,DAIRYBARNABATETABLE,1,\"false\"))),VLOOKUP(s8t2,DAIRYBARNABATETABLE,2,\"false\")/100,\"\")","v":""},{"$f":"IF(AND($BB13=\"DMAN\",ISTEXT(VLOOKUP(s8t2,DAIRYSTORAGEABATETABLE,1,\"false\"))),VLOOKUP(s8t2,DAIRYSTORAGEABATETABLE,2,\"false\")/100,\"\")","v":""},"",{"$f":"IF(AND($BB13=\"DBARN\",ISTEXT(VLOOKUP(s8t3,DAIRYBARNABATETABLE,1,\"false\"))),VLOOKUP(s8t3,DAIRYBARNABATETABLE,2,\"false\")/100,\"\")","v":""},{"$f":"IF(AND($BB13=\"DMAN\",ISTEXT(VLOOKUP(s8t3,DAIRYSTORAGEABATETABLE,1,\"false\"))),VLOOKUP(s8t3,DAIRYSTORAGEABATETABLE,2,\"false\")/100,\"\")","v":""},"","S8",{"$f":"IF(s8type=\"poultry\",VLOOKUP(s8source,LAYERTABLE,2,\"false\"),\"\")","v":""},{"$f":"IF(s8type=\"poultry\",VLOOKUP(s8source,LAYERTABLE,3,\"false\"),\"\")","v":""},{"$f":"IF(AND($BN13=\"LBARN\",ISTEXT(VLOOKUP(s8t1,LAYERSBARNABATETABLE,1))),VLOOKUP(s8t1,LAYERSBARNABATETABLE,2,\"false\")/100,\"\")","v":""},{"$f":"IF(AND($BN13=\"LMAN\",ISTEXT(VLOOKUP(s8t1,layersstorageabatetable,1))),VLOOKUP(s8t1,layersstorageabatetable,2,\"false\")/100,\"\")","v":""},"",{"$f":"IF(AND($BN13=\"LBARN\",ISTEXT(VLOOKUP(s8t2,LAYERSBARNABATETABLE,1))),VLOOKUP(s8t2,LAYERSBARNABATETABLE,2,\"false\")/100,\"\")","v":""},{"$f":"IF(AND($BN13=\"LMAN\",ISTEXT(VLOOKUP(s8t2,layersstorageabatetable,1))),VLOOKUP(s8t2,layersstorageabatetable,2,\"false\")/100,\"\")","v":""},"",{"$f":"IF(AND($BN13=\"LBARN\",ISTEXT(VLOOKUP(s8t3,LAYERSBARNABATETABLE,1))),VLOOKUP(s8t3,LAYERSBARNABATETABLE,2,\"false\")/100,\"\")","v":""},{"$f":"IF(AND($BN13=\"LMAN\",ISTEXT(VLOOKUP(s8t3,layersstorageabatetable,1))),VLOOKUP(s8t3,layersstorageabatetable,2,\"false\")/100,\"\")","v":""},"",{"$f":"IF(s8type=\"swine\",VLOOKUP(s8source,SWINETABLE,3,\"false\"),IF(s8type=\"dairy\",VLOOKUP(s8source,DAIRYTABLE,3,\"false\"),IF(s8type=\"poultry\",VLOOKUP(s8source,LAYERTABLE,3,\"false\"),\"\")))","v":""},{"$f":"IF(ISTEXT(VLOOKUP(SrcFactors!BX13,Abatementflag,2,\"false\")),VLOOKUP(SrcFactors!BX13,Abatementflag,2,\"false\"),\"\")","v":""},null,"R_NMIN=",{"$f":"MIN(CE14,CG14,CI14,CK14,CM14,CO14,CQ14,CS14,CU14,CW14)","v":0},null,"Max",{"$f":"IF(ISNUMBER(CE8),MAX(CE8:CE12),\"\")","v":""},"","","","","","","","","","","","","","","","","","",""]
["S9",{"$f":"Model!A37","v":""},{"$f":"Model!B37","v":0},{"$f":"Model!C37","v":0},{"$f":"IF(ISTEXT(VLOOKUP(s9source,INDIRECT(s9type),1,\"FALSE\")),\"OK\",\"Wrong\")","v":"Wrong"},{"$f":"Model!E37","v":0},{"$f":"IF(D14=\"Manure Storage\",\"Wrong\",IF(ISTEXT(VLOOKUP(F14,INDIRECT(s9manrmv),1,\"FALSE\")),\"OK\",\"Wrong\"))","v":"Wrong"},{"$f":"Model!F37","v":0},{"$f":"IF(D14=\"Manure Storage\",\"Wrong\",IF(ISTEXT(VLOOKUP(H14,INDIRECT(s9mandil),1,\"FALSE\")),\"OK\",\"Wrong\"))","v":"Wrong"},{"$f":"Model!D37","v":0},{"$f":"Model!B23","v":0},{"$f":"Model!C23","v":0},{"$f":"Model!D23","v":0},{"$f":"Model!E23","v":0},{"$f":"Model!F23","v":0},{"$f":"Model!G23","v":0},{"$f":"Model!H23","v":0},{"$f":"Model!G37","v":0},{"$f":"IF(s9ORNT=\"N : S\",\"North\",IF(s9ORNT=\"E : W\",\"East\",\"\"))","v":""},{"$f":"IF(OR(SrcFactors!AP14=\"SBARN\",SrcFactors!AP14=\"SMAN\"),SrcFactors!AO14,IF(OR(SrcFactors!BB14=\"DBARN\",SrcFactors!BB14=\"DMAN\"),SrcFactors!BA14,IF(OR(SrcFactors!BN14=\"LBARN\",SrcFactors!BN14=\"LMAN\"),SrcFactors!BM14,\"\")))","v":""},{"$f":"IF(s9rate=\"\",\"\",IF(s9rate=\"N/A\",\"N/A\",IF(s9rate=\"SOURCE ERROR\",\"CALC ERROR\",s9rate*s9number)))","v":""},{"$f":"IF(SrcFactors!BX14=\"SBARN\",VLOOKUP(s9rmvl,MRTable,2,\"FALSE\"),IF(SrcFactors!BX14=\"DBARN\",VLOOKUP(s9rmvl,DAIRYMRTABLE,2,\"FALSE\"),IF(SrcFactors!BX14=\"LBARN\",VLOOKUP(s9rmvl,LAYERSMRTABLE,2,\"FALSE\"),\"\")))","v":""},{"$f":"IF(SrcFactors!BX14=\"SBARN\",VLOOKUP(s9dil,DRTable,2,\"FALSE\"),IF(SrcFactors!BX14=\"DBARN\",VLOOKUP(s9dil,DAIRYDRTABLE,2,\"FALSE\"),IF(SrcFactors!BX14=\"LBARN\",VLOOKUP(s9dil,layerdrtable,2,\"FALSE\"),\"\")))","v":""},{"$f":"IF(OR(BY14=\"Sbabe\",BY14=\"Smabe\"),SrcFactors!AS14,IF(OR(BY14=\"dairysbabe\",BY14=\"dairysmabe\"),SrcFactors!BE14,IF(OR(BY14=\"layerssbabe\",BY14=\"layersmbabe\"),SrcFactors!BQ14,\"\")))","v":""},{"$f":"IF(OR(BY14=\"Sbabe\",BY14=\"Smabe\"),SrcFactors!AV14,IF(OR(BY14=\"dairysbabe\",BY14=\"dairysmabe\"),SrcFactors!BH14,IF(OR(BY14=\"layerssbabe\",BY14=\"layersmbabe\"),SrcFactors!BT14,\"\")))","v":""},{"$f":"IF(OR(BY14=\"Sbabe\",BY14=\"Smabe\"),SrcFactors!AY14,IF(OR(BY14=\"dairysbabe\",BY14=\"dairysmabe\"),SrcFactors!BK14,IF(OR(BY14=\"layerssbabe\",BY14=\"layersmbabe\"),SrcFactors!BW14,\"\")))","v":""},{"$f":"IF(s9other=\"\",\"\",(100-s9other)/100)","v":""},{"$f":"IF(AND(s9t1=\"\",s9t2=\"\",s9t3=\"\",s9other=\"\"),\"\",IF(ISTEXT(s9t1),s9t1fctr,1)*IF(ISTEXT(s9t2),s9t2fctr,1)*IF(ISTEXT(s9t3),s9t3fctr,1)*IF(ISNUMBER(s9other),s9ofctr,1))","v":""},{"$f":"IF(s9shape=\"\",\"\",s9shape)","v":""},{"$f":"IF(AC14=rectangle_shape,SrcFactors!AJ14,IF(AC14=circle_shape,Circ!AK5,IF(AC14=Blank_shape,0)))","v":0},{"$f":"IF(AC14=rectangle_shape,SrcFactors!AK14,IF(AC14=circle_shape,Circ!AK6,IF(AC14=Blank_shape,0)))","v":0},{"$f":"VLOOKUP(s9type,ManFLagTable,2,\"false\")","v":{"$error":"#N/A"}},{"$f":"VLOOKUP(s9type,ManFLagTable,3,\"false\")","v":{"$error":"#N/A"}},{"$f":"ISNUMBER(s9SWy)","v":false},{"$f":"IF(s9shape=\"\",\"\",s9shape)","v":""},{"$f":"IF(CU9=\"\",0,(((CU9-CU8)/2)+CU8))","v":{"$error":"#N/A"}},{"$f":"IF(CV10=\"\",0,(((CV10-CV9)/2)+CV9))","v":{"$error":"#N/A"}},{"$f":"IF(s9shape=rectangle_shape,IF(s9L=\"\",\"\",VLOOKUP(s9L/s9W,ShapeFactorTable,2,TRUE)),0)","v":0},{"$f":"IF(s9shape=\"circle\",\"\",IF(AH14=TRUE,\"\",SQRT(((CU10^2)+((CV10^2))))))","v":{"$error":"#N/A"}},"S9",{"$f":"IF(s9type=\"swine\",VLOOKUP(s9source,SWINETABLE,2,\"false\"),\"\")","v":""},{"$f":"IF(s9type=\"swine\",VLOOKUP(s9source,SWINETABLE,3,\"false\"),\"\")","v":""},{"$f":"IF(AND($AP14=\"sbarn\",ISTEXT(VLOOKUP(s9t1,BARNABATETABLE,1,\"false\"))),VLOOKUP(s9t1,BARNABATETABLE,2,\"false\")/100,\"\")","v":""},{"$f":"IF(AND($AP14=\"SMAN\",ISTEXT(VLOOKUP(s9t1,STORAGEABATETABLE,1,\"false\"))),VLOOKUP(s9t1,STORAGEABATETABLE,2,\"false\")/100,\"\")","v":""},"",{"$f":"IF(AND($AP14=\"sbarn\",ISTEXT(VLOOKUP(s9t2,BARNABATETABLE,1,\"false\"))),VLOOKUP(s9t2,BARNABATETABLE,2,\"false\")/100,\"\")","v":""},{"$f":"IF(AND($AP14=\"SMAN\",ISTEXT(VLOOKUP(s9t2,STORAGEABATETABLE,1,\"false\"))),VLOOKUP(s9t2,STORAGEABATETABLE,2,\"false\")/100,\"\")","v":""},"",{"$f":"IF(AND($AP14=\"sbarn\",ISTEXT(VLOOKUP(s9t3,BARNABATETABLE,1,\"false\"))),VLOOKUP(s9t3,BARNABATETABLE,2,\"false\")/100,\"\")","v":""},{"$f":"IF(AND($AP14=\"SMAN\",ISTEXT(VLOOKUP(s9t3,STORAGEABATETABLE,1,\"false\"))),VLOOKUP(s9t3,STORAGEABATETABLE,2,\"false\")/100,\"\")","v":""},"","S9",{"$f":"IF(s9type=\"dairy\",VLOOKUP(s9source,DAIRYTABLE,2,\"false\"),\"\")","v":""},{"$f":"IF(s9type=\"dairy\",VLOOKUP(s9source,DAIRYTABLE,3,\"false\"),\"\")","v":""},{"$f":"IF(AND($BB14=\"DBARN\",ISTEXT(VLOOKUP(s9t1,DAIRYBARNABATETABLE,1,\"false\"))),VLOOKUP(s9t1,DAIRYBARNABATETABLE,2,\"false\")/100,\"\")","v":""},{"$f":"IF(AND($BB14=\"DMAN\",ISTEXT(VLOOKUP(s9t1,DAIRYSTORAGEABATETABLE,1,\"false\"))),VLOOKUP(s9t1,DAIRYSTORAGEABATETABLE,2,\"false\")/100,\"\")","v":""},"",{"$f":"IF(AND($BB14=\"DBARN\",ISTEXT(VLOOKUP(s9t2,DAIRYBARNABATETABLE,1,\"false\"))),VLOOKUP(s9t2,DAIRYBARNABATETABLE,2,\"false\")/100,\"\")","v":""},{"$f":"IF(AND($BB14=\"DMAN\",ISTEXT(VLOOKUP(s9t2,DAIRYSTORAGEABATETABLE,1,\"false\"))),VLOOKUP(s9t2,DAIRYSTORAGEABATETABLE,2,\"false\")/100,\"\")","v":""},"",{"$f":"IF(AND($BB14=\"DBARN\",ISTEXT(VLOOKUP(s9t3,DAIRYBARNABATETABLE,1,\"false\"))),VLOOKUP(s9t3,DAIRYBARNABATETABLE,2,\"false\")/100,\"\")","v":""},{"$f":"IF(AND($BB14=\"DMAN\",ISTEXT(VLOOKUP(s9t3,DAIRYSTORAGEABATETABLE,1,\"false\"))),VLOOKUP(s9t3,DAIRYSTORAGEABATETABLE,2,\"false\")/100,\"\")","v":""},"","S9",{"$f":"IF(s9type=\"poultry\",VLOOKUP(s9source,LAYERTABLE,2,\"false\"),\"\")","v":""},{"$f":"IF(s9type=\"poultry\",VLOOKUP(s9source,LAYERTABLE,3,\"false\"),\"\")","v":""},{"$f":"IF(AND($BN14=\"LBARN\",ISTEXT(VLOOKUP(s9t1,LAYERSBARNABATETABLE,1))),VLOOKUP(s9t1,LAYERSBARNABATETABLE,2,\"false\")/100,\"\")","v":""},{"$f":"IF(AND($BN14=\"LMAN\",ISTEXT(VLOOKUP(s9t1,layersstorageabatetable,1))),VLOOKUP(s9t1,layersstorageabatetable,2,\"false\")/100,\"\")","v":""},"",{"$f":"IF(AND($BN14=\"LBARN\",ISTEXT(VLOOKUP(s9t2,LAYERSBARNABATETABLE,1))),VLOOKUP(s9t2,LAYERSBARNABATETABLE,2,\"false\")/100,\"\")","v":""},{"$f":"IF(AND($BN14=\"LMAN\",ISTEXT(VLOOKUP(s9t2,layersstorageabatetable,1))),VLOOKUP(s9t2,layersstorageabatetable,2,\"false\")/100,\"\")","v":""},"",{"$f":"IF(AND($BN14=\"LBARN\",ISTEXT(VLOOKUP(s9t3,LAYERSBARNABATETABLE,1))),VLOOKUP(s9t3,LAYERSBARNABATETABLE,2,\"false\")/100,\"\")","v":""},{"$f":"IF(AND($BN14=\"LMAN\",ISTEXT(VLOOKUP(s9t3,layersstorageabatetable,1))),VLOOKUP(s9t3,layersstorageabatetable,2,\"false\")/100,\"\")","v":""},"",{"$f":"IF(s9type=\"swine\",VLOOKUP(s9source,SWINETABLE,3,\"false\"),IF(s9type=\"dairy\",VLOOKUP(s9source,DAIRYTABLE,3,\"false\"),IF(s9type=\"poultry\",VLOOKUP(s9source,LAYERTABLE,3,\"false\"),\"\")))","v":""},{"$f":"IF(ISTEXT(VLOOKUP(SrcFactors!BX14,Abatementflag,2,\"false\")),VLOOKUP(SrcFactors!BX14,Abatementflag,2,\"false\"),\"\")","v":""},null,"Emin =",{"$f":"MIN(CB12,Circ!F80)","v":0},null,"Min",{"$f":"IF(ISNUMBER(CE8),MIN(CE8:CE12),\"\")","v":""},"","","","","","","","","","","","","","","","","","",""]
["S10",{"$f":"Model!A38","v":""},{"$f":"Model!B38","v":0},{"$f":"Model!C38","v":0},{"$f":"IF(ISTEXT(VLOOKUP(s10source,INDIRECT(s10type),1,\"FALSE\")),\"OK\",\"Wrong\")","v":"Wrong"},{"$f":"Model!E38","v":0},{"$f":"IF(D15=\"Manure Storage\",\"Wrong\",IF(ISTEXT(VLOOKUP(F15,INDIRECT(s10manrmv),1,\"FALSE\")),\"OK\",\"Wrong\"))","v":"Wrong"},{"$f":"Model!F38","v":0},{"$f":"IF(D15=\"Manure Storage\",\"Wrong\",IF(ISTEXT(VLOOKUP(H15,INDIRECT(s10mandil),1,\"FALSE\")),\"OK\",\"Wrong\"))","v":"Wrong"},{"$f":"Model!D38","v":0},{"$f":"Model!B24","v":0},{"$f":"Model!C24","v":0},{"$f":"Model!D24","v":0},{"$f":"Model!E24","v":0},{"$f":"Model!F24","v":0},{"$f":"Model!G24","v":0},{"$f":"Model!H24","v":0},{"$f":"Model!G38","v":0},{"$f":"IF(s10ORNT=\"N : S\",\"North\",IF(s10ORNT=\"E : W\",\"East\",\"\"))","v":""},{"$f":"IF(OR(SrcFactors!AP15=\"SBARN\",SrcFactors!AP15=\"SMAN\"),SrcFactors!AO15,IF(OR(SrcFactors!BB15=\"DBARN\",SrcFactors!BB15=\"DMAN\"),SrcFactors!BA15,IF(OR(SrcFactors!BN15=\"LBARN\",SrcFactors!BN15=\"LMAN\"),SrcFactors!BM15,\"\")))","v":""},{"$f":"IF(s10rate=\"\",\"\",IF(s10rate=\"N/A\",\"N/A\",IF(s10rate=\"SOURCE ERROR\",\"CALC ERROR\",s10rate*s10number)))","v":""},{"$f":"IF(SrcFactors!BX15=\"SBARN\",VLOOKUP(s10rmvl,MRTable,2,\"FALSE\"),IF(SrcFactors!BX15=\"DBARN\",VLOOKUP(s10rmvl,DAIRYMRTABLE,2,\"FALSE\"),IF(SrcFactors!BX15=\"LBARN\",VLOOKUP(s10rmvl,LAYERSMRTABLE,2,\"FALSE\"),\"\")))","v":""},{"$f":"IF(SrcFactors!BX15=\"SBARN\",VLOOKUP(s10dil,DRTable,2,\"FALSE\"),IF(SrcFactors!BX15=\"DBARN\",VLOOKUP(s10dil,DAIRYDRTABLE,2,\"FALSE\"),IF(SrcFactors!BX15=\"LBARN\",VLOOKUP(s10dil,layerdrtable,2,\"FALSE\"),\"\")))","v":""},{"$f":"IF(OR(BY15=\"Sbabe\",BY15=\"Smabe\"),SrcFactors!AS15,IF(OR(BY15=\"dairysbabe\",BY15=\"dairysmabe\"),SrcFactors!BE15,IF(OR(BY15=\"layerssbabe\",BY15=\"layersmbabe\"),SrcFactors!BQ15,\"\")))","v":""},{"$f":"IF(OR(BY15=\"Sbabe\",BY15=\"Smabe\"),SrcFactors!AV15,IF(OR(BY15=\"dairysbabe\",BY15=\"dairysmabe\"),SrcFactors!BH15,IF(OR(BY15=\"layerssbabe\",BY15=\"layersmbabe\"),SrcFactors!BT15,\"\")))","v":""},{"$f":"IF(OR(BY15=\"Sbabe\",BY15=\"Smabe\"),SrcFactors!AY15,IF(OR(BY15=\"dairysbabe\",BY15=\"dairysmabe\"),SrcFactors!BK15,IF(OR(BY15=\"layerssbabe\",BY15=\"layersmbabe\"),SrcFactors!BW15,\"\")))","v":""},{"$f":"IF(s10other=\"\",\"\",(100-s10other)/100)","v":""},{"$f":"IF(AND(s10t1=\"\",s10t2=\"\",s10t3=\"\",s10other=\"\"),\"\",IF(ISTEXT(s10t1),s10t1fctr,1)*IF(ISTEXT(s10t2),s10t2fctr,1)*IF(ISTEXT(s10t3),s10t3fctr,1)*IF(ISNUMBER(s10other),s10ofctr,1))","v":""},{"$f":"IF(s10shape=\"\",\"\",s10shape)","v":""},{"$f":"IF(AC15=rectangle_shape,SrcFactors!AJ15,IF(AC15=circle_shape,Circ!AO5,IF(AC15=Blank_shape,0)))","v":0},{"$f":"IF(AC15=rectangle_shape,SrcFactors!AK15,IF(AC15=circle_shape,Circ!AO6,IF(AC15=Blank_shape,0)))","v":0},{"$f":"VLOOKUP(s10type,ManFLagTable,2,\"false\")","v":{"$error":"#N/A"}},{"$f":"VLOOKUP(s10type,ManFLagTable,3,\"false\")","v":{"$error":"#N/A"}},{"$f":"ISNUMBER(s10SWy)","v":false},{"$f":"IF(s10shape=\"\",\"\",s10shape)","v":""},{"$f":"IF(CW9=\"\",0,(((CW9-CW8)/2)+CW8))","v":{"$error":"#N/A"}},{"$f":"IF(CX10=\"\",0,(((CX10-CX9)/2)+CX9))","v":{"$error":"#N/A"}},{"$f":"IF(s10shape=rectangle_shape,IF(s10L=\"\",\"\",VLOOKUP(s10L/s10W,ShapeFactorTable,2,TRUE)),0)","v":0},{"$f":"IF(s10shape=\"circle\",\"\",IF(AH15=TRUE,\"\",SQRT(((CW10^2)+((CX10^2))))))","v":{"$error":"#N/A"}},"S10",{"$f":"IF(s10type=\"swine\",VLOOKUP(s10source,SWINETABLE,2,\"false\"),\"\")","v":""},{"$f":"IF(s10type=\"swine\",VLOOKUP(s10source,SWINETABLE,3,\"false\"),\"\")","v":""},{"$f":"IF(AND($AP15=\"sbarn\",ISTEXT(VLOOKUP(s10t1,BARNABATETABLE,1,\"false\"))),VLOOKUP(s10t1,BARNABATETABLE,2,\"false\")/100,\"\")","v":""},{"$f":"IF(AND($AP15=\"SMAN\",ISTEXT(VLOOKUP(s10t1,STORAGEABATETABLE,1,\"false\"))),VLOOKUP(s10t1,STORAGEABATETABLE,2,\"false\")/100,\"\")","v":""},"",{"$f":"IF(AND($AP15=\"sbarn\",ISTEXT(VLOOKUP(s10t2,BARNABATETABLE,1,\"false\"))),VLOOKUP(s10t2,BARNABATETABLE,2,\"false\")/100,\"\")","v":""},{"$f":"IF(AND($AP15=\"SMAN\",ISTEXT(VLOOKUP(s10t2,STORAGEABATETABLE,1,\"false\"))),VLOOKUP(s10t2,STORAGEABATETABLE,2,\"false\")/100,\"\")","v":""},"",{"$f":"IF(AND($AP15=\"sbarn\",ISTEXT(VLOOKUP(s10t3,BARNABATETABLE,1,\"false\"))),VLOOKUP(s10t3,BARNABATETABLE,2,\"false\")/100,\"\")","v":""},{"$f":"IF(AND($AP15=\"SMAN\",ISTEXT(VLOOKUP(s10t3,STORAGEABATETABLE,1,\"false\"))),VLOOKUP(s10t3,STORAGEABATETABLE,2,\"false\")/100,\"\")","v":""},"","S10",{"$f":"IF(s10type=\"dairy\",VLOOKUP(s10source,DAIRYTABLE,2,\"false\"),\"\")","v":""},{"$f":"IF(s10type=\"dairy\",VLOOKUP(s10source,DAIRYTABLE,3,\"false\"),\"\")","v":""},{"$f":"IF(AND($BB15=\"DBARN\",ISTEXT(VLOOKUP(s10t1,DAIRYBARNABATETABLE,1,\"false\"))),VLOOKUP(s10t1,DAIRYBARNABATETABLE,2,\"false\")/100,\"\")","v":""},{"$f":"IF(AND($BB15=\"DMAN\",ISTEXT(VLOOKUP(s10t1,DAIRYSTORAGEABATETABLE,1,\"false\"))),VLOOKUP(s10t1,DAIRYSTORAGEABATETABLE,2,\"false\")/100,\"\")","v":""},"",{"$f":"IF(AND($BB15=\"DBARN\",ISTEXT(VLOOKUP(s10t2,DAIRYBARNABATETABLE,1,\"false\"))),VLOOKUP(s10t2,DAIRYBARNABATETABLE,2,\"false\")/100,\"\")","v":""},{"$f":"IF(AND($BB15=\"DMAN\",ISTEXT(VLOOKUP(s10t2,DAIRYSTORAGEABATETABLE,1,\"false\"))),VLOOKUP(s10t2,DAIRYSTORAGEABATETABLE,2,\"false\")/100,\"\")","v":""},"",{"$f":"IF(AND($BB15=\"DBARN\",ISTEXT(VLOOKUP(s10t3,DAIRYBARNABATETABLE,1,\"false\"))),VLOOKUP(s10t3,DAIRYBARNABATETABLE,2,\"false\")/100,\"\")","v":""},{"$f":"IF(AND($BB15=\"DMAN\",ISTEXT(VLOOKUP(s10t3,DAIRYSTORAGEABATETABLE,1,\"false\"))),VLOOKUP(s10t3,DAIRYSTORAGEABATETABLE,2,\"false\")/100,\"\")","v":""},"","S10",{"$f":"IF(s10type=\"poultry\",VLOOKUP(s10source,LAYERTABLE,2,\"false\"),\"\")","v":""},{"$f":"IF(s10type=\"poultry\",VLOOKUP(s10source,LAYERTABLE,3,\"false\"),\"\")","v":""},{"$f":"IF(AND($BN15=\"LBARN\",ISTEXT(VLOOKUP(s10t1,LAYERSBARNABATETABLE,1))),VLOOKUP(s10t1,LAYERSBARNABATETABLE,2,\"false\")/100,\"\")","v":""},{"$f":"IF(AND($BN15=\"LMAN\",ISTEXT(VLOOKUP(s10t1,layersstorageabatetable,1))),VLOOKUP(s10t1,layersstorageabatetable,2,\"false\")/100,\"\")","v":""},"",{"$f":"IF(AND($BN15=\"LBARN\",ISTEXT(VLOOKUP(s10t2,LAYERSBARNABATETABLE,1))),VLOOKUP(s10t2,LAYERSBARNABATETABLE,2,\"false\")/100,\"\")","v":""},{"$f":"IF(AND($BN15=\"LMAN\",ISTEXT(VLOOKUP(s10t2,layersstorageabatetable,1))),VLOOKUP(s10t2,layersstorageabatetable,2,\"false\")/100,\"\")","v":""},"",{"$f":"IF(AND($BN15=\"LBARN\",ISTEXT(VLOOKUP(s10t3,LAYERSBARNABATETABLE,1))),VLOOKUP(s10t3,LAYERSBARNABATETABLE,2,\"false\")/100,\"\")","v":""},{"$f":"IF(AND($BN15=\"LMAN\",ISTEXT(VLOOKUP(s10t3,layersstorageabatetable,1))),VLOOKUP(s10t3,layersstorageabatetable,2,\"false\")/100,\"\")","v":""},"",{"$f":"IF(s10type=\"swine\",VLOOKUP(s10source,SWINETABLE,3,\"false\"),IF(s10type=\"dairy\",VLOOKUP(s10source,DAIRYTABLE,3,\"false\"),IF(s10type=\"poultry\",VLOOKUP(s10source,LAYERTABLE,3,\"false\"),\"\")))","v":""},{"$f":"IF(ISTEXT(VLOOKUP(SrcFactors!BX15,Abatementflag,2,\"false\")),VLOOKUP(SrcFactors!BX15,Abatementflag,2,\"false\"),\"\")","v":""},null,"Nmin =",{"$f":"MIN(CB13,Circ!F81)","v":0}]
[null,null,null,null,null,null,null,null,null,null,null,null,null,null,null,null,null,null,null,null,{"$f":"SUM(U6:U15)","v":0},null,null,null,null,null,null,null,null,null,null,null,null,null,null,null,null,null,null,null,null,null,null,null,null,null,null,null,null,null,null,null,null,null,null,null,null,null,null,null,null,null,null,null,null,null,null,null,null,null,null,null,null,null,null,null,null,null,"Total Length =",{"$f":"MAX(CB10:CB11)","v":0}]
[null,null,null,null,null,null,null,null,null,null,null,null,null,null,null,null,null,null,null,null,null,null,null,null,null,null,null,null,null,null,null,null,null,null,null,null,null,null,null,null,null,null,null,null,null,null,null,null,null,null,null,null,null,null,null,null,null,null,null,null,null,null,null,null,null,null,{"$f":"ISTEXT(VLOOKUP(s3t1,LAYERSBARNABATETABLE,1))","v":false},null,null,null,null,null,null,null,null,null,null,null,"Total Width =",{"$f":"MIN(CB10:CB11)","v":0}]
[null,null,null,null,null,null,null,null,null,null,null,null,null,null,null,null,null,null,null,null,null,null,null,null,null,null,null,null,null,null,null,null,null,null,null,null,null,null,null,null,null,null,null,null,null,null,null,null,null,null,null,null,null,null,null,null,null,null,null,null,null,null,null,null,null,null,null,null,null,null,null,null,null,null,null,null,null,null,"Site d-SHAPE FCTR",{"$f":"IF(pL=\"\",\"\",VLOOKUP(pL/pW,ShapeFactorTable,2,TRUE))","v":{"$error":"#DIV/0!"}}]

{"sheet":"Animal","index":13,"n_rows":43,"n_cols":27,"rows_kept":43,"cut":false,"hidden":true,"merged":[]}
["IDEM Manure Production Rates",null,null,null,null,null,null,null,"MWPS Manure Production Rates"]
[null,null,"Solid","Liquid ","Solid","Liquid ",null,"PUCES, 1999",null,null,"Manure Production",null,null,null,"ANIMAL UNITS CALCS","Assumed weights, lb",null,null,null,"ANIMAL UNITS CALCS","Assumed average weights, lb"]
[null,null,"ft3/day","ft3/day","gpd","gpd","kg/d-animal",null,null,"lb/day","ft3/day","VS","BOD",null,"Animal Type","lb","kg","AU/hd",null,"Animal Type","lb","kg","AU/hd"]
["Swine",null,null,null,null,null,null,null,"Swine",null,null,"lb/day","lb/day",null,"Nursery",35,{"$f":"P4/2.2","v":15.909090909090908},{"$f":"P4/(2.205*500)","v":3.1746031746031744E-2},null,"Dairy"]
["  Nursery pig",null,0.02,0.05,{"$f":"7.4805*C5","v":0.14960999999999999},0.37402500000000005,null,null,"  Nursery pig, 35 lb",2.2999999999999998,{"$f":"J5/61.856","v":3.718313502327987E-2},0.3,0.11,null,"Farrowing",375,170.45454545454544,{"$f":"P5/(2.205*500)","v":0.3401360544217687},null,"Lactating Cow (Holstein)",1400,{"$f":"U5/2.2","v":636.36363636363626},{"$f":"U5/(2.205*500)","v":1.2698412698412698}]
["  Grower/Finishing",null,0.08,0.18,0.59843999999999997,1.34649,null,null,"Growing pig, 65 lb",4.2,6.789963786859804E-2,0.55000000000000004,0.2,null,"Gestation",275,124.99999999999999,0.24943310657596371,null,"Dry Cow (Holstein)",1550,704.5454545454545,1.4058956916099774]
["  Farrowing",null,0.21,0.51,1.570905,3.8150550000000001,null,null,"Finishing pig, 150 lb",9.8000000000000007,0.15843248836006207,1.28,0.47,null,"Grower",65,29.545454545454543,5.8956916099773243E-2,null,"Heifer",750,340.90909090909088,0.68027210884353739]
["  Breeding/Gestation",null,0.09,0.16,0.67324499999999998,1.1968799999999999,null,null,"Finishing pig, 200lb",13.1,0.21178220382824625,1.71,0.63,null,"Finishing",150,68.181818181818173,0.1360544217687075,null,"Heifer (16-24 mo.)",1050,477.27272727272725,0.95238095238095233]
[null,null,null,null,null,null,null,null,"Gestating sow, 275 lb",9,0.14549922400413864,0.66,0.27,null,"Boar",350,159.09090909090907,0.31746031746031744,null,"Heifer (13-15 mo.)",800,363.63636363636363,0.7256235827664399]
["Dairy",null,null,null,null,null,null,null,"Sow and litter, 375 lb",22.5,0.3637480600103466,1.64,0.68,null,"Lactating Cow",1400,636.36363636363626,1.2698412698412698,null,"Heifer (9-12 mo.)",600,272.72727272727269,0.54421768707482998]
["  Calf",null,0.13,0.26,{"$f":"7.4805*C11","v":0.97246500000000002},1.94493,null,null,"Boar, 350 lb",11.5,0.18591567511639936,0.84,0.34,null,"Dry Cow",1400,636.36363636363626,1.2698412698412698,null,"Heifer (5-8 mo.)",400,181.81818181818181,0.36281179138321995]
["  Heifer",null,0.56999999999999995,1.1000000000000001,4.2638850000000001,8.2285500000000003,null,null,null,null,null,null,null,null,"Heifer",750,340.90909090909088,0.68027210884353739,null,"Heifer (3-4 mo.)",250,113.63636363636363,0.22675736961451248]
["  Cow",null,1.83,3,13.689315000000001,22.441500000000001,null,null,null,null,null,null,null,null,"Calf",250,113.63636363636363,0.22675736961451248,null,"Calves (0-2 mo.)",150,68.181818181818173,0.1360544217687075]
["  Veal Calf",null,0.1,0.15,0.7480500000000001,1.1220749999999999,null,null,null,null,null,null,null,null,"Laying Hens, deep pit, 5 tier",3.5,1.5909090909090908,3.1746031746031746E-3,null,"Swine"]
[null,null,null,null,null,null,null,null,null,null,null,null,null,null,null,null,null,null,null,"Prenursery pig",20,{"$f":"U15/2.2","v":9.0909090909090899},{"$f":"U15/(2.205*500)","v":1.8140589569160998E-2}]
["Beef",null,null,null,null,null,null,null,null,null,null,null,null,null,null,null,null,null,null,"Nursery pig",40,18.18181818181818,3.6281179138321996E-2]
["  Feeder calf",null,0.32,0.56999999999999995,{"$f":"7.4805*C17","v":2.3937599999999999},4.2638850000000001,null,null,null,null,null,null,null,null,null,null,null,null,null,"Grower pig",65,29.545454545454543,5.8956916099773243E-2]
["  Fattening cattle",null,0.54,1.1399999999999999,4.0394700000000006,8.5277700000000003,null,null,null,null,null,null,null,null,null,null,null,null,null,"Finishing pig",150,68.181818181818173,0.1360544217687075]
["  Mature Cow",null,0.59,1.32,4.4134950000000002,9.8742600000000014,null,null,null,null,null,null,null,null,null,null,null,null,null,"Gilt",275,124.99999999999999,0.24943310657596371]
[null,null,null,null,null,null,null,null,null,null,null,null,null,null,null,null,null,null,null,"Gestating sow",325,147.72727272727272,0.29478458049886619]
["Poultry",null,null,null,null,null,null,null,null,null,null,null,null,null,null,null,null,null,null,"Sow and litter",400,181.81818181818181,0.36281179138321995,null,"Large tom turkey",10000,{"$f":"W28*Z21","v":108.84353741496598}]
["  Broiler",null,1E-3,4.0000000000000001E-3,{"$f":"7.4805*C22","v":7.4805000000000002E-3},2.9922000000000001E-2,null,2.1999999999999999E-2,null,null,null,null,null,null,null,null,null,null,null,"Boar",350,159.09090909090907,0.31746031746031744,null,"Small tom turkey",10000,{"$f":"W29*Z22","v":81.632653061224502}]
["  Pullet",null,1E-3,4.0000000000000001E-3,7.4805000000000002E-3,2.9922000000000001E-2,{"$f":"0.0485","v":4.8500000000000001E-2},2.7E-2,null,null,null,null,null,null,null,null,null,null,null,"Sheep",100,45.454545454545453,9.0702947845804988E-2,null,"Large turkey hen",10000,{"$f":"W30*Z23","v":90.702947845804985}]
["  Layer",null,2E-3,0.01,1.4961E-2,7.4804999999999996E-2,6.08E-2,0.04,null,null,null,null,null,null,null,null,null,null,null,"Poultry",null,null,null,null,"Small  turkey hen",10000,{"$f":"W31*Z24","v":45.351473922902493}]
["  Turkey",null,3.0000000000000001E-3,1.0999999999999999E-2,2.24415E-2,8.2285499999999998E-2,null,5.7000000000000002E-2,null,null,null,null,null,null,null,null,null,null,null,"Laying Hen",4,{"$f":"U25/2.2","v":1.8181818181818181},{"$f":"U25/(2.205*500)","v":3.6281179138321997E-3},null,"Horses"]
["  Duck",null,3.0000000000000001E-3,1.0999999999999999E-2,2.24415E-2,8.2285499999999998E-2,null,null,null,null,null,null,null,null,null,null,null,null,null,"Pullet",2,0.90909090909090906,1.8140589569160999E-3,null,"Small Horse ",10000,{"$f":"W33*Z26","v":9070.2947845804993}]
[null,null,null,null,null,null,null,null,null,null,null,null,null,null,null,null,null,null,null,"Broiler",1.2,0.54545454545454541,1.0884353741496598E-3,null,"Large Horse",10000,{"$f":"W34*Z27","v":11337.868480725623}]
[null,null,null,null,null,null,null,null,null,null,null,null,null,null,null,null,null,null,null,"Large type tom turkey",12,5.4545454545454541,1.0884353741496598E-2,null,"Foal before weaning",10000,{"$f":"W35*Z28","v":2040.8163265306123}]
[null,null,null,null,null,null,null,null,null,null,null,null,null,null,null,null,null,null,null,"Small white tom turkey",9,4.0909090909090908,8.1632653061224497E-3,null,"Yearling",10000,{"$f":"W36*Z29","v":5442.1768707482997}]
[null,null,null,null,null,null,null,null,null,null,null,null,null,null,"Broilers",{"$f":"2.2","v":2.2000000000000002},{"$f":"P30/2.2","v":1},null,null,"Large type hen turkey",10,4.545454545454545,9.0702947845804991E-3,null,"Other"]
[null,null,null,null,null,null,null,null,null,null,null,null,null,null,null,null,null,null,null,"Small white hen turkey",5,2.2727272727272725,4.5351473922902496E-3,null,"Guernseys",10000,{"$f":"W38*Z31","v":10884.353741496599}]
[null,null,null,null,null,null,null,null,null,null,null,null,null,null,null,null,null,null,null,"Horses",null,null,null,null,"Ayrshires",10000,{"$f":"W39*Z32","v":10884.353741496599}]
[null,null,null,null,null,null,null,null,null,null,null,null,null,null,null,null,null,null,null,"Small Horse ",1000,{"$f":"U33/2.2","v":454.5454545454545},{"$f":"U33/(2.205*500)","v":0.90702947845804993},null,"Brown Swiss",10000,{"$f":"W40*Z33","v":9977.3242630385485}]
[null,null,null,null,null,null,null,null,null,null,null,null,null,null,null,null,null,null,null,"Large Horse",1250,{"$f":"U34/2.2","v":568.18181818181813},{"$f":"U34/(2.205*500)","v":1.1337868480725624},null,"Shorthorn",10000,{"$f":"W41*Z34","v":9523.8095238095229}]
[null,null,null,null,null,null,null,null,null,null,null,4400,null,4400,null,null,null,null,null,"Foal before weaning",225,{"$f":"U35/2.2","v":102.27272727272727},{"$f":"U35/(2.205*500)","v":0.20408163265306123},null,"Jersey",10000,{"$f":"W42*Z35","v":9070.2947845804993}]
[null,null,null,null,null,null,null,null,"Water Use (ISU, 2010)",null,null,"Total",null,null,null,null,null,null,null,"Yearling",600,{"$f":"U36/2.2","v":272.72727272727269},{"$f":"U36/(2.205*500)","v":0.54421768707482998}]
[null,null,null,null,null,null,null,null,"Wean-finish","Dry feed nipple",1.36,{"$f":"K37*L$35*365","v":2184160},1.53,{"$f":"M37*N$35*365","v":2457180},null,null,"Layers, hd/m2",{"$f":"103000/(580*58)","v":3.0618311533888227},null,"Other",null,null,null,null,"Sheep",10000,{"$f":"W23*Z37","v":907.02947845804988}]
[null,null,null,null,null,null,null,null,null,"Dry feed/cup",1.48,{"$f":"K38*L$35*365","v":2376880},2.36,3790160,null,null,"NC2",{"$f":"32500/(424*24.5)","v":3.1286099345398535},null,"Guernseys",1200,{"$f":"U38/2.2","v":545.45454545454538},{"$f":"U38/(2.205*500)","v":1.08843537414966},null,"Prenursery pig",10000,{"$f":"W15*Z38","v":181.40589569160997}]
[null,null,null,null,null,null,null,null,null,"wet/dry",1.02,1638120,1.92,3083520,null,null,"CA2",{"$f":"250000/(650*100)","v":3.8461538461538463},null,"Ayrshires",1200,{"$f":"U39/2.2","v":545.45454545454538},{"$f":"U39/(2.205*500)","v":1.08843537414966},null,"Heifer (16-24 mo.)",10000,{"$f":"W8*Z39","v":9523.8095238095229}]
[null,null,null,null,null,null,null,null,null,"wet/dry and cup",1.37,2200220.0000000005,2.38,3822280,null,null,"IN2",{"$f":"AVERAGE(R38:R39)","v":3.4873818903468496},null,"Brown Swiss",1100,{"$f":"U40/2.2","v":499.99999999999994},{"$f":"U40/(2.205*500)","v":0.99773242630385484},null,"Heifer (13-15 mo.)",10000,{"$f":"W9*Z40","v":7256.235827664399}]
[null,null,null,null,null,null,null,null,null,"Cleaning, 5%",null,{"$f":"0.05*L38","v":118844},null,{"$f":"0.05*N38","v":189508},null,null,null,null,null,"Shorthorn",1050,{"$f":"U41/2.2","v":477.27272727272725},{"$f":"U41/(2.205*500)","v":0.95238095238095233},null,"Heifer (9-12 mo.)",10000,{"$f":"W10*Z41","v":5442.1768707482997}]
[null,null,null,null,null,null,null,null,null,"Cleaning, 10%",null,{"$f":"0.1*L38","v":237688},null,{"$f":"0.1*N38","v":379016},null,null,null,null,null,"Jersey",1000,{"$f":"U42/2.2","v":454.5454545454545},{"$f":"U42/(2.205*500)","v":0.90702947845804993},null,"Heifer (5-8 mo.)",10000,{"$f":"W11*Z42","v":3628.1179138321995}]
[null,null,null,null,null,null,null,null,null,null,null,null,null,null,null,null,null,null,null,null,null,null,null,null,"Heifer (3-4 mo.)",10000,{"$f":"W12*Z43","v":2267.5736961451248}]

{"sheet":"Swine","index":14,"n_rows":74,"n_cols":23,"rows_kept":74,"cut":false,"hidden":true,"merged":[[63,3,63,4],[63,5,63,6],[63,7,63,8],[63,9,63,10],[68,3,68,4],[68,5,68,6],[68,7,68,8],[68,9,68,10],[60,3,60,4],[60,5,60,6],[61,3,61,4],[61,5,61,6],[62,3,62,4],[62,5,62,6],[59,3,59,4],[59,5,59,6],[59,7,59,8],[59,9,59,10],[54,1,55,1],[54,3,54,4],[54,5,54,6],[54,7,54,8],[54,9,54,10]]}
[null,"LISTS AND TABLES FOR SWINE"]
[null,"POP-UP LISTS OF INPUTS FOR SWINE SOURCES","TABLES OF INPUT VALUES FOR SWINE"]
[null,"[\"SWINE\"]","[\"SWINETABLE\"-all three columns]",null,null,null,null,null,"NRI Study","conv","HT","INT","Avg T","UMN","*/m2","Convert"]
[null,"SWINE EMISSION SOURCES","EMISSION FACTORS (OU/s-pig)","FLAGS","OFFSET OU/s-m2",null,null,null,"OU/s-pig","OU/s-m2",null,null,"C","OU/s-m2",null,"OU/s-pig",null,null,"IDEM Manure Production Rates"]
[null,"Barn - Nursery",1,"SBARN",8.66,null,null,null,null,null,null,null,null,null,null,null,null,null,null,"Solid","Liquid ","Solid","Liquid "]
[null,"Barn - Farrowing",10,"SBARN",4.8,null,null,"IA4B",{"$f":"160000/3600","v":44.444444444444443},{"$f":"I6*O6","v":7.7015643802647409},-2.2999999999999998,2.8,{"$f":"AVERAGE(-5.7,24.7,10.9,3.8)","v":8.4249999999999989},5,{"$f":"24/138.5","v":0.17328519855595667},{"$f":"N6/O6","v":28.854166666666668},null,null,null,"ft3/day","ft3/day","gpd","gpd"]
[null,"Barn - Gestation",10,"SBARN",12.6,null,null,"IA4B",{"$f":"290000/3600","v":80.555555555555557},{"$f":"I7*O7","v":39.34108527131783},-2.6,3.1,{"$f":"AVERAGE(-5.7,24.7,10.9,3.8)","v":8.4249999999999989},{"$f":"AVERAGE(17000,77000)/3600","v":13.055555555555555},{"$f":"1050/2150","v":0.48837209302325579},{"$f":"N7/O7","v":26.732804232804234},null,null,"Swine"]
[null,"Barn - Grower",2,"SBARN",null,null,null,null,null,null,null,null,null,null,null,null,null,null,"  Nursery pig",0.02,0.05,0.14960999999999999,0.37402500000000005]
[null,"Barn - Boars",8,"SBARN",null,null,null,null,null,null,null,null,null,null,null,null,null,null,"  Grower/Finishing",0.08,0.18,0.59843999999999997,1.34649]
[null,"Barn - Finishing",5,"SBARN",6.86,null,null,"IN3B",{"$f":"73000/3600","v":20.277777777777779},{"$f":"I10*O10","v":29.807225258044934},-2.1,2.4,{"$f":"AVERAGE(-1,23,15.2,10.8)","v":12},{"$f":"27000/3600","v":7.5},{"$f":"1076/732","v":1.4699453551912569},{"$f":"N10/O10","v":5.1022304832713754},null,null,"  Farrowing",0.21,0.51,1.570905,3.8150550000000001]
[null,"Manure Storage",50,"SMAN",null,null,null,null,null,null,null,null,null,null,null,null,null,null,"  Breeding/Gestation",0.09,0.16,0.67324499999999998,1.1968799999999999]
[null,null,null,null,null,null,null,"WI5B",{"$f":"300000/3600","v":83.333333333333329},{"$f":"I12*O12","v":7.941353106411893},-1.6,2.2999999999999998,{"$f":"AVERAGE(-7,25.5,7.7,3.6)","v":7.45},null,{"$f":"AVERAGE(214/2604,348/3210)","v":9.5296237276942725E-2}]
[null,"[\"SWINEDIL\"]","[\"DRTABLE\" - two columns]",null,null,null,null,"IN5B",{"$f":"55000/3600","v":15.277777777777779},1.8812605526332882,-1.5,1.9,{"$f":"AVERAGE(-1.1,27.1,15.8,7.5)","v":12.324999999999999},null,{"$f":"AVERAGE(1617,1754)/13688","v":0.12313705435417885}]
[null,"MANURE DILUTION RATIO","MANURE DILUTION FACTOR"]
[null,"0:1 (swine)",0]
[null,"1:1 (swine)",0.05]
[null,"2:1 (swine)",0.1]
[null,"5:1 (swine)",0.15]
[null,"10:1 (swine)",0.2]
[]
[]
[null,"[\"SWINEREMOVE\"]","[\"MRTABLE\" - two columns]"]
[null,"MANURE REMOVAL FREQUENCY","MANURE REMOVAL FACTOR"]
[null,"1 day (swine)",0.5]
[null,"3 days (swine)",0.6]
[null,"1 week (swine)",0.7]
[null,"2 weeks (swine)",0.8]
[null,"1 month (swine)",0.9]
[null,"> 1 month (swine)",1]
[]
[]
[null,"ABATEMENT METHODS"]
[null,"[\"SBABE\"]","[\"BARNABATETABLE\"]"]
[null,"BARNS","% left"]
[null,"Trees (3 rows)",{"$f":"100-_3row","v":82}]
[null,"Trees (2 rows)",{"$f":"100-_2row","v":88}]
[null,"Trees (1 row)",{"$f":"100-_1row","v":94}]
[null,"Biofiltration (10% Capacity)",90]
[null,"Biofiltration (20% Capacity)",75]
[null,"Biofiltration (30% Capacity)",60]
[null,"Biofiltration (40% Capacity)",45]
[]
[]
[null,"[\"SMABE\"]","[\"STORAGEABATETABLE\"]"]
[null,"STORAGES","% left"]
[null,"A: Permeable Cover",{"$f":"100-82","v":18}]
[null,"B: Anaerobic Digester",{"$f":"100-88","v":12}]
[]
[]
[]
[]
[null,"Sources of Emission Factors"]
[null,"Heber et al., 2004 \"Effect of Oil Sprinkling\" Rome paper on PSF study in Missouri"]
[]
[null,null,"Overall ","Trial 1",null,"Trial 2",null,"Trial 3",null,"Trial 4"]
[null,null,"B7","B7","B8","B7","B8","B7","B8","B7","B8"]
[null,"Inventory of pigs",1112,1059,1070,1132,1127,1047,1036,1129,1115,{"$f":"AVERAGE(D57:K57)","v":1089.375}]
[null,"Mean pig mass, kg",73.2,81.099999999999994,81.5,67.099999999999994,70,87.3,92,76.900000000000006,76.8,{"$f":"AVERAGE(D58:K58)","v":79.087499999999991}]
[null,"Exhaust temp., oC",21.7,23.5,22.9,19.5,17.5,19.8,21.2,26.8,26.1]
[null,"Ambient air","n=21 ","n=4",null,"n=6",null,"n=4",null,"n=4"]
[null,"    OC, OUE/m3",105,127,null,134,null,60.8,null,62]
[null,"    log int., ppm BIW",1.01,3.08,null,3.05,null,2.89,null,2.89]
[null,"    Hedonic tone",-3.02,-2.4900000000000002,null,-3.28,null,-2.65,null,-2.06]
[null,"Barn exhaust air","n=21 ","n=4 (5?)",null,"n=6 (9?)",null,"n=4(5?)",null,"n=4"]
[null,"OC, OUE/m3",508,352,248,984,694,525,475,320,246]
[null,"log OC, OUE/m3",2.71,"2.55±0.24","2.39±0.19","2.99±0.21","2.84±0.22","2.72±0.15","2.68±0.18","2.51±0.18","2.39±0.17"]
[null,"log int., ppm BIW",1.18,"3.41±0.39","3.37±0.38","3.42±0.08","3.42±0.15","3.26±0.30","3.19±0.33","-","3.15±0.17"]
[null,"Hedonic tone",-4.83,-4.33,-4.04,-5.4,-5.37,-4.7300000000000004,-3.82,-4.24,-3.64]
[null,"Emission rates","n=20 ","n=4(5?)",null,"n=6(9?)",null,"n=4(5?)",null,"n=3"]
[null,"log E, OUE /s-AU",1.37,"1.36±0.61","1.04±0.48","1.32±0.19","1.15±0.23","1.33±0.59","1.28±0.36","1.81±0.22","1.68±0.24"]
[]
[null,"Average emission rate from control barn, OU/s-AU",23.5]
[null,"   Ou/s-pig based on average inventory and weight",{"$f":"C72/(500/L58)","v":3.7171124999999998}]
[null,"   Model prediction (0.5-0.2)*5.",{"$f":"(C24-C19)*C10","v":1.5}]

{"sheet":"Dairy","index":15,"n_rows":43,"n_cols":21,"rows_kept":43,"cut":false,"hidden":true,"merged":[]}
[]
[null,"LISTS AND TABLES FOR DAIRY",null,null,null,null,null,null,null,null,null,null,"IDEM Manure Production Rates",null,null,null,null,"ASABE (as excreted)"]
[null,"POP-UP LISTS OF INPUTS FOR DAIRY SOURCES","TABLES OF INPUT VALUES FOR DAIRY",null,null,null,null,null,null,null,null,null,null,"Solid","Liquid ","Solid","Liquid ",null,"Table 4-12"]
[null,"[\"DAIRY\"]","[\"DAIRYTABLE\"-all three columns]",null,null,null,null,null,null,null,null,null,null,"ft3/day","ft3/day","gpd","gpd","ft3/day","ft3/d-1K lb"]
[null,"DAIRY EMISSION SOURCES","EMISSION FACTORS (OU/s-cow)","FLAGS","OFFSET OU/s-m2",null,null,null,null,null,null,null,"Dairy"]
[null,"Barn - Cows (60-80 lb/day)",24,"DBARN",2,null,null,{"$f":"1.43*C6","v":34.32},null,null,null,null,"  Calf",0.13,0.26,0.97246500000000002,1.94493,0.44]
[null,"Barn - Cows (<60 lb/day)",21,"DBARN",null,null,null,null,null,null,null,null,"  Heifer",0.56999999999999995,1.1000000000000001,4.2638850000000001,8.2285500000000003,0.87]
[null,"Barn - Cows (>80 lb/day)",26,"DBARN",null,null,null,null,null,null,null,null,"  Cow",1.83,3,13.689315000000001,22.441500000000001,null,null,null,24]
[null,"Barn - Dry Cows",19,"DBARN",null,null,null,{"$f":"1.43*C9","v":27.169999999999998},null,null,null,null,"Cow 50 lb/d",null,null,null,null,2.1,null,null,{"$f":"U$8*R9/R10","v":21.000000000000004}]
[null,"Barn - Heifers",14,"DBARN",null,null,null,{"$f":"1.43*C10","v":20.02},null,null,null,null,"Cow 75 lb/d",null,null,null,null,2.4,null,null,{"$f":"U$8*R10/R10","v":24}]
[null,"Barn - Calves",8,"DBARN",null,null,null,{"$f":"1.43*C11","v":11.44},null,null,null,null,"Cow, 100 lb/d",null,null,null,null,2.6,null,null,{"$f":"U$8*R11/R10","v":26.000000000000004}]
[null,"Manure Storage",50,"DMAN",null,null,null,null,null,null,null,null,"Cow 125 lb/d",null,null,null,null,2.9]
[null,null,null,null,null,null,null,null,null,null,null,null,"Dry Cow",null,null,null,null,1.4]
[null,null,null,null,null,null,null,null,null,null,null,null,"  Veal Calf",0.1,0.15,0.7480500000000001,1.1220749999999999,null,0.96]
[null,"[\"DAIRYDIL\"]","[\"DAIRYDRTABLE\"]"]
[null,"COLLECTION METHOD","MANURE RESIDUE FACTOR"]
[null,"Scrape",0.2,null,null,null,"Flush",{"$f":"VLOOKUP(G17,DAIRYDRTABLE,2,\"FALSE\")","v":0}]
[null,"Flush",0]
[null,"Vacuum",0.3]
[]
[]
[null,"[\"DAIRYREMOVE\"]","[\"DAIRYMRTABLE\" - two columns]"]
[null,"MANURE REMOVAL FREQUENCY","MANURE REMOVAL FACTOR"]
[null,"2X",1]
[null,"3X",0.9,null,null,null,null,null,null,null,null,"lb/gal",8.4]
[null,null,null,null,null,null,null,null,null,null,null,null,2.2719999999999998]
[null,"ABATEMENT METHODS",null,null,null,null,null,null,null,null,null,null,30]
[null,"[\"DAIRYSBABE\"]","[\"DAIRYBARNABATETABLE\"]",null,null,null,null,null,null,null,null,null,{"$f":"M26*M27","v":68.16}]
[null,"BARNS","% left"]
[null,"Trees (3 rows)",{"$f":"100-_3row","v":82}]
[null,"Trees (2 rows)",{"$f":"100-_2row","v":88}]
[null,"Trees (1 row)",{"$f":"100-_1row","v":94}]
[null,"Biofiltration (10% Capacity)",90]
[null,"Biofiltration (20% Capacity)",75]
[null,"Biofiltration (30% Capacity)",60]
[null,"Biofiltration (40% Capacity)",45]
[]
[]
[null,"[\"DAIRYMBABE\"]","[\"DAIRYSTORAGEABATETABLE\"]"]
[null,"STORAGES","% left"]
[null,"A: Permeable Cover",{"$f":"100-99","v":1}]
[null,"B: Biocover",{"$f":"100-63","v":37}]
[null,"C: Anaerobic Digester",{"$f":"100-88","v":12}]

{"sheet":"Poultry","index":16,"n_rows":141,"n_cols":28,"rows_kept":141,"cut":false,"hidden":true,"merged":[]}
[null,"LISTS AND TABLES FOR LAYERS"]
[null,"POP-UP LISTS OF INPUTS FOR LAYER SOURCES","TABLES OF INPUT VALUES FOR LAYERS"]
[null,"[\"LAYERS\"]","[\"LAYERTABLE\"-all three columns]"]
[null,"EGGS EMISSION SOURCES","EMISSION FACTORS (OU/s-hen)","FLAGS","Int Fact",null,null,"LAYER EMISSION SOURCES","LAYER FACTORS (OU / s - head)"]
[null,"Layers - Cages",0.109,"LBARN",null,null,null,"Layers - High Rise",0.18140001987786422,{"$f":"1100/3.5","v":314.28571428571428},null,0.18140001987786422]
[null,"Pullets - Cages",{"$f":"C5*Animal!E23/Animal!E24","v":5.45E-2},"LBARN",null,null,null,"Layers - Belt House",{"$f":"I5*0.25","v":4.5350004969466055E-2},{"$f":"I6*J5","v":14.252858704689331}]
[null,"Broilers  (>85% occ.)",0.23,"LBARN",null,null,null,"Pullets - High Rise",{"$f":"I5*Animal!E23/Animal!E24","v":9.0700009938932111E-2},{"$f":"J6/25","v":0.57011434818757323}]
[null,"Broilers (75%-85% occ.)",{"$f":"E8*C7","v":0.20700000000000002},"LBARN",0.9,null,null,"Pullets - Belt House",{"$f":"I7*0.25","v":2.2675002484733028E-2}]
[null,"Broilers (<75% occ.)",{"$f":"E9*C7","v":0.18400000000000002},"LBARN",0.8,null,null,"Manure Shed"]
[null,"Manure Storage",0.6,"LMAN",null,null,null,"Egg Wash Lagoon"]
[null,null,null,null,null,null,null,"Manure Lagoon"]
[null,null,null,null,null,null,"Use layers and then lower it with removal frequency rather than have a separate category"]
[null,"[\"LAYERDIL\"]","[\"LAYERDRTABLE\"]"]
[null,"MANURE DRYING","MANURE DRYING FACTOR",null,"Layers - High Rise",0.18140001987786422]
[null,"Layers: No Pit Fans",0,null,"Pullets - High Rise",9.0700009938932111E-2]
[null,"Layers: Pit Drying Fans",0.1]
[null,"Layers: Liquid Pit",-0.45]
[null,"Layers: Naturally Dried Belts",0]
[null,"Layers: Drying Tubes",0.1,null,null,null,null,"Klarenbeek (1985)","0.11 OU/s-bird average for broilers"]
[null,"Layers: Overhead Duct Drying",0.2,null,null,null,null,"Percent empty",15,1]
[null,"Layers: Wall Tunnel Drying",0.4,null,null,null,null,null,30,0.9]
[null,"Broilers: Dry litter (<25% mc)",0.2,null,"Broilers  (>85% occ.)",0.33,null,null,45,0.8]
[null,"Broilers: Normal (25-35%)",0,null,"Broilers (75%-85% occ.)",0.29700000000000004]
[null,"Broilers: Wet litter (>35% mc)",-0.2,null,"Broilers (<75% occ.)",0.26400000000000001,null,"Scoop on broiler growth","http://www.uvm.edu/newfarmer/production/livestock/Growing%20Broilers-Darre.pdf"]
[null,null,null,null,"Manure Shed",0.6]
[null,null,null,null,null,null,null,"Broilers on 8 week cycle",350]
[null,null,null,null,null,null,null,"Broilers on 9 week cycle",300,{"$f":"I27/I26","v":0.8571428571428571}]
[null,"[\"LAYERSREMOVE\"]","[\"LAYERSMRTABLE\" - two columns]",null,null,null,null,"Broilers on 10 week cycle",250,{"$f":"I28/I26","v":0.7142857142857143}]
[null,"MANURE REMOVAL FREQUENCY","MANURE REMOVAL FACTOR",null,null,null,null,"Broilers on 12 week cycle",200,{"$f":"I29/I26","v":0.5714285714285714}]
[null,"1 day (cages)",0.75]
[null,"3 days (cages)",0.8,null,null,null,null,null,null,null,42]
[null,"5 days (cages)",0.85,null,null,null,null,"Percent time empty",null,7,{"$f":"J32/(K$31+J32)","v":0.14285714285714285},"8 to 16%","<15%"]
[null,"7 days (cages)",0.9,null,null,null,null,null,null,14,{"$f":"J33/(K$31+J33)","v":0.25},"16 to 24%","15 to 25%"]
[null,"6 months (cages)",0.95,null,null,null,null,null,null,17,{"$f":"J34/(K$31+J34)","v":0.28813559322033899},"24 to 32%",">25%"]
[null,"1 year (cages)",1,"Decake",null,null,null,null,null,null,{"$f":"J35/(K$31+J35)","v":0}]
[null,"1 flock (litter)",0.5,0.7,null,null,null,"Built up litter cycles",null,"1x","Decaking"]
[null,"2 flocks (litter)",0.64,0.75,null,null,null,null,null,"2x","Top dress"]
[null,"3 flocks (litter)",0.76,0.8,null,null,null,null,null,"3x"]
[null,"4 flocks (litter)",0.85,0.85,null,null,null,null,null,"4x"]
[null,"5 flocks (litter)",0.92,0.9,null,null,null,null,null,"5x"]
[null,"6 flocks (litter)",0.97,0.95,null,null,null,null,null,"6x"]
[null,"7 flocks (litter)",1,1,null,null,null,null,null,"7x"]
[]
[null,null,null,null,null,null,null,"Windrowing",null,"High"]
[null,"ABATEMENT METHODS",null,null,null,null,null,"Tilling",null,"High"]
[null,"[\"LAYERSSBABE\"]","[\"LAYERSBARNABATETABLE\"]",null,null,null,null,"Litter Amendment"]
[null,"BARNS","% left",null,null,null,null,"Nipple waterer"]
[null,"Trees (3 rows)",{"$f":"100-_3row","v":82},null,null,null,null,"Moisture Content (loadout)",null,null,"32.5% at CA1B"]
[null,"Trees (2 rows)",{"$f":"100-_2row","v":88},null,null,null,null,null,null,null,"30.8% avg at ARK lab (FSA-9529.pdf)"]
[null,"Trees (1 row)",{"$f":"100-_1row","v":94},null,null,null,null,null,null,null,"13 to 67.2%"]
[null,"Biofiltration (10% Capacity)",90,null,null,null,null,null,null,null,"<25, >25%"]
[null,"Biofiltration (20% Capacity)",75,null,null,null,null,"Bedding",null,"50/50 rice/pine"]
[null,"Biofiltration (30% Capacity)",60,null,null,null,null,"Trees 25% reduction",null,"See","http://www.extension.org/pages/25826/efficacy-of-vegetative-environmental-buffers-to-mitigate-emissions-from-tunnel-ventilated-poultry-ho#.U5ZpdijcD5I"]
[null,"Biofiltration (40% Capacity)",45,null,null,null,null,"http://informedfarmers.com/options-minimising-odour/"]
[null,null,null,null,null,null,null,"http://www.reeis.usda.gov/web/crisprojectpages/0212441-nutritional-and-management-abatement-strategies-for-improvement-of-poultry-air-and-water-quality.html"]
[null,null,null,null,null,null,null,"http://en.engormix.com/MA-poultry-industry/news/odor-air-emissions-poultry-t15045/p0.htm"]
[null,"[\"LAYERSMBABE\"]","[\"LAYERSSTORAGEABATETABLE\"]",null,null,null,null,null,null,null,null,null,"MDF"]
[null,"STORAGE SHED MOISTURE CONTENT","% left",null,null,null,null,"Litter moisture",null,"Wet",">40%",1.2,-0.2]
[null,"A. <20%",90,null,null,null,null,null,null,"Normal",">25%",1,0]
[null,"B. 20-30%",100,null,null,null,null,null,null,"Dry","<25%",0.8,0.2]
[null,"C. >30%",110,null,null,null,null,"Removal Frequency "]
[null,null,null,null,null,null,null,"1x",0.7]
[null,null,null,null,null,null,null,"2x",0.75]
[null,null,null,null,null,null,null,"3x",0.8]
[null,null,null,null,null,null,null,"4x",0.85]
[null,null,null,null,null,null,null,"5x",0.9]
[null,null,null,null,null,null,null,"6x",0.95]
[null,null,null,null,null,null,null,"7x",1]
[]
[null,null,null,null,null,null,null,"Percent empty",15,1]
[null,null,null,null,null,null,null,null,30,0.9]
[null,null,null,null,null,null,null,null,45,0.8]
[]
[]
[]
[]
[null,null,null,null,null,null,null,"Iowa (AU dictates distance)",null,"Number of AU","Dist., ft.","Dist., ft."]
[null,null,null,null,null,null,null,"Turkeys >7 lb",1.7999999999999999E-2,0,0,0]
[null,null,null,null,null,null,null,"Turkeys < 7 lb",8.5000000000000006E-3,500,1250,1875]
[null,null,null,null,null,null,null,"Broiler/Layer Chickens > 3 lb",0.01,1000,1875,2500]
[null,null,null,null,null,null,null,"Broiler/Layer Chickens < 3 lb",2.5000000000000001E-3,3000,2375,3000]
[]
[]
[null,null,null,null,null,null,null,"Illinois (AU dictates distance)",null,"Number of AU","Dist., ft.","Dist., ft."]
[null,null,null,null,null,null,null,"Type of Animal","AU/head",0,0,0]
[null,null,null,null,null,null,null,"Turkeys",0.02,50,{"$f":"5280/4","v":1320},{"$f":"5280/2","v":2640}]
[null,null,null,null,null,null,null,"Laying hens or broilers with continuous overflow watering",0.01,1000,1320,{"$f":"L86","v":2640}]
[null,null,null,null,null,null,null,"Laying hens or broilers at facilities with liquid manure handling systems",0.03,2000,{"$f":"K87+220","v":1540},{"$f":"L87+440","v":3080}]
[null,null,null,null,null,null,null,"Ducks",0.02,3000,1760,3520]
[null,null,null,null,null,null,null,null,null,4000,1980,3960]
[null,null,null,null,null,null,null,null,null,5000,2200,4400]
[null,null,null,null,null,null,null,null,null,6000,2420,4840]
[null,null,null,null,null,null,null,null,null,7000,2640,5280]
[]
[null,null,null,null,null,null,null,"Numbers per NU and Factor A","Number per NU","Factor A","Odor factor"]
[null,null,null,null,null,null,null,"Layer hens",150,1,{"$f":"J96/I96","v":6.6666666666666671E-3}]
[null,null,null,null,null,null,null,"Layer pullets (day old to layer house)",500,0.7,1.4E-3]
[null,null,null,null,null,null,null,"Broilers on 8 week cycle",350,0.7,2E-3]
[null,null,null,null,null,null,null,"Broilers on 9 week cycle",300,0.7,2.3333333333333331E-3]
[null,null,null,null,null,null,null,"Broilers on 10 week cycle",250,0.7,2.8E-3]
[null,null,null,null,null,null,null,"Broilers on 12 week cycle",200,0.7,3.4999999999999996E-3]
[null,null,null,null,null,null,null,"Ducks",105,0.8,7.619047619047619E-3]
[]
[]
[]
[]
[]
[]
[]
[]
[]
[null,null,null,null,null,null,null,null,null,null,null,null,null,null,null,null,null,null,null,null,"Jeff Lai Thesis"]
[null,null,null,null,null,null,null,null,null,null,null,null,"Ag Waste Man Handbook",null,null,"Applegate (2003)","Applegate (2003)","Applegate (2003)","Applegate (2003)","ASABE","Chastain","Flora and ","Tao and","MWPS","ASAE","NAEMS","PUCES, 1999"]
[null,null,null,null,null,null,null,"IDEM Manure Production Rates",null,null,null,"ASABE (as excreted)","ASABE (as excreted)",null,null,null,null,null,null,null,"et al 2001","Riahi-Nezhad 06","Mancl 08"]
[null,null,null,null,null,null,null,null,"Solid","Liquid ","Total","Total","Table 4-11","Table 4-11","Table 4-11","kg/f-a","days","flocks","kg/d-bird","kg/d-bird","kg/d-bird","kg/d-bird","kg/d-bird",null,null,null,null,"Poultry"]
[null,null,null,null,null,null,null,"Poultry","ft3/day","ft3/day","ft3/day","ft3/day","ft3/f.a.","ft3/d-1K lb","days on feed",null,null,null,null,null,null,null,null,null,null,null,null,"  Broiler"]
[null,null,null,null,null,null,null,"  Broiler",1E-3,4.0000000000000001E-3,{"$f":"SUM(I117:J117)","v":5.0000000000000001E-3},{"$f":"0.17/48","v":3.5416666666666669E-3},0.17,1.4,48,1.27,47.7,6,1.7999999999999999E-2,5.1999999999999998E-2,3.0999999999999999E-3,1.4999999999999999E-2,6.4000000000000001E-2,null,0.10199999999999999,null,2.1999999999999999E-2,"  Pullet"]
[null,null,null,null,null,null,null,"  Pullet",1E-3,4.0000000000000001E-3,{"$f":"SUM(I118:J118)","v":5.0000000000000001E-3},null,null,null,null,null,null,null,null,null,null,null,null,null,null,null,2.7E-2,"  Layer"]
[null,null,null,null,null,null,null,"  Layer",2E-3,0.01,{"$f":"SUM(I119:J119)","v":1.2E-2},3.0999999999999999E-3,null,0.93,null,9.31,420,1,0.02,2.5999999999999999E-2,0.05,4.3999999999999997E-2,9.5000000000000001E-2,0.11799999999999999,8.7999999999999995E-2,{"$f":"0.052","v":5.1999999999999998E-2},0.04,"Male Turkey"]
[null,null,null,null,null,null,null,"Male Turkey",null,null,null,{"$f":"1.3/133","v":9.7744360902255641E-3},1.3,0.56999999999999995,133,9.24,133,7,0.17,null,3.5000000000000003E-2,null,null,0.39300000000000002,0.27100000000000002,null,null,"Female Turkey"]
[null,null,null,null,null,null,null,"Female Turkey",null,null,null,{"$f":"0.61/105","v":5.8095238095238096E-3},0.61,0.77,105,3.88,115.5,8,6.8000000000000005E-2,null,0.02,null,null,null,0.16200000000000001,null,null,"  Turkey"]
[null,null,null,null,null,null,null,"  Turkey",3.0000000000000001E-3,1.0999999999999999E-2,{"$f":"SUM(I122:J122)","v":1.3999999999999999E-2},null,null,null,null,null,null,null,null,0.19,null,9.9000000000000005E-2,null,null,null,null,5.7000000000000002E-2,"  Duck"]
[null,null,null,null,null,null,null,"  Duck",3.0000000000000001E-3,1.0999999999999999E-2,{"$f":"SUM(I123:J123)","v":1.3999999999999999E-2},{"$f":"0.23/39","v":5.8974358974358976E-3},0.23,1.7,39,1.69,39,13,0.06,0.06,null,null,null,0.15,0.16700000000000001]
[]
[null,null,null,null,null,null,null,null,null,null,{"$f":"K118/K119","v":0.41666666666666669}]
[]
[null,null,null,null,null,null,null,"  The Raf2 project indicates rates between 0.14-0.15 OUe/s-layer, while \nthe MWP and Raf1 projects both have rates around 0.20 OUe/s-layer. If we \ndrop the total average (from all three studies) rate from 0.18 \nOUe/s-layer to 0.14 OUe/s-layer the setback is around 3000 feet.\n\n  In real-world settings, I can agree that the swine odors are \nnoticeable further away than chickens, but is there any physical reason \nwhy the odor from layers would not travel that far? Ammonia can react \nsignificantly in the atmosphere to make secondary particulates which may \nin essence act as a sink for ammonia. These ammonium sulfate and nitrate \nsalts are often can be large enough in diameter to scatter light - hence \nthey could settle out by gravity.\n"]
[]
[null,null,null,null,null,null,null,"Animal Factor (1997 Austria)"]
[null,null,null,null,null,null,null,"Pigs","0.1 to 0.33"]
[null,null,null,null,null,null,null,"Poultry","0.01 to 0.03"]
[null,null,null,null,null,null,null,"Cattle ","0.1 to 0.25"]
[null,null,null,null,null,null,null,"Sheep","0.05 to 0.08"]
[null,null,null,null,null,null,null,"Goats","0.10 to 0.16"]
[null,null,null,null,null,null,null,"Horses","0.12 to 0.17"]
[]
[]
[null,null,null,null,null,null,null,"RAF1 (Lim et al., 2003)",{"$f":"50410/245278","v":0.20552189760190478}]
[null,null,null,null,null,null,null,"RAF2 (Heber et al., 2005)",0.185]
[null,null,null,null,null,null,null,"IN2H (unpublished, Sarah dissertation)",0.21099999999999999]
[null,null,null,null,null,null,null,"Daylay (unpublished)",0.23799999999999999]

{"sheet":"ListsFlags","index":17,"n_rows":51,"n_cols":8,"rows_kept":51,"cut":false,"hidden":true,"merged":[]}
["Drop - down lists and other calculations"]
["SINGLE COLUMN LISTS",null,"LISTS WITH VALUE TABLES",null,null,"FLAGS"]
[null,null,"[\"ShapeFactorTable\"]",null,null,"[\"LIVESTOCK\"]","[\"ManFlagTable\"]"]
["[\"ORIENTATION\"]",null,"L/W","Shape Factor",null,"LIVESTOCK","MANURE REMOVAL AND DILUTION FLAGS"]
["ORIENTATION",null,0,0,null,"Dairy","DAIRYREMOVE","DAIRYDIL"]
["N : S",null,2,0.05,null,"Poultry","LAYERSREMOVE","LAYERDIL"]
["E : W",null,4,0.1,null,"Swine","SWINEREMOVE","SWINEDIL"]
[null,null,8,0.15]
[]
["[\"SHAPE\"]",null,"[\"TOPOTYPE\"]","[\"TopoTable\"]",null,null,"[\"RadiusEarth\"]"]
["SHAPE",null,"TOPOGRAPHY TYPE","TOPOGRAPHY FACTOR",null,"Earth Radius, m",{"$f":"1000*6370.97327862273","v":6370973.2786227297}]
["Rectangle",null,"Treeline / shelterbelt",0.8]
["Circle",null,"No trees, relatively flat",0.85,null,null,"[\"PowerExpo\"]"]
[null,null,"Hillside/valley up-flow",0.9,null,"Purdue Odor Model Exponent",{"$f":"compr!C5","v":0.5}]
[null,null,"Hillside/valley down-flow",0.95]
["SAME TERRAIN ALL AROUND",null,"Steep valley down-flow",1]
["SAME LAND USE ALL AROUND"]
["PLOTTING",null,null,null,null,{"$f":"IF(pallterrain=\"YES\",\"TOPOTYPE\",\"TOPOFLAG\")","v":"TOPOTYPE"},{"$f":"IF(pallland=\"YES\",\"LANDTYPE\",\"LANDFLAG\")","v":"LANDTYPE"},{"$f":"IF(windchoice=\"No\",\"Wrong\",IF(ISTEXT(VLOOKUP(windstation,INDIRECT(windstate),1,\"FALSE\")),\"OK\",\"Wrong\"))","v":"OK"}]
["[\"YESNO\"]",null,"[\"LANDTYPE\"]","[\"LandUseTable\"]",null,"Select if Yes Only","Select if Yes Only"]
["YES OR NO LIST",null,"EXPOSURE TYPE","LAND USE FACTOR"]
["Yes",null,"91% odor free",0.5,null,"Trees Factors"]
["No",null,"94% odor free",0.6,null,"1 rows","1row",6]
[null,null,"96% odor free",0.7,null,"2 rows","2row",12]
[null,null,"97% odor free",0.8,null,"3 rows","3row",18]
["[\"WINDFREQ\"]",null,"98% odor free",0.9]
["WIND FREQUENCY",null,"99% odor free",1]
[0]
[1]
[2,null,"[\"BAbate\"]"]
[3,null,"BARN ABATEMENTS","% left"]
[4,null,"Biofilter",{"$f":"100-86","v":14}]
[5,null,"Wet Scrubber",{"$f":"100-42","v":58}]
[6,null,"Biofilter + Scrubber",{"$f":"100-95","v":5}]
[7]
[8]
[9,null,"[\"MAbate\"]"]
[10,null,"MANURE ABATEMENTS","% left"]
[11,null,"Permeable Cover",18]
[12,null,"Biocover",{"$f":"100-63","v":37}]
[13,null,"Natural Crust",{"$f":"100-50","v":50}]
[14,null,"Aeration",{"$f":"100-80","v":20}]
[15,null,"Anaerobic Digester",{"$f":"100-88","v":12}]
[16,null,"Impermeable Cover",1]
[17]
[18,null,"[\"AbatementFlag\"]"]
[19,null,"SBARN","SBABE"]
[20,null,"SMAN","SMABE"]
[null,null,"DBARN","DAIRYSBABE"]
[null,null,"DMAN","DAIRYSMABE"]
[null,null,"LBARN","LAYERSSBABE"]
[null,null,"LMAN","LAYERSMBABE"]

{"sheet":"Wind","index":18,"n_rows":127,"n_cols":36,"rows_kept":127,"cut":false,"hidden":true,"merged":[[3,1,3,3]]}
["STATE","STATION",null,"Slope",2,1,1.9738159400603013,3.1769702511250366,{"$f":"AVERAGE(G1:H1)","v":2.5753930955926689},2]
[{"$f":"windstate","v":"Indiana"},{"$f":"windstation","v":"West Lafayette"},null,"Intercept",0.63149999999999995,0.75,0.63607662704291457,0.48854767492368706,{"$f":"AVERAGE(G2:H2)","v":0.56231215098330078},0.63149999999999995,null,null,null,null,null,null,null,null,null,null,null,"I've received the 1995-1999 hourly data for the region so I can add"]
[null,null,null,null,null,null,null,null,null,null,null,null,null,null,null,null,null,null,null,null,null,"stations in Michigan, Ohio, Kentucky, and Illinois to the wind station"]
[null,"Wind Frequency (blowing to)",null,null,null,null,null,null,null,null,null,null,null,null,null,null,null,null,null,null,null,"list in the model.  I have a couple of questions for your consideration:",null,null,null,null,null,null,null,"Ratio","Ratio",null,null,"Ratio","Ratio"]
["Direction","Selection","Manual","Chosen","Factor","Lower","Upper",null,null,"IN min W","IN max W","IN min fctr","IN max fctr",null,null,null,null,null,null,null,null,null,null,null,null,null,null,null,"Rockford AerMod","Aermod","PSM",null,"Perry AM","Aermod","PSM"]
["N",{"$f":"IF(windchoice=\"yes\",VLOOKUP(windstate,STATETABLE,2,FALSE),\"\")","v":11.6},{"$f":"IF(s=\"\",\"\",s+(0.5*(sse+ssw)))","v":11.8},{"$f":"IF(IF(windchoice=\"yes\",B6,C6)=\"\",\"\",(IF(windchoice=\"yes\",B6,C6)))","v":11.6},{"$f":"IF(D6=\"\",\"\",wfconstant+wfslope*(IF(windchoice=\"yes\",B6,C6)/100))","v":0.86349999999999993},{"$f":"360-22.5","v":337.5},22.5,null,null,{"$f":"MIN(B43:I55)","v":3.65},{"$f":"MAX(B43:I55)","v":21.75},{"$f":"wfconstant+wfslope*J6/100","v":0.7044999999999999},{"$f":"wfconstant+wfslope*K6/100","v":1.0665},null,null,null,null,null,null,null,null,"1) Would you like several other stations in Indiana added to the list?",null,null,null,null,null,null,2800,{"$f":"AC6/AC$14","v":1.1853733396835477},{"$f":"E6/E$14","v":1.0166298749080205},null,12,{"$f":"AG6/AG$14","v":1.1280846063454759}]
["NE",{"$f":"IF(windchoice=\"yes\",VLOOKUP(windstate,STATETABLE,3,FALSE),\"\")","v":14.8},{"$f":"IF(sw=\"\",\"\",sw+(0.5*(ssw+wsw)))","v":11.8},14.8,0.92749999999999999,22.5,{"$f":"G6+45","v":67.5},null,null,null,null,null,null,null,null,null,null,null,null,null,null,"The data is a conglomeration of NWS and Air Force data, so I have access",null,null,null,null,null,null,2246,0.95083875747473146,1.0919793966151583,null,10,0.94007050528789671]
["E",{"$f":"IF(windchoice=\"yes\",VLOOKUP(windstate,STATETABLE,4,FALSE),\"\")","v":18.3},{"$f":"IF(w=\"\",\"\",w+(0.5*(wsw+wnw)))","v":11.8},18.3,0.99749999999999994,{"$f":"F7+45","v":67.5},112.5,null,null,null,null,null,null,null,null,null,null,null,null,null,null,"to more than the seven stations initially in the model and can add",null,null,null,null,null,null,2376,1.0058739482457533,1.17439293598234,null,11.8,1.1092831962397181]
["SE",{"$f":"IF(windchoice=\"yes\",VLOOKUP(windstate,STATETABLE,5,FALSE),\"\")","v":8.5},{"$f":"IF(nw=\"\",\"\",nw+(0.5*(wnw+nnw)))","v":11.8},8.5,0.80149999999999999,112.5,157.5,null,null,null,null,null,null,null,null,null,null,null,null,null,null,"Grissom AFB, Jefferson Proving Grounds (southeast, IN between Cincinnati",null,null,null,null,null,null,2371,1.0037572101391756,0.94363502575423108,null,13,1.2220916568742657]
["S",{"$f":"IF(windchoice=\"yes\",VLOOKUP(windstate,STATETABLE,6,FALSE),\"\")","v":8.0500000000000007},{"$f":"IF(n=\"\",\"\",n+(0.5*(nne+nnw)))","v":11.8},8.0500000000000007,0.79249999999999998,157.5,202.5,null,null,null,null,null,null,null,null,null,null,null,null,null,null,"and Louisville), Anderson, Muncie, Huntingburg, Valparaiso, Michigan",null,null,null,null,null,null,2048,0.86701592845425202,0.93303899926416478,null,8.6999999999999993,0.81786133960047003]
["SW",{"$f":"IF(windchoice=\"yes\",VLOOKUP(windstate,STATETABLE,7,FALSE),\"\")","v":7.9},{"$f":"IF(ne=\"\",\"\",ne+(0.5*(nne+ene)))","v":11.8},7.9,0.78949999999999998,202.5,247.5,null,null,null,null,null,null,null,null,null,null,null,null,null,null,"City, Elkhart, Goshen, and Eagle Creek (just North of Indy).",null,null,null,null,null,null,2212,0.93644493835000264,0.92950699043414275,null,8.6999999999999993,0.81786133960047003]
["W",{"$f":"IF(windchoice=\"yes\",VLOOKUP(windstate,STATETABLE,8,FALSE),\"\")","v":11.55},{"$f":"IF(e=\"\",\"\",e+(0.5*(ene+ese)))","v":11.8},11.55,0.86249999999999993,247.5,292.5,null,null,null,null,null,null,null,null,null,null,null,null,null,null,null,null,null,null,null,null,null,2416,1.0228078530983753,1.0154525386313464,null,8.8000000000000007,0.82726204465334907]
["NW",{"$f":"IF(windchoice=\"yes\",VLOOKUP(windstate,STATETABLE,9,FALSE),\"\")","v":6.45},{"$f":"IF(se=\"\",\"\",se+(0.5*(ese+sse)))","v":11.8},6.45,0.76049999999999995,292.5,337.5,null,null,null,null,null,null,null,null,null,null,null,null,null,null,"2) Would you like the smaller stations added for the other states as",null,null,null,null,null,null,2428,1.0278880245541619,0.89536423841059598,null,12.1,1.137485311398355]
[null,null,null,null,{"$f":"AVERAGE(E6:E13)","v":0.84937499999999999},null,null,null,null,null,null,null,null,null,null,null,null,null,null,null,null,"well (i.e. several along the Michigan border, versus just Grand Rapids",null,null,null,null,null,null,{"$f":"AVERAGE(AC6:AC13)","v":2362.125},null,null,null,{"$f":"AVERAGE(AG6:AG13)","v":10.637499999999999}]
["[\"STATEROSE\"]",null,null,null,0.86799999999999999,"old with Rockford, IL",null,null,null,null,null,null,"Nearest Weather Station",null,null,null,null,null,null,null,null,"and Lansing)?",null,null,null,null,null,null,"Max-Min",{"$f":"MAX(AD6:AD13)-MIN(AD6:AD13)","v":0.31835741122929573},{"$f":"MAX(AE6:AE13)-MIN(AE6:AE13)","v":0.27902869757174398},{"$f":"AD15-AE15","v":3.932871365755175E-2},null,{"$f":"MAX(AH6:AH13)-MIN(AH6:AH13)","v":0.40423031727379566},null,{"$f":"AH15-AE15","v":0.12520161970205168}]
["STATE","N","NE","E","SE","S","SW","W","NW","Lat","Long","Distance",{"$f":"VLOOKUP(MIN(L26:L137),FINDWS,2,FALSE)","v":"Elkhart"},{"$f":"VLOOKUP(MIN(L26:L137),FINDWS,3,FALSE)","v":"INDIANA"}]
["Illinois",{"$f":"IF(windstate=$A17, VLOOKUP(windstation,ROSEILLINOIS,2,FALSE),\"\")","v":""},{"$f":"IF(windstate=$A17, VLOOKUP(windstation,ROSEILLINOIS,3,FALSE),\"\")","v":""},{"$f":"IF(windstate=$A17, VLOOKUP(windstation,ROSEILLINOIS,4,FALSE),\"\")","v":""},{"$f":"IF(windstate=$A17, VLOOKUP(windstation,ROSEILLINOIS,5,FALSE),\"\")","v":""},{"$f":"IF(windstate=$A17, VLOOKUP(windstation,ROSEILLINOIS,6,FALSE),\"\")","v":""},{"$f":"IF(windstate=$A17, VLOOKUP(windstation,ROSEILLINOIS,7,FALSE),\"\")","v":""},{"$f":"IF(windstate=$A17, VLOOKUP(windstation,ROSEILLINOIS,8,FALSE),\"\")","v":""},{"$f":"IF(windstate=$A17, VLOOKUP(windstation,ROSEILLINOIS,9,FALSE),\"\")","v":""},{"$f":"IF(windstate=$A17, VLOOKUP(windstation,ROSEILLINOIS,10,FALSE),\"\")","v":""},{"$f":"IF(windstate=$A17, VLOOKUP(windstation,ROSEILLINOIS,11,FALSE),\"\")","v":""},{"$f":"IF(windstate=$A17, VLOOKUP(windstation,ROSEILLINOIS,12,FALSE),\"\")","v":""},null,null,null,null,null,null,null,null,null,"3) Would you like me to redo the existing stations (Indiana, Missouri,"]
["Indiana",{"$f":"IF(windstate=$A18, VLOOKUP(windstation,ROSEINDIANA,2,FALSE),\"\")","v":11.6},{"$f":"IF(windstate=$A18, VLOOKUP(windstation,ROSEINDIANA,3,FALSE),\"\")","v":14.8},{"$f":"IF(windstate=$A18, VLOOKUP(windstation,ROSEINDIANA,4,FALSE),\"\")","v":18.3},{"$f":"IF(windstate=$A18, VLOOKUP(windstation,ROSEINDIANA,5,FALSE),\"\")","v":8.5},{"$f":"IF(windstate=$A18, VLOOKUP(windstation,ROSEINDIANA,6,FALSE),\"\")","v":8.0500000000000007},{"$f":"IF(windstate=$A18, VLOOKUP(windstation,ROSEINDIANA,7,FALSE),\"\")","v":7.9},{"$f":"IF(windstate=$A18, VLOOKUP(windstation,ROSEINDIANA,8,FALSE),\"\")","v":11.55},{"$f":"IF(windstate=$A18, VLOOKUP(windstation,ROSEINDIANA,9,FALSE),\"\")","v":6.45},{"$f":"IF(windstate=$A18, VLOOKUP(windstation,ROSEINDIANA,9,FALSE),\"\")","v":6.45},{"$f":"IF(windstate=$A18, VLOOKUP(windstation,ROSEINDIANA,11,FALSE),\"\")","v":-86.936999999999998},{"$f":"IF(windstate=$A18, VLOOKUP(windstation,ROSEINDIANA,12,FALSE),\"\")","v":320.46000795830486},null,null,null,null,null,null,null,null,null,"and Paducah, KY) so all the wind stations have comparable data?"]
["Kentucky",{"$f":"IF(windstate=$A19, VLOOKUP(windstation,ROSEKENTUCKY,2,FALSE),\"\")","v":""},{"$f":"IF(windstate=$A19, VLOOKUP(windstation,ROSEKENTUCKY,3,FALSE),\"\")","v":""},{"$f":"IF(windstate=$A19, VLOOKUP(windstation,ROSEKENTUCKY,4,FALSE),\"\")","v":""},{"$f":"IF(windstate=$A19, VLOOKUP(windstation,ROSEKENTUCKY,5,FALSE),\"\")","v":""},{"$f":"IF(windstate=$A19, VLOOKUP(windstation,ROSEKENTUCKY,6,FALSE),\"\")","v":""},{"$f":"IF(windstate=$A19, VLOOKUP(windstation,ROSEKENTUCKY,7,FALSE),\"\")","v":""},{"$f":"IF(windstate=$A19, VLOOKUP(windstation,ROSEKENTUCKY,8,FALSE),\"\")","v":""},{"$f":"IF(windstate=$A19, VLOOKUP(windstation,ROSEKENTUCKY,9,FALSE),\"\")","v":""},{"$f":"IF(windstate=$A19, VLOOKUP(windstation,ROSEKENTUCKY,9,FALSE),\"\")","v":""},{"$f":"IF(windstate=$A19, VLOOKUP(windstation,ROSEKENTUCKY,9,FALSE),\"\")","v":""},{"$f":"IF(windstate=$A19, VLOOKUP(windstation,ROSEKENTUCKY,9,FALSE),\"\")","v":""}]
["Michigan",{"$f":"IF(windstate=$A20, VLOOKUP(windstation,ROSEMICHIGAN,2,FALSE),\"\")","v":""},{"$f":"IF(windstate=$A20, VLOOKUP(windstation,ROSEMICHIGAN,3,FALSE),\"\")","v":""},{"$f":"IF(windstate=$A20, VLOOKUP(windstation,ROSEMICHIGAN,4,FALSE),\"\")","v":""},{"$f":"IF(windstate=$A20, VLOOKUP(windstation,ROSEMICHIGAN,5,FALSE),\"\")","v":""},{"$f":"IF(windstate=$A20, VLOOKUP(windstation,ROSEMICHIGAN,6,FALSE),\"\")","v":""},{"$f":"IF(windstate=$A20, VLOOKUP(windstation,ROSEMICHIGAN,7,FALSE),\"\")","v":""},{"$f":"IF(windstate=$A20, VLOOKUP(windstation,ROSEMICHIGAN,8,FALSE),\"\")","v":""},{"$f":"IF(windstate=$A20, VLOOKUP(windstation,ROSEMICHIGAN,9,FALSE),\"\")","v":""},{"$f":"IF(windstate=$A20, VLOOKUP(windstation,ROSEMICHIGAN,9,FALSE),\"\")","v":""},{"$f":"IF(windstate=$A20, VLOOKUP(windstation,ROSEMICHIGAN,9,FALSE),\"\")","v":""},{"$f":"IF(windstate=$A20, VLOOKUP(windstation,ROSEMICHIGAN,9,FALSE),\"\")","v":""},null,null,null,null,null,null,null,null,null,"I have the full 10 years of data (1990-1999) for the major-city stations"]
["Missouri",{"$f":"IF(windstate=$A21, VLOOKUP(windstation,ROSEMISSOURI,2,FALSE),\"\")","v":""},{"$f":"IF(windstate=$A21, VLOOKUP(windstation,ROSEMISSOURI,3,FALSE),\"\")","v":""},{"$f":"IF(windstate=$A21, VLOOKUP(windstation,ROSEMISSOURI,4,FALSE),\"\")","v":""},{"$f":"IF(windstate=$A21, VLOOKUP(windstation,ROSEMISSOURI,5,FALSE),\"\")","v":""},{"$f":"IF(windstate=$A21, VLOOKUP(windstation,ROSEMISSOURI,6,FALSE),\"\")","v":""},{"$f":"IF(windstate=$A21, VLOOKUP(windstation,ROSEMISSOURI,7,FALSE),\"\")","v":""},{"$f":"IF(windstate=$A21, VLOOKUP(windstation,ROSEMISSOURI,8,FALSE),\"\")","v":""},{"$f":"IF(windstate=$A21, VLOOKUP(windstation,ROSEMISSOURI,9,FALSE),\"\")","v":""},{"$f":"IF(windstate=$A21, VLOOKUP(windstation,ROSEMISSOURI,9,FALSE),\"\")","v":""},{"$f":"IF(windstate=$A21, VLOOKUP(windstation,ROSEMISSOURI,9,FALSE),\"\")","v":""},{"$f":"IF(windstate=$A21, VLOOKUP(windstation,ROSEMISSOURI,9,FALSE),\"\")","v":""},null,null,null,null,null,null,null,null,null,"- many of the smaller ones I only have 1995-1999.  However, when I did a"]
["Ohio",{"$f":"IF(windstate=$A22, VLOOKUP(windstation,ROSEOHIO,2,FALSE),\"\")","v":""},{"$f":"IF(windstate=$A22, VLOOKUP(windstation,ROSEOHIO,3,FALSE),\"\")","v":""},{"$f":"IF(windstate=$A22, VLOOKUP(windstation,ROSEOHIO,4,FALSE),\"\")","v":""},{"$f":"IF(windstate=$A22, VLOOKUP(windstation,ROSEOHIO,5,FALSE),\"\")","v":""},{"$f":"IF(windstate=$A22, VLOOKUP(windstation,ROSEOHIO,6,FALSE),\"\")","v":""},{"$f":"IF(windstate=$A22, VLOOKUP(windstation,ROSEOHIO,7,FALSE),\"\")","v":""},{"$f":"IF(windstate=$A22, VLOOKUP(windstation,ROSEOHIO,8,FALSE),\"\")","v":""},{"$f":"IF(windstate=$A22, VLOOKUP(windstation,ROSEOHIO,9,FALSE),\"\")","v":""},{"$f":"IF(windstate=$A22, VLOOKUP(windstation,ROSEOHIO,9,FALSE),\"\")","v":""},{"$f":"IF(windstate=$A22, VLOOKUP(windstation,ROSEOHIO,9,FALSE),\"\")","v":""},{"$f":"IF(windstate=$A22, VLOOKUP(windstation,ROSEOHIO,9,FALSE),\"\")","v":""},null,null,null,null,null,null,null,null,null,"test for Indianapolis, the wind frequencies for only the 1995-1999 time"]
["Tennessee",{"$f":"IF(windstate=$A23, VLOOKUP(windstation,ROSETENNESSEE,2,FALSE),\"\")","v":""},{"$f":"IF(windstate=$A23, VLOOKUP(windstation,ROSETENNESSEE,3,FALSE),\"\")","v":""},{"$f":"IF(windstate=$A23, VLOOKUP(windstation,ROSETENNESSEE,4,FALSE),\"\")","v":""},{"$f":"IF(windstate=$A23, VLOOKUP(windstation,ROSETENNESSEE,5,FALSE),\"\")","v":""},{"$f":"IF(windstate=$A23, VLOOKUP(windstation,ROSETENNESSEE,6,FALSE),\"\")","v":""},{"$f":"IF(windstate=$A23, VLOOKUP(windstation,ROSETENNESSEE,7,FALSE),\"\")","v":""},{"$f":"IF(windstate=$A23, VLOOKUP(windstation,ROSETENNESSEE,8,FALSE),\"\")","v":""},{"$f":"IF(windstate=$A23, VLOOKUP(windstation,ROSETENNESSEE,9,FALSE),\"\")","v":""},{"$f":"IF(windstate=$A23, VLOOKUP(windstation,ROSETENNESSEE,9,FALSE),\"\")","v":""},{"$f":"IF(windstate=$A23, VLOOKUP(windstation,ROSETENNESSEE,9,FALSE),\"\")","v":""},{"$f":"IF(windstate=$A23, VLOOKUP(windstation,ROSETENNESSEE,9,FALSE),\"\")","v":""},null,null,null,null,null,null,null,null,null,"span never varied more than 1.5% in any direction when compared to the"]
["[\"ILLINOIS\"]","[\"ROSEILLINOIS\"]",null,null,null,null,null,null,null,null,null,null,null,null,null,null,null,null,null,null,null,"ten-year 1990-1999 time span.  This makes me confident that using the"]
["ILLINOIS","N","NE","E","SE","S","SW","W","NW","Lat","Long","Distance",null,null,null,null,null,null,null,null,null,"later 5 years of data would be sufficient for the smaller stations to be"]
["Aurora",14.15,10.85,16.95,11.75,9.1999999999999993,10.15,8.35,8.1999999999999993,"N/A","N/A","N/A",{"$f":"A26","v":"Aurora"},{"$f":"A$25","v":"ILLINOIS"},null,null,null,null,null,null,null,"included in the model."]
["Belleville",7,10.1,13.5,8.35,13.2,6.9,6.9,9.75,"N/A","N/A","N/A",{"$f":"A27","v":"Belleville"},{"$f":"A$25","v":"ILLINOIS"}]
["Carbondale",21.25,9.5500000000000007,7.7,12.8,11.15,5.45,6.3,6.7,"N/A","N/A","N/A","Carbondale","ILLINOIS",null,null,null,null,null,null,null,"I do feel that the existing station data should be re-worked with this"]
["Champaign",19,10.7,14.55,10.15,9.9,10,10.95,8.5,"N/A","N/A","N/A","Champaign","ILLINOIS",null,null,null,null,null,null,null,"newer data, a) because it is hourly data - which is the standard for"]
["Chicago",16.5,15.65,17,10.35,11.8,12.45,7.75,5.8,"N/A","N/A","N/A","Chicago","ILLINOIS",null,null,null,null,null,null,null,"long-term wind roses, and b) to make all of our data be of the same type"]
["Decatur",17.8,12.15,12.2,11.9,10.1,8.75,7.8,6.8,"N/A","N/A","N/A","Decatur","ILLINOIS",null,null,null,null,null,null,null,"(as far as I remember, Teng got the Indiana data from climatic daily"]
["Lawrenceville",19.95,9.0500000000000007,9.9499999999999993,10.3,11.85,10.75,8.5500000000000007,6.45,"N/A","N/A","N/A","Lawrenceville","ILLINOIS",null,null,null,null,null,null,null,"averages, the Missouri data came from a short-term field project, and"]
["Moline",15.4,13.15,16.649999999999999,11.6,8.35,6.85,13.35,7.2,"N/A","N/A","N/A","Moline","ILLINOIS",null,null,null,null,null,null,null,"I'm not sure of the Paducah location)."]
["Mount Vernon",18.100000000000001,9.6,9.15,4.8499999999999996,14.75,7.3,4.9000000000000004,4.7,"N/A","N/A","N/A","Mount Vernon","ILLINOIS"]
["Naperville",17.2,11.2,13.95,10.25,13,10.6,8.25,5.05,"N/A","N/A","N/A","Naperville","ILLINOIS",null,null,null,null,null,null,null,"Overall, I think I will be able to add the major cities in Ohio,"]
["Peoria",22.35,10.85,13.1,12.2,10.199999999999999,8.9499999999999993,10.85,8.1,"N/A","N/A","N/A","Peoria","ILLINOIS",null,null,null,null,null,null,null,"Michigan, Kentucky, and Illinois (ten-years of data) by Monday; redo the"]
["Perry",13.6,9.9,15.2,15.5,7.7,6.9,11.2,15.6,"N/A","N/A","N/A","Perry","ILLINOIS",null,null,null,null,null,null,null,"existing model stations by Tuesday; and add the smaller stations (5"]
["Quincy",19.899999999999999,10.35,11.05,12.95,10.65,7.6,10.1,12.3,"N/A","N/A","N/A","Quincy","ILLINOIS",null,null,null,null,null,null,null,"years of data) in all 5 states by next Thursday-Friday."]
["Rockford",21.95,8.4,13.15,13,9.8000000000000007,10.25,9.5,7.95,"N/A","N/A","N/A","Rockford","ILLINOIS"]
["Springfield",22.6,12.25,12.9,11.75,12.3,7.25,9.65,8.5500000000000007,"N/A","N/A","N/A","Springfield","ILLINOIS"]
["[\"INDIANA\"]","[\"ROSEINDIANA\"]"]
["INDIANA","N","NE","E","SE","S","SW","W","NW","Lat","Long","Distance"]
["Bloomington",12.8,13.7,14.15,7.05,10.5,5.5,6.6,9.75,39.146000000000001,-86.617000000000004,{"$f":"(3.28*RadiusEarth*((2*ASIN(SQRT((SIN((RADIANS(sitelatitude)-RADIANS(J43))/2)^2)+COS(RADIANS(sitelatitude))*COS(RADIANS(J43))*(SIN((RADIANS(sitelongitude)-RADIANS(K43))/2)^2))))))/5280","v":405.59902752054279},{"$f":"A43","v":"Bloomington"},{"$f":"A$42","v":"INDIANA"},3893,"KBMG",null,null,null,null,null,384,"KMGC","MICHIGAN CITY",null,"have"]
["Columbus",19.25,11.25,11.35,9.1,10.35,6.4,4.7,5.25,39.261899999999997,-85.896299999999997,396.39674047920505,"Columbus",{"$f":"A$42","v":"INDIANA"},13803,"KBAK",null,null,null,null,null,4828,"KAID","ANDERSON",null,"have"]
["Elkhart",13.55,16.75,15.8,13.6,9.1,5.3,10.9,7.75,41.7194,-86.003200000000007,226.60863875782243,"Elkhart","INDIANA",4806,"KEKM",null,null,null,null,null,4846,"KVPZ","VALPARAISO",null,"have"]
["Evansville",14.7,13.9,10.35,11.25,13.85,8.5500000000000007,10.199999999999999,6.75,38.036999999999999,-87.531999999999996,487.42766301251123,"Evansville","INDIANA",93817,"KEVV",null,null,null,null,null,14829,"KGSH","GOSHEN",null,"have"]
["Fort Wayne",12.1,18.649999999999999,19.149999999999999,10.199999999999999,8.5500000000000007,6.8,13.4,6.6,40.978999999999999,-85.194999999999993,280.70998582252764,"Fort Wayne","INDIANA",14827,"KFWA"]
["Gary",12.7,10.25,19.5,5.55,18.75,7.6,3.65,6.55,41.616300000000003,-87.412800000000004,244.26883246963018,"Gary","INDIANA",4807,"KGYY",null,null,null,null,null,53842,"KEYE","INDIANAPOLIS"]
["Huntingburg",20.8,9.6999999999999993,9.1,11.05,11.9,6.8,6,10.6,38.249020000000002,-86.963719999999995,468.96345437150018,"Huntingburg","INDIANA",53896,"KHNB",null,null,null,null,null,53866,"KGEZ","SHELBYVILLE"]
["Indianapolis",14.65,18.649999999999999,14.3,10.8,11.2,8.5,9.4,10.35,39.716999999999999,-86.295000000000002,365.23480996468908,"Indianapolis","INDIANA",93819,"KIND",null,null,null,null,null,54807,"KOKK","KOKOMO"]
["Muncie",17.600000000000001,15.15,17.100000000000001,9.0500000000000007,7.7,6.15,7.6,6.55,40.241999999999997,-85.396000000000001,330.08837555813795,"Muncie","INDIANA",94895,"KMIE",null,null,null,null,null,54809,"KASW","WARSAW"]
["Peru",15,13.45,21.75,10.1,9.5,7.6,11.65,8.6999999999999993,40.786866000000003,-86.146754000000001,291.11828259703128,"Peru","INDIANA","assume peru airport, can't find station",null,null,null,null,94833,"KGUS"]
["South Bend",16.3,19.899999999999999,11.55,12.2,11.35,5.7,11.1,8.3000000000000007,41.707999999999998,-86.316999999999993,227.95220189306087,"South Bend","INDIANA",14848,"KSBN"]
["Terre Haute",18,10,9.4499999999999993,10.55,10.8,7.05,7.6,9.1,39.451999999999998,-87.308000000000007,389.01058458002188,"Terre Haute","INDIANA",3868,"KHUF"]
["West Lafayette",11.6,14.8,18.3,8.5,8.0500000000000007,7.9,11.55,6.45,40.411999999999999,-86.936999999999998,320.46000795830486,"West Lafayette","INDIANA",14835,"KLAF"]
[]
["KENTUCKY","N","NE","E","SE","S","SW","W","NW","Lat","Long","Distance"]
["Bowling Green",16.899999999999999,11.65,9.6999999999999993,8.4,10.75,8.3000000000000007,7.2,5.35,"N/A","N/A","N/A",{"$f":"A58","v":"Bowling Green"},{"$f":"A$57","v":"KENTUCKY"}]
["Covington",17.850000000000001,17.8,16.2,9.0500000000000007,12,7.75,9,6.5,"N/A","N/A","N/A","Covington",{"$f":"A$57","v":"KENTUCKY"}]
["Elizabethtown",14,16.8,16.45,11.6,10.6,10.5,11.8,5.7,"N/A","N/A","N/A","Elizabethtown","KENTUCKY"]
["Henderson City",16.899999999999999,12.85,9.6,11.7,11.1,6.6,7.05,6.7,"N/A","N/A","N/A","Henderson City","KENTUCKY"]
["Hopkinsville",17.25,12.8,10.65,10.199999999999999,14.6,9.5500000000000007,9.35,10.8,"N/A","N/A","N/A","Hopkinsville","KENTUCKY"]
["Jackson",23.4,18.899999999999999,14.85,8.1,6,9.6999999999999993,9.4499999999999993,5.65,"N/A","N/A","N/A","Jackson","KENTUCKY"]
["Lexington",22.15,17.850000000000001,14.5,9.25,7.45,9.9499999999999993,8.65,7.65,"N/A","N/A","N/A","Lexington","KENTUCKY"]
["London",13.85,11.85,13.5,6.4,9.8000000000000007,6.75,4.2,6.7,"N/A","N/A","N/A","London","KENTUCKY"]
["Louisville",19,12.6,14.2,8.5500000000000007,13.35,7.75,8.1999999999999993,12.3,"N/A","N/A","N/A","Louisville","KENTUCKY"]
["Paducah",22.4,14.5,9.4,9,13.75,9.6999999999999993,7.95,7.35,"N/A","N/A","N/A","Paducah","KENTUCKY"]
[]
["MICHIGAN","N","NE","E","SE","S","SW","W","NW","Lat","Long","Distance"]
["Alpena",14.2,13.2,17.8,14.11,10.35,5.45,8.4,9.6999999999999993,"N/A","N/A","N/A",{"$f":"A70","v":"Alpena"},{"$f":"A$69","v":"MICHIGAN"}]
["Ann Arbor",12.05,16.05,18.399999999999999,11.5,9.3000000000000007,7.15,9.15,5.45,"N/A","N/A","N/A","Ann Arbor",{"$f":"A$69","v":"MICHIGAN"}]
["Battle Creek",17.45,14.95,17,8.9,7.55,8.0500000000000007,7.65,7.35,"N/A","N/A","N/A","Battle Creek","MICHIGAN"]
["Benton Harbor",15.7,8.15,13.45,7.95,10,4.25,9.6,8.65,"N/A","N/A","N/A","Benton Harbor","MICHIGAN"]
["Cadillac",8.6999999999999993,11.7,16,11.1,15.15,5.8,7.25,7.85,"N/A","N/A","N/A","Cadillac","MICHIGAN"]
["Detroit",16.399999999999999,16.95,17.600000000000001,10,11.65,9.15,8.1,6.8,"N/A","N/A","N/A","Detroit","MICHIGAN"]
["Flint",18.55,16.850000000000001,18.8,9.9499999999999993,9.1999999999999993,7.25,9.4499999999999993,6.9,"N/A","N/A","N/A","Flint","MICHIGAN"]
["Grand Rapids",15.6,15,19.3,9.1,7.3,8.85,14.4,7.75,"N/A","N/A","N/A","Grand Rapids","MICHIGAN"]
["Holland",12.95,10.85,15.55,11.5,7.95,5.65,12.3,8.1,"N/A","N/A","N/A","Holland","MICHIGAN"]
["Houghton Lake",11.5,15.5,21.25,14.75,9,7.3,10.6,8.1,"N/A","N/A","N/A","Houghton Lake","MICHIGAN"]
["Howell",14.9,14.1,18.2,7.95,10.65,5.55,6.2,9.6999999999999993,"N/A","N/A","N/A","Howell","MICHIGAN"]
["Iron Mountain",9.6999999999999993,4.9000000000000004,11.7,16.600000000000001,12.3,4.45,5.4,11.1,"N/A","N/A","N/A","Iron Mountain","MICHIGAN"]
["Ironwood",12,14.3,18.55,9.5,9.4499999999999993,5.7,9.25,5.15,"N/A","N/A","N/A","Ironwood","MICHIGAN"]
["Jackson",12.1,16.8,16.149999999999999,10.25,7.7,6.1,6.55,8.1,"N/A","N/A","N/A","Jackson","MICHIGAN"]
["Kalamazoo",16.3,13,14.2,12.45,9.35,7.2,7,6.05,"N/A","N/A","N/A","Kalamazoo","MICHIGAN"]
["Lansing",16.7,15.5,20.75,10,8.9,9.8000000000000007,8.3000000000000007,7.3,"N/A","N/A","N/A","Lansing","MICHIGAN"]
["Manistee",9.8000000000000007,7.75,14.05,12.5,11.3,5.5,18.600000000000001,8.1999999999999993,"N/A","N/A","N/A","Manistee","MICHIGAN"]
["Maryville",17,9.6999999999999993,16.2,8,12.4,4.7,5.2,7.9,"N/A","N/A","N/A","Maryville","MICHIGAN"]
["Muskegon",13.25,11.35,12.6,13.3,12.95,6.7,14.1,12.05,"N/A","N/A","N/A","Muskegon","MICHIGAN"]
["Pellston",6.1,8.8000000000000007,19.149999999999999,13.9,8.1,4.6500000000000004,9.35,8.1,"N/A","N/A","N/A","Pellston","MICHIGAN"]
["Saginaw",12.3,17.5,20,11,10.8,12.3,7.7,4.4000000000000004,"N/A","N/A","N/A","Saginaw","MICHIGAN"]
["Sault Ste. Marie",7.7,7.5,13.85,20,8.0500000000000007,5.6,17.2,15.8,"N/A","N/A","N/A","Sault Ste. Marie","MICHIGAN"]
["Traverse City",17.149999999999999,17.55,12.35,8.6999999999999993,15.9,8.5,5,4.2,"N/A","N/A","N/A","Traverse City","MICHIGAN"]
["Waterford",12.9,12.5,18.649999999999999,14.3,10.4,6.1,8.4,7,"N/A","N/A","N/A","Waterford","MICHIGAN"]
[]
["MISSOURI","N","NE","E","SE","S","SW","W","NW","Lat","Long","Distance"]
["Cape Girardeau",19.850000000000001,9.65,8.5500000000000007,8.85,15.15,9.35,7.2,9.15,"N/A","N/A","N/A",{"$f":"A96","v":"Cape Girardeau"},{"$f":"A$95","v":"MISSOURI"}]
["Columbia",22.35,8.75,12.1,11.85,10.65,7.3,11.65,14.55,"N/A","N/A","N/A","Columbia",{"$f":"A$95","v":"MISSOURI"}]
["Farmington",23.5,7.6,8.4499999999999993,12.15,11.4,5.05,6.05,5.15,"N/A","N/A","N/A","Farmington","MISSOURI"]
["Joplin",28,10.1,6.35,7.25,11.45,9.6,9.1,11.95,"N/A","N/A","N/A","Joplin","MISSOURI"]
["Kaiser",21.35,8.5500000000000007,11.3,8.25,10.25,6.8,7.8,7.95,"N/A","N/A","N/A","Kaiser","MISSOURI"]
["Kansas City",25.45,8.4,8.1,11.4,12.55,8.1999999999999993,11.7,11.7,"N/A","N/A","N/A","Kansas City","MISSOURI"]
["Kirkville",16.149999999999999,13.85,11.1,10.65,12.75,6.15,10.55,10.75,"N/A","N/A","N/A","Kirkville","MISSOURI"]
["Poplar Bluff",18.05,9.15,10,10.5,13.6,9.9499999999999993,6.1,7.15,"N/A","N/A","N/A","Poplar Bluff","MISSOURI"]
["Richland",20.6,10.15,13.85,13,10.95,5.75,7.8,14.25,"N/A","N/A","N/A","Richland","MISSOURI"]
["Sedalia",21.2,13.35,9.6,10.15,9.9499999999999993,6.85,10.35,10.35,"N/A","N/A","N/A","Sedalia","MISSOURI"]
["Springfield",31.85,7.4,7.5,10.1,12.3,6.5,6.1,16.149999999999999,"N/A","N/A","N/A","Springfield","MISSOURI"]
["Saint Louis",18,10.65,15.5,13.75,9.65,6,11.1,13,"N/A","N/A","N/A","Saint Louis","MISSOURI"]
["Vichy Rolla",21,15,10.55,11.75,10.75,6,10.35,9.4499999999999993,"N/A","N/A","N/A","Vichy Rolla","MISSOURI"]
["Warrensburg",25.25,8.3000000000000007,9.4499999999999993,9.75,11.9,7.2,10.199999999999999,11.6,"N/A","N/A","N/A","Warrensburg","MISSOURI"]
[]
["OHIO","N","NE","E","SE","S","SW","W","NW","Lat","Long","Distance"]
["Akron",17.7,19.399999999999999,17.899999999999999,9.25,10.7,8.1,7.35,7.85,"N/A","N/A","N/A",{"$f":"A112","v":"Akron"},{"$f":"A$111","v":"OHIO"}]
["Cincinnati",11.8,15.2,12.1,6.25,7.45,11.3,6.55,1.8,"N/A","N/A","N/A","Cincinnati",{"$f":"A$111","v":"OHIO"}]
["Cleveland",18.600000000000001,27.05,12.15,7.75,14.05,9.1,3.9,5,"N/A","N/A","N/A","Cleveland","OHIO"]
["Columbus",15.8,13.45,14.75,10,11.7,7.9,7.85,9.5,"N/A","N/A","N/A","Columbus","OHIO"]
["Dayton",17.5,17.850000000000001,16.100000000000001,10.5,11,7.5,7.7,8.5,"N/A","N/A","N/A","Dayton","OHIO"]
["Fairborn",15.1,17.45,16.850000000000001,9.35,11,11.9,9.0500000000000007,7.85,"N/A","N/A","N/A","Fairborn","OHIO"]
["Findlay",16.850000000000001,16.100000000000001,18.350000000000001,7.9,6.65,9.1,8.4,8,"N/A","N/A","N/A","Findlay","OHIO"]
["Lancaster",11.15,11.85,14,6.15,8.9,5.25,5.95,9.1,"N/A","N/A","N/A","Lancaster","OHIO"]
["Mansfield",19.7,19.3,19.7,10,10.25,6.9,5.8,7.4,"N/A","N/A","N/A","Mansfield","OHIO"]
["Toledo",13.25,21.25,17.55,9.75,9,7.7,11.9,5.25,"N/A","N/A","N/A","Toledo","OHIO"]
["Youngstown",15.65,18.25,16,11.05,10.95,5.35,8.85,10.85,"N/A","N/A","N/A","Youngstown","OHIO"]
["Zanesville",14.4,11.55,17.3,10.050000000000001,9.3000000000000007,5.75,5.65,8.35,"N/A","N/A","N/A","Zanesville","OHIO"]
[]
["TENNESEE","N","NE","E","SE","S","SW","W","NW","Lat","Long","Distance"]
["Nashville",null,null,null,null,null,null,null,null,"N/A","N/A","N/A",{"$f":"A126","v":"Nashville"},{"$f":"A$125","v":"TENNESEE"}]
["Tullahoma",24.049999999999997,11.049999999999999,8.8000000000000007,7.9,16.2,7.1,4.1999999999999993,12.3,"N/A","N/A","N/A","Tullahoma",{"$f":"A$125","v":"TENNESEE"}]

{"sheet":"compr","index":19,"n_rows":289,"n_cols":23,"rows_kept":289,"cut":false,"hidden":true,"merged":[]}
["Last row of plot",289,null,null,"Iowa DNR",null,"Illinois",null,"Ontario MDS II",null,null,null,null,"OFFSET",null,null,null,null,null,"Randolph County"]
[null,null,null,null,"   Rural",1,"   Rural",1,"   Rural",null,0,null,null,0.91,0.94,0.96,0.97,0.98,0.99,"   Rural",0]
[null,null,null,null,"   City",1,"   City",1,"   City",null,0,null,null,0,0,0,0,0,0,"   City",0]
["Use s1 and north direction",null,"Purdue Odor Model",null,null,null,null,null,null,null,null,null,null,null,null,null,null,null,null,"Rural * 1.5",0]
["Power Exponent here",null,0.5]
["Species",null,{"$f":"s1type","v":0}]
["Source type",null,{"$f":"s1source","v":0},null,"Gestating sows",null,"Swine > 55 lb",null,"Feeders (27-105 kg)",null,null,null,"Finishing pigs"]
["S1 number",null,3000]
["S1 animal spec emission rate",null,{"$f":"s1rate","v":""},null,null,null,null,null,null,null,null,null,null,null,null,null,null,null,null,"Finish AU/pig","AU/sow"]
["AU per animal",null,null,null,{"$f":"VLOOKUP(E7,IowaAUtable,2,\"false\")","v":0.4},null,{"$f":"VLOOKUP(G7,illinoisAUtable,2,\"false\")","v":0.4},null,null,null,null,null,null,null,null,null,null,null,null,0.13600000000000001,0.34]
["Wind Frequency (max)",null,{"$f":"D11","v":1.0665},{"$f":"Wind!M6","v":1.0665}]
["Wind Frequency (min)",null,{"$f":"D12","v":0.7044999999999999},{"$f":"Wind!L6","v":0.7044999999999999},null,null,null,null,null,null,null,null,null,null,null,null,null,null,null,"Finish AU/pig"]
["Best topography, flat and trees",null,{"$f":"D13","v":0.8},{"$f":"TOPOAFCTR","v":0.8},null,null,null,null,null,null,null,null,null,null,null,null,null,null,null,0.13600000000000001]
["Worst topography, steep valley",null,{"$f":"D14","v":0.9},{"$f":"TOPOCFCTR","v":0.9}]
["Big city expos",null,1]
["Rural house expos",null,0.5]
["Shape factor (max)",null,{"$f":"1+ListsFlags!D8","v":1.1499999999999999}]
["Shape factor (min)",null,{"$f":"1+ListsFlags!D5","v":1}]
["Emission",null,{"$f":"s1emsn","v":""}]
["Manure removal factor",null,{"$f":"s1rmvlfctr","v":""}]
["Manure dilution/sc factor",null,{"$f":"s1dilfctr","v":""}]
["Adjusted emissions",null,{"$f":"s1emission","v":""},null,null,null,null,null,"liquid"]
["Abatement factor",null,{"$f":"IF(s1abfctr=\"\",1,s1abfctr)","v":1},null,null,null,null,null,{"$f":"IF(I22=\"solid\",0.7,0.8)","v":0.8}]
["Abated emissions",null,{"$f":"C22*C23","v":{"$error":"#VALUE!"}},null,null,null,null,null,{"$f":"VLOOKUP(I7,MDS2AUtable,3,\"false\")","v":1.2}]
["Manure Form (solid or liquid)"]
["Factor D (Manure Form Factor)",null,null,null,null,null,null,null,1.1399999999999999]
["Factor A (from MDS2AUtable)",null,null,null,null,null,null,null,null,null,null,null,{"$f":"VLOOKUP(M7,OFFSETspaceperhdtable,4,\"false\")","v":0.78600000000000003}]
["Factor B (see column)"]
["Factor C (Orderly Expansion Factor)",null,null,null,null,null,null,null,null,null,null,null,{"$f":"VLOOKUP(M7,OFFSETOENtable,2,\"false\")","v":240}]
["Typical space per animal"]
[null,null,{"$f":"s1rmvlfctr","v":""}]
["OEN factor OEN/m2-s"]
[]
[]
["Separation Distance, ft"]
[null,"Purdue"]
["Lowest Number of Head for graph",100,1,1]
["Incremental Number of Head",80,null,null,null,null,null,null,null,null,"MSD City","MSD Rural","OFFSET","OFFSET","OFFSET","OFFSET","OFFSET","OFFSET","OFFSET","Randolph","Randolph","Randolph","AU"]
["Factor","Number","PU Small","PU High","IA Rural","IA City","IL Rural","IL City","MDS2 (NU)","Factor B","Type A, ft","Type B, ft","F Area, m2",91,94,96,97,98,99,"Residence","City","Res (NV/lag)"]
[1,{"$f":"A40*$B$37","v":100},{"$f":"IF($C$37=1,20*$C$12*$C$13*$C$16*$C$18*(B40*$C$9*$C$23*($C$20-$C$21))^PowerExpo,\"\")","v":{"$error":"#VALUE!"}},{"$f":"IF(D$37=1,20*$C$11*$C$14*$C$15*$C$17*(B40*$C$9*$C$23*($C$20-$C$21))^PowerExpo,\"\")","v":{"$error":"#VALUE!"}},{"$f":"IF($F$2=1,VLOOKUP(B40*$E$10,IDNRtable,2),\"\")","v":0},{"$f":"IF($F$3=1,VLOOKUP(B40*$E$10,IDNRtable,3),\"\")","v":0},{"$f":"IF($H$2=1,VLOOKUP($B40*$G$10,IDAtable,2),\"\")","v":0},{"$f":"IF($H$3=1,VLOOKUP($B40*$G$10,IDAtable,3),\"\")","v":0},{"$f":"B40/VLOOKUP(I$7,MDS2AUtable,2,\"false\")","v":16.666666666666668},{"$f":"80.428*I40^0.3128","v":193.91060355966212},{"$f":"IF($K$2=1,3.28*I$23*I$24*I$26*J40,\"\")","v":""},{"$f":"IF($K$3=1,2*3.28*I$23*I$24*I$26*J40,\"\")","v":""},{"$f":"$M$27*B40","v":78.600000000000009},{"$f":"IF(N$3=1,3.28*VLOOKUP(N$39,OFFSETOdorFreeab,2,\"false\")*($M$29*$B40*$M$27)^VLOOKUP(N$39,OFFSETOdorFreeab,3,\"false\"),\"\")","v":""},"","","","","",{"$f":"IF($U$2=1,VLOOKUP($B40*$T$10,Randolphtable,2),\"\")","v":""},{"$f":"IF($U$3=1,VLOOKUP($B40*$T$10,Randolphtable,3),\"\")","v":""},{"$f":"IF($U$4=1,1.5*VLOOKUP($B40*$T$10,Randolphtable,2),\"\")","v":""},{"$f":"$B40*$G$10","v":40}]
[2,{"$f":"(A41-$A$40)*B$38+$B$37","v":180},{"$error":"#VALUE!"},{"$error":"#VALUE!"},0,0,1320,2640,{"$f":"B41/VLOOKUP(I$7,MDS2AUtable,2,\"false\")","v":30},{"$f":"80.428*I41^0.3128","v":233.05090713224442},"","",{"$f":"$M$27*B41","v":141.48000000000002},"","","","","","","","","",{"$f":"$B41*$G$10","v":72}]
[3,260,{"$error":"#VALUE!"},{"$error":"#VALUE!"},0,0,1320,2640,43.333333333333336,261.45997864834271,"","",204.36,"","","","","","","","","",104]
[4,340,{"$error":"#VALUE!"},{"$error":"#VALUE!"},0,0,1320,2640,56.666666666666664,284.34668100784,"","",267.24,"","","","","","","","","",136]
[5,420,{"$error":"#VALUE!"},{"$error":"#VALUE!"},0,0,1320,2640,70,303.77633363039308,"","",330.12,"","","","","","","","","",168]
[6,500,{"$error":"#VALUE!"},{"$error":"#VALUE!"},0,0,1320,2640,83.333333333333329,320.80370509553183,"","",393,"","","","","","","","","",200]
[7,580,{"$error":"#VALUE!"},{"$error":"#VALUE!"},0,0,1320,2640,96.666666666666671,336.04840197190953,"","",455.88,"","","","","","","","","",232]
[8,660,{"$error":"#VALUE!"},{"$error":"#VALUE!"},0,0,1320,2640,110,349.90882924643336,"","",518.76,"","","","","","","","","",264]
[9,740,{"$error":"#VALUE!"},{"$error":"#VALUE!"},0,0,1320,2640,123.33333333333333,362.65798155095393,"","",581.64,"","","","","","","","","",296]
[10,820,{"$error":"#VALUE!"},{"$error":"#VALUE!"},0,0,1320,2640,136.66666666666666,374.49198839385946,"","",644.52,"","","","","","","","","",328]
[11,900,{"$error":"#VALUE!"},{"$error":"#VALUE!"},0,0,1320,2640,150,385.55702014972871,"","",707.4,{"$f":"IF(N$3=1,3.28*VLOOKUP(N$39,OFFSETOdorFreeab,2,\"false\")*($M$29*$B50*$M$27)^VLOOKUP(N$39,OFFSETOdorFreeab,3,\"false\"),\"\")","v":""},"","","","","","","","",360]
[12,980,{"$error":"#VALUE!"},{"$error":"#VALUE!"},0,0,1320,2640,163.33333333333334,395.96525072335243,"","",770.28000000000009,"","","","","","","","","",392]
[13,1060,{"$error":"#VALUE!"},{"$error":"#VALUE!"},0,0,1320,2640,176.66666666666666,405.80484959217375,"","",833.16000000000008,"","","","","","","","","",424]
[14,1140,{"$error":"#VALUE!"},{"$error":"#VALUE!"},0,0,1320,2640,190,415.14651413590587,"","",896.04000000000008,"","","","","","","","","",456]
[15,1220,{"$error":"#VALUE!"},{"$error":"#VALUE!"},0,0,1320,2640,203.33333333333334,424.04789644678226,"","",958.92000000000007,"","","","","","","","","",488]
[16,1300,{"$error":"#VALUE!"},{"$error":"#VALUE!"},1250,1875,1320,2640,216.66666666666666,432.55669542991109,"","",1021.8000000000001,"","","","","","","","","",520]
[17,1380,{"$error":"#VALUE!"},{"$error":"#VALUE!"},1250,1875,1320,2640,230,440.71287314370505,"","",1084.68,"","","","","","","","","",552]
[18,1460,{"$error":"#VALUE!"},{"$error":"#VALUE!"},1250,1875,1320,2640,243.33333333333334,448.55027928637031,"","",1147.56,"","","","","","","","","",584]
[19,1540,{"$error":"#VALUE!"},{"$error":"#VALUE!"},1250,1875,1320,2640,256.66666666666669,456.09786531776251,"","",1210.44,"","","","","","","","","",616]
[20,1620,{"$error":"#VALUE!"},{"$error":"#VALUE!"},1250,1875,1320,2640,270,463.38060759762988,"","",1273.3200000000002,"","","","","","","","","",648]
[21,1700,{"$error":"#VALUE!"},{"$error":"#VALUE!"},1250,1875,1320,2640,283.33333333333331,470.42022006221094,"","",1336.2,{"$f":"IF(N$3=1,3.28*VLOOKUP(N$39,OFFSETOdorFreeab,2,\"false\")*($M$29*$B60*$M$27)^VLOOKUP(N$39,OFFSETOdorFreeab,3,\"false\"),\"\")","v":""},"","","","","","","","",680]
[22,1780,{"$error":"#VALUE!"},{"$error":"#VALUE!"},1250,1875,1320,2640,296.66666666666669,477.23571197069725,"","",1399.0800000000002,"","","","","","","","","",712]
[23,1860,{"$error":"#VALUE!"},{"$error":"#VALUE!"},1250,1875,1320,2640,310,483.84382978476771,"","",1461.96,"","","","","","","","","",744]
[24,1940,{"$error":"#VALUE!"},{"$error":"#VALUE!"},1250,1875,1320,2640,323.33333333333331,490.25941115286258,"","",1524.8400000000001,"","","","","","","","","",776]
[25,2020,{"$error":"#VALUE!"},{"$error":"#VALUE!"},1250,1875,1320,2640,336.66666666666669,496.49567135276817,"","",1587.72,"","","","","","","","","",808]
[26,2100,{"$error":"#VALUE!"},{"$error":"#VALUE!"},1250,1875,1320,2640,350,502.56443722007418,"","",1650.6000000000001,"","","","","","","","","",840]
[27,2180,{"$error":"#VALUE!"},{"$error":"#VALUE!"},1250,1875,1320,2640,363.33333333333331,508.47633980607014,"","",1713.48,"","","","","","","","","",872]
[28,2260,{"$error":"#VALUE!"},{"$error":"#VALUE!"},1250,1875,1320,2640,376.66666666666669,514.24097428034884,"","",1776.3600000000001,"","","","","","","","","",904]
[29,2340,{"$error":"#VALUE!"},{"$error":"#VALUE!"},1250,1875,1320,2640,390,519.86703359958551,"","",1839.24,"","","","","","","","","",936]
[30,2420,{"$error":"#VALUE!"},{"$error":"#VALUE!"},1250,1875,1320,2640,403.33333333333331,525.36242098870434,"","",1902.1200000000001,"","","","","","","","","",968]
[31,2500,{"$error":"#VALUE!"},{"$error":"#VALUE!"},1875,2500,1320,2640,416.66666666666669,530.7343451765197,"","",1965,{"$f":"IF(N$3=1,3.28*VLOOKUP(N$39,OFFSETOdorFreeab,2,\"false\")*($M$29*$B70*$M$27)^VLOOKUP(N$39,OFFSETOdorFreeab,3,\"false\"),\"\")","v":""},"","","","","","","","",1000]
[32,2580,{"$error":"#VALUE!"},{"$error":"#VALUE!"},1875,2500,1320,2640,430,535.98940149274949,"","",2027.88,"","","","","","","","","",1032]
[33,2660,{"$error":"#VALUE!"},{"$error":"#VALUE!"},{"$f":"IF($F$2=1,VLOOKUP(B72*$E$10,IDNRtable,2),\"\")","v":1875},{"$f":"IF($F$3=1,VLOOKUP(B72*$E$10,IDNRtable,3),\"\")","v":2500},{"$f":"IF($H$2=1,VLOOKUP($B72*$G$10,IDAtable,2),\"\")","v":1320},{"$f":"IF($H$3=1,VLOOKUP($B72*$G$10,IDAtable,3),\"\")","v":2640},443.33333333333331,541.13364129529748,{"$f":"IF($K$2=1,3.28*I$23*I$24*I$26*J72,\"\")","v":""},{"$f":"IF($K$3=1,2*3.28*I$23*I$24*I$26*J72,\"\")","v":""},2090.7600000000002,"","","","","","","","","",1064]
[34,{"$f":"(A73-$A$40)*B$38+$B$37","v":2740},{"$error":"#VALUE!"},{"$error":"#VALUE!"},1875,2500,1320,2640,456.66666666666669,546.17263170482261,"","",2153.64,"","","","","","","","","",1096]
[35,2820,{"$error":"#VALUE!"},{"$error":"#VALUE!"},1875,2500,1320,2640,470,551.11150724115248,"","",2216.52,"","","","","","","","","",1128]
[36,2900,{"$error":"#VALUE!"},{"$error":"#VALUE!"},1875,2500,1320,2640,483.33333333333331,555.95501465628593,"","",2279.4,"","","","","","","","","",1160]
[37,2980,{"$error":"#VALUE!"},{"$error":"#VALUE!"},1875,2500,1320,2640,496.66666666666669,560.70755202197017,"","",2342.2800000000002,"","","","","","","","","",1192]
[38,3060,{"$error":"#VALUE!"},{"$error":"#VALUE!"},1875,2500,1320,2640,510,565.37320294151391,"","",2405.1600000000003,"","","","","","","","","",1224]
[39,3140,{"$error":"#VALUE!"},{"$error":"#VALUE!"},1875,2500,1320,2640,523.33333333333337,569.95576660471659,"","",2468.04,"","","","","","","","","",1256]
[40,3220,{"$error":"#VALUE!"},{"$error":"#VALUE!"},1875,2500,1320,2640,536.66666666666663,574.45878428330798,"","",2530.92,"","","","","","","","","",1288]
[41,3300,{"$error":"#VALUE!"},{"$error":"#VALUE!"},1875,2500,1320,2640,550,578.88556276582403,"","",2593.8000000000002,{"$f":"IF(N$3=1,3.28*VLOOKUP(N$39,OFFSETOdorFreeab,2,\"false\")*($M$29*$B80*$M$27)^VLOOKUP(N$39,OFFSETOdorFreeab,3,\"false\"),\"\")","v":""},"","","","","","","","",1320]
[42,3380,{"$error":"#VALUE!"},{"$error":"#VALUE!"},1875,2500,1320,2640,563.33333333333337,583.23919515058913,"","",2656.6800000000003,"","","","","","","","","",1352]
[43,3460,{"$error":"#VALUE!"},{"$error":"#VALUE!"},1875,2500,1320,2640,576.66666666666663,587.52257934970692,"","",2719.56,"","","","","","","","","",1384]
[44,3540,{"$error":"#VALUE!"},{"$error":"#VALUE!"},1875,2500,1320,2640,590,591.73843460280784,"","",2782.44,"","","","","","","","","",1416]
[45,3620,{"$error":"#VALUE!"},{"$error":"#VALUE!"},1875,2500,1320,2640,603.33333333333337,595.88931625447401,"","",2845.32,"","","","","","","","","",1448]
[46,3700,{"$error":"#VALUE!"},{"$error":"#VALUE!"},1875,2500,1320,2640,616.66666666666663,599.97762901200565,"","",2908.2000000000003,"","","","","","","","","",1480]
[47,3780,{"$error":"#VALUE!"},{"$error":"#VALUE!"},1875,2500,1320,2640,630,604.00563886908822,"","",2971.08,"","","","","","","","","",1512]
[48,3860,{"$error":"#VALUE!"},{"$error":"#VALUE!"},1875,2500,1320,2640,643.33333333333337,607.97548385483026,"","",3033.96,"","","","","","","","","",1544]
[49,3940,{"$error":"#VALUE!"},{"$error":"#VALUE!"},1875,2500,1320,2640,656.66666666666663,611.88918374569278,"","",3096.84,"","","","","","","","","",1576]
[50,4020,{"$error":"#VALUE!"},{"$error":"#VALUE!"},1875,2500,1320,2640,670,615.74864885927786,"","",3159.7200000000003,"","","","","","","","","",1608]
[51,{"$f":"(A90-$A$40)*B$38+$B$37","v":4100},{"$error":"#VALUE!"},{"$error":"#VALUE!"},{"$f":"IF($F$2=1,VLOOKUP(B90*$E$10,IDNRtable,2),\"\")","v":1875},{"$f":"IF($F$3=1,VLOOKUP(B90*$E$10,IDNRtable,3),\"\")","v":2500},1320,2640,{"$f":"B90/VLOOKUP(I$7,MDS2AUtable,2,\"false\")","v":683.33333333333337},{"$f":"80.428*I90^0.3128","v":619.55568803321796},{"$f":"IF($K$2=1,3.28*I$23*I$24*I$26*J90,\"\")","v":""},{"$f":"IF($K$3=1,2*3.28*I$23*I$24*I$26*J90,\"\")","v":""},{"$f":"$M$27*B90","v":3222.6},{"$f":"IF(N$3=1,3.28*VLOOKUP(N$39,OFFSETOdorFreeab,2,\"false\")*($M$29*$B90*$M$27)^VLOOKUP(N$39,OFFSETOdorFreeab,3,\"false\"),\"\")","v":""},"","","","","","","","",1640]
[52,4180,{"$error":"#VALUE!"},{"$error":"#VALUE!"},1875,2500,1320,2640,696.66666666666663,623.31201587901626,"","",3285.48,"","","","","","","","","",1672]
[53,4260,{"$error":"#VALUE!"},{"$error":"#VALUE!"},1875,2500,1320,2640,710,627.01925938926502,"","",3348.36,"","","","","","","","","",1704]
[54,4340,{"$error":"#VALUE!"},{"$error":"#VALUE!"},1875,2500,1320,2640,723.33333333333337,630.67896396687672,"","",3411.2400000000002,"","","","","","","","","",1736]
[55,4420,{"$error":"#VALUE!"},{"$error":"#VALUE!"},1875,2500,1320,2640,736.66666666666663,634.2925989365566,"","",3474.1200000000003,"","","","","","","","","",1768]
[56,4500,{"$error":"#VALUE!"},{"$error":"#VALUE!"},1875,2500,1320,2640,750,637.86156259149323,"","",3537,"","","","","","","","","",1800]
[57,4580,{"$error":"#VALUE!"},{"$error":"#VALUE!"},1875,2500,1320,2640,763.33333333333337,641.38718682198817,"","",3599.88,"","","","","","","","","",1832]
[58,4660,{"$error":"#VALUE!"},{"$error":"#VALUE!"},1875,2500,1320,2640,776.66666666666663,644.87074136731439,"","",3662.76,"","","","","","","","","",1864]
[59,4740,{"$error":"#VALUE!"},{"$error":"#VALUE!"},1875,2500,1320,2640,790,648.31343772738296,"","",3725.6400000000003,"","","","","","","","","",1896]
[60,4820,{"$error":"#VALUE!"},{"$error":"#VALUE!"},1875,2500,1320,2640,803.33333333333337,651.71643276669079,"","",3788.52,"","","","","","","","","",1928]
[61,4900,{"$error":"#VALUE!"},{"$error":"#VALUE!"},1875,2500,1320,2640,816.66666666666663,655.08083203943602,"","",3851.4,{"$f":"IF(N$3=1,3.28*VLOOKUP(N$39,OFFSETOdorFreeab,2,\"false\")*($M$29*$B100*$M$27)^VLOOKUP(N$39,OFFSETOdorFreeab,3,\"false\"),\"\")","v":""},"","","","","","","","",1960]
[62,4980,{"$error":"#VALUE!"},{"$error":"#VALUE!"},1875,2500,1320,2640,830,658.4076928615533,"","",3914.28,"","","","","","","","","",1992]
[63,5060,{"$error":"#VALUE!"},{"$error":"#VALUE!"},1875,2500,1540,3080,843.33333333333337,661.69802715266758,"","",3977.1600000000003,"","","","","","","","","",2024]
[64,5140,{"$error":"#VALUE!"},{"$error":"#VALUE!"},1875,2500,1540,3080,856.66666666666663,664.95280406854795,"","",4040.04,"","","","","","","","","",2056]
[65,5220,{"$f":"IF($C$37=1,20*$C$12*$C$13*$C$16*$C$18*(B104*$C$9*$C$23*($C$20-$C$21))^PowerExpo,\"\")","v":{"$error":"#VALUE!"}},{"$f":"IF(D$37=1,20*$C$11*$C$14*$C$15*$C$17*(B104*$C$9*$C$23*($C$20-$C$21))^PowerExpo,\"\")","v":{"$error":"#VALUE!"}},1875,2500,1540,3080,870,668.17295244250579,"","",4102.92,"","","","","","",{"$f":"IF($U$2=1,VLOOKUP($B104*$T$10,Randolphtable,2),\"\")","v":""},{"$f":"IF($U$3=1,VLOOKUP($B104*$T$10,Randolphtable,3),\"\")","v":""},{"$f":"IF($U$4=1,1.5*VLOOKUP($B104*$T$10,Randolphtable,2),\"\")","v":""},2088]
[66,5300,{"$error":"#VALUE!"},{"$error":"#VALUE!"},1875,2500,1540,3080,883.33333333333337,671.35936305231337,"","",4165.8,"","","","","","","","","",{"$f":"$B105*$G$10","v":2120}]
[67,5380,{"$error":"#VALUE!"},{"$error":"#VALUE!"},1875,2500,1540,3080,896.66666666666663,674.512890727539,"","",4228.68,"","","","","","","","","",2152]
[68,5460,{"$error":"#VALUE!"},{"$error":"#VALUE!"},1875,2500,1540,3080,910,677.63435631073116,"","",4291.5600000000004,"","","","","","","","","",2184]
[69,5540,{"$error":"#VALUE!"},{"$error":"#VALUE!"},1875,2500,1540,3080,923.33333333333337,680.72454848457153,"","",4354.4400000000005,"","","","","","","","","",2216]
[70,5620,{"$error":"#VALUE!"},{"$error":"#VALUE!"},1875,2500,1540,3080,936.66666666666663,683.78422547595039,"","",4417.3200000000006,"","","","","","","","","",2248]
[71,5700,{"$error":"#VALUE!"},{"$error":"#VALUE!"},1875,2500,1540,3080,950,686.81411664688278,"","",4480.2,{"$f":"IF(N$3=1,3.28*VLOOKUP(N$39,OFFSETOdorFreeab,2,\"false\")*($M$29*$B110*$M$27)^VLOOKUP(N$39,OFFSETOdorFreeab,3,\"false\"),\"\")","v":""},"","","","","","","","",2280]
[72,5780,{"$error":"#VALUE!"},{"$error":"#VALUE!"},1875,2500,1540,3080,963.33333333333337,689.81492398125386,"","",4543.08,"","","","","","","","","",2312]
[73,5860,{"$error":"#VALUE!"},{"$error":"#VALUE!"},1875,2500,1540,3080,976.66666666666663,692.78732347555899,"","",4605.96,"","","","","","","","","",2344]
[74,5940,{"$error":"#VALUE!"},{"$error":"#VALUE!"},1875,2500,1540,3080,990,695.7319664410528,"","",4668.84,"","","","","","","","","",2376]
[75,6020,{"$error":"#VALUE!"},{"$error":"#VALUE!"},1875,2500,1540,3080,1003.3333333333334,698.64948072407105,"","",4731.72,"","","","","","","","","",2408]
[76,6100,{"$error":"#VALUE!"},{"$error":"#VALUE!"},1875,2500,1540,3080,1016.6666666666666,701.54047185067316,"","",4794.6000000000004,"","","","","","","","","",2440]
[77,6180,{"$error":"#VALUE!"},{"$error":"#VALUE!"},1875,2500,1540,3080,1030,704.4055241012345,"","",4857.4800000000005,"","","","","","","","","",2472]
[78,6260,{"$error":"#VALUE!"},{"$error":"#VALUE!"},1875,2500,1540,3080,1043.3333333333333,707.24520152011394,"","",4920.3600000000006,"","","","","","","","","",2504]
[79,6340,{"$error":"#VALUE!"},{"$error":"#VALUE!"},1875,2500,1540,3080,1056.6666666666667,710.06004886510357,"","",4983.24,"","","","","","","","","",2536]
[80,6420,{"$error":"#VALUE!"},{"$error":"#VALUE!"},1875,2500,1540,3080,1070,712.8505925009589,"","",5046.12,"","","","","","","","","",2568]
[81,6500,{"$error":"#VALUE!"},{"$error":"#VALUE!"},1875,2500,1540,3080,1083.3333333333333,715.61734124095892,"","",5109,{"$f":"IF(N$3=1,3.28*VLOOKUP(N$39,OFFSETOdorFreeab,2,\"false\")*($M$29*$B120*$M$27)^VLOOKUP(N$39,OFFSETOdorFreeab,3,\"false\"),\"\")","v":""},"","","","","","","","",2600]
[82,6580,{"$error":"#VALUE!"},{"$error":"#VALUE!"},1875,2500,1540,3080,1096.6666666666667,718.36078714011592,"","",5171.88,"","","","","","","","","",2632]
[83,6660,{"$error":"#VALUE!"},{"$error":"#VALUE!"},1875,2500,1540,3080,1110,721.08140624336659,"","",5234.76,"","","","","","","","","",2664]
[84,6740,{"$error":"#VALUE!"},{"$error":"#VALUE!"},1875,2500,1540,3080,1123.3333333333333,723.77965929180948,"","",5297.64,"","","","","","","","","",2696]
[85,6820,{"$error":"#VALUE!"},{"$error":"#VALUE!"},1875,2500,1540,3080,1136.6666666666667,726.4559923898039,"","",5360.52,"","","","","","","","","",2728]
[86,6900,{"$error":"#VALUE!"},{"$error":"#VALUE!"},1875,2500,1540,3080,1150,729.11083763553643,"","",5423.4000000000005,"","","","","","","","","",2760]
[87,6980,{"$error":"#VALUE!"},{"$error":"#VALUE!"},1875,2500,1540,3080,1163.3333333333333,731.74461371745394,"","",5486.2800000000007,"","","","","","","","","",2792]
[88,7060,{"$error":"#VALUE!"},{"$error":"#VALUE!"},1875,2500,1540,3080,1176.6666666666667,734.35772647877627,"","",5549.16,"","","","","","","","","",2824]
[89,7140,{"$error":"#VALUE!"},{"$error":"#VALUE!"},1875,2500,1540,3080,1190,736.95056945213958,"","",5612.04,"","","","","","","","","",2856]
[90,7220,{"$error":"#VALUE!"},{"$error":"#VALUE!"},1875,2500,1540,3080,1203.3333333333333,739.52352436627086,"","",5674.92,"","","","","","","","","",2888]
[91,7300,{"$error":"#VALUE!"},{"$error":"#VALUE!"},1875,2500,1540,3080,1216.6666666666667,742.07696162644004,"","",5737.8,{"$f":"IF(N$3=1,3.28*VLOOKUP(N$39,OFFSETOdorFreeab,2,\"false\")*($M$29*$B130*$M$27)^VLOOKUP(N$39,OFFSETOdorFreeab,3,\"false\"),\"\")","v":""},"","","","","","","","",2920]
[92,7380,{"$error":"#VALUE!"},{"$error":"#VALUE!"},1875,2500,1540,3080,1230,744.61124077032844,"","",5800.68,"","","","","","","","","",2952]
[93,7460,{"$error":"#VALUE!"},{"$error":"#VALUE!"},1875,2500,1540,3080,1243.3333333333333,747.12671090081665,"","",5863.56,"","","","","","","","","",2984]
[94,7540,{"$error":"#VALUE!"},{"$error":"#VALUE!"},2375,3000,1760,3520,1256.6666666666667,749.62371109709591,"","",5926.4400000000005,"","","","","","","","","",3016]
[95,7620,{"$error":"#VALUE!"},{"$error":"#VALUE!"},2375,3000,1760,3520,1270,752.10257080540907,"","",5989.3200000000006,"","","","","","","","","",3048]
[96,7700,{"$error":"#VALUE!"},{"$error":"#VALUE!"},2375,3000,1760,3520,1283.3333333333333,754.56361021063105,"","",6052.2,"","","","","","","","","",3080]
[97,7780,{"$error":"#VALUE!"},{"$error":"#VALUE!"},2375,3000,{"$f":"IF($H$2=1,VLOOKUP($B136*$G$10,IDAtable,2),\"\")","v":1760},{"$f":"IF($H$3=1,VLOOKUP($B136*$G$10,IDAtable,3),\"\")","v":3520},1296.6666666666667,757.0071405898143,"","",6115.08,"","","","","","","","","",3112]
[98,7860,{"$error":"#VALUE!"},{"$error":"#VALUE!"},2375,3000,1760,3520,1310,759.43346464875742,"","",6177.96,"","","","","","","","","",3144]
[99,7940,{"$error":"#VALUE!"},{"$error":"#VALUE!"},2375,3000,1760,3520,1323.3333333333333,761.84287684256822,"","",6240.84,"","","","","","","","","",3176]
[100,8020,{"$error":"#VALUE!"},{"$error":"#VALUE!"},2375,3000,1760,3520,1336.6666666666667,764.23566368114143,"","",6303.72,"","","","","","","","","",3208]
[101,8100,{"$error":"#VALUE!"},{"$error":"#VALUE!"},2375,3000,1760,3520,1350,766.61210402040103,"","",6366.6,{"$f":"IF(N$3=1,3.28*VLOOKUP(N$39,OFFSETOdorFreeab,2,\"false\")*($M$29*$B140*$M$27)^VLOOKUP(N$39,OFFSETOdorFreeab,3,\"false\"),\"\")","v":""},"","","","","","","","",3240]
[102,8180,{"$error":"#VALUE!"},{"$error":"#VALUE!"},2375,3000,1760,3520,1363.3333333333333,768.97246934010332,"","",6429.4800000000005,"","","","","","","","","",3272]
[103,8260,{"$error":"#VALUE!"},{"$error":"#VALUE!"},2375,3000,1760,3520,1376.6666666666667,771.31702400895063,"","",6492.3600000000006,"","","","","","","","","",3304]
[104,8340,{"$error":"#VALUE!"},{"$error":"#VALUE!"},2375,3000,1760,3520,1390,773.64602553770601,"","",6555.2400000000007,"","","","","","","","","",3336]
[105,8420,{"$error":"#VALUE!"},{"$error":"#VALUE!"},2375,3000,1760,3520,1403.3333333333333,775.95972482096374,"","",6618.12,"","","","","","","","","",3368]
[106,8500,{"$error":"#VALUE!"},{"$error":"#VALUE!"},2375,3000,1760,3520,1416.6666666666667,778.25836636819179,"","",6681,"","","","","","","","","",3400]
[107,8580,{"$error":"#VALUE!"},{"$error":"#VALUE!"},2375,3000,1760,3520,1430,780.5421885246077,"","",6743.88,"","","","","","","","","",3432]
[108,8660,{"$error":"#VALUE!"},{"$error":"#VALUE!"},2375,3000,1760,3520,1443.3333333333333,782.81142368243741,"","",6806.76,"","","","","","","","","",3464]
[109,8740,{"$error":"#VALUE!"},{"$error":"#VALUE!"},2375,3000,1760,3520,1456.6666666666667,785.06629848305295,"","",6869.64,"","","","","","","","","",3496]
[110,8820,{"$error":"#VALUE!"},{"$error":"#VALUE!"},2375,3000,1760,3520,1470,787.30703401046151,"","",6932.52,"","","","","","","","","",3528]
[111,8900,{"$error":"#VALUE!"},{"$error":"#VALUE!"},2375,3000,1760,3520,1483.3333333333333,789.53384597659965,"","",6995.4000000000005,{"$f":"IF(N$3=1,3.28*VLOOKUP(N$39,OFFSETOdorFreeab,2,\"false\")*($M$29*$B150*$M$27)^VLOOKUP(N$39,OFFSETOdorFreeab,3,\"false\"),\"\")","v":""},"","","","","","","","",3560]
[112,8980,{"$error":"#VALUE!"},{"$error":"#VALUE!"},2375,3000,1760,3520,1496.6666666666667,791.74694489884018,"","",7058.2800000000007,"","","","","","","","","",3592]
[113,9060,{"$error":"#VALUE!"},{"$error":"#VALUE!"},2375,3000,1760,3520,1510,793.94653627010803,"","",7121.16,"","","","","","","","","",3624]
[114,9140,{"$error":"#VALUE!"},{"$error":"#VALUE!"},2375,3000,1760,3520,1523.3333333333333,796.13282072198069,"","",7184.04,"","","","","","","","","",3656]
[115,{"$f":"(A154-$A$40)*B$38+$B$37","v":9220},{"$error":"#VALUE!"},{"$error":"#VALUE!"},{"$f":"IF($F$2=1,VLOOKUP(B154*$E$10,IDNRtable,2),\"\")","v":2375},{"$f":"IF($F$3=1,VLOOKUP(B154*$E$10,IDNRtable,3),\"\")","v":3000},1760,3520,{"$f":"B154/VLOOKUP(I$7,MDS2AUtable,2,\"false\")","v":1536.6666666666667},{"$f":"80.428*I154^0.3128","v":798.30599418111365},{"$f":"IF($K$2=1,3.28*I$23*I$24*I$26*J154,\"\")","v":""},{"$f":"IF($K$3=1,2*3.28*I$23*I$24*I$26*J154,\"\")","v":""},{"$f":"$M$27*B154","v":7246.92},"","","","","","","","","",3688]
[116,9300,{"$error":"#VALUE!"},{"$error":"#VALUE!"},2375,3000,1760,3520,1550,800.4662480193241,"","",7309.8,"","","","","","","","","",3720]
[117,9380,{"$error":"#VALUE!"},{"$error":"#VALUE!"},2375,3000,1760,3520,1563.3333333333333,802.6137691976395,"","",7372.68,"","","","","","","","","",3752]
[118,9460,{"$error":"#VALUE!"},{"$error":"#VALUE!"},2375,3000,1760,3520,1576.6666666666667,804.748740404606,"","",7435.56,"","","","","","","","","",3784]
[119,9540,{"$error":"#VALUE!"},{"$error":"#VALUE!"},2375,3000,1760,3520,1590,806.871340189129,"","",7498.4400000000005,"","","","","","","","","",3816]
[120,9620,{"$error":"#VALUE!"},{"$error":"#VALUE!"},2375,3000,1760,3520,1603.3333333333333,808.98174308810667,"","",7561.3200000000006,"","","","","","","","","",3848]
[121,9700,{"$error":"#VALUE!"},{"$error":"#VALUE!"},2375,3000,1760,3520,1616.6666666666667,811.08011974910539,"","",7624.2000000000007,{"$f":"IF(N$3=1,3.28*VLOOKUP(N$39,OFFSETOdorFreeab,2,\"false\")*($M$29*$B160*$M$27)^VLOOKUP(N$39,OFFSETOdorFreeab,3,\"false\"),\"\")","v":""},"","","","","","","","",3880]
[122,9780,{"$error":"#VALUE!"},{"$error":"#VALUE!"},2375,3000,1760,3520,1630,813.16663704830034,"","",7687.08,"","","","","","","","","",3912]
[123,9860,{"$error":"#VALUE!"},{"$error":"#VALUE!"},2375,3000,1760,3520,1643.3333333333333,815.24145820391368,"","",7749.96,"","","","","","","","","",3944]
[124,9940,{"$error":"#VALUE!"},{"$error":"#VALUE!"},2375,3000,1760,3520,1656.6666666666667,817.30474288534435,"","",7812.84,"","","","","","","","","",3976]
[125,10020,{"$error":"#VALUE!"},{"$error":"#VALUE!"},2375,3000,1980,3960,1670,819.35664731819634,"","",7875.72,"","","","","","","","","",4008]
[126,10100,{"$error":"#VALUE!"},{"$error":"#VALUE!"},2375,3000,1980,3960,1683.3333333333333,821.39732438538488,"","",7938.6,"","","","","","","","","",4040]
[127,10180,{"$error":"#VALUE!"},{"$error":"#VALUE!"},2375,3000,1980,3960,1696.6666666666667,823.42692372449915,"","",8001.4800000000005,"","","","","","","","","",4072]
[128,10260,{"$error":"#VALUE!"},{"$error":"#VALUE!"},2375,3000,1980,3960,1710,825.4455918215906,"","",8064.3600000000006,"","","","","","","","","",4104]
[129,10340,{"$f":"IF($C$37=1,20*$C$12*$C$13*$C$16*$C$18*(B168*$C$9*$C$23*($C$20-$C$21))^PowerExpo,\"\")","v":{"$error":"#VALUE!"}},{"$f":"IF(D$37=1,20*$C$11*$C$14*$C$15*$C$17*(B168*$C$9*$C$23*($C$20-$C$21))^PowerExpo,\"\")","v":{"$error":"#VALUE!"}},2375,3000,1980,3960,1723.3333333333333,827.45347210153898,"","",8127.2400000000007,"","","","","","",{"$f":"IF($U$2=1,VLOOKUP($B168*$T$10,Randolphtable,2),\"\")","v":""},{"$f":"IF($U$3=1,VLOOKUP($B168*$T$10,Randolphtable,3),\"\")","v":""},{"$f":"IF($U$4=1,1.5*VLOOKUP($B168*$T$10,Randolphtable,2),\"\")","v":""},4136]
[130,10420,{"$error":"#VALUE!"},{"$error":"#VALUE!"},2375,3000,1980,3960,1736.6666666666667,829.45070501515113,"","",8190.12,"","","","","","","","","",{"$f":"$B169*$G$10","v":4168}]
[131,10500,{"$error":"#VALUE!"},{"$error":"#VALUE!"},2375,3000,1980,3960,1750,831.43742812313678,"","",8253,{"$f":"IF(N$3=1,3.28*VLOOKUP(N$39,OFFSETOdorFreeab,2,\"false\")*($M$29*$B170*$M$27)^VLOOKUP(N$39,OFFSETOdorFreeab,3,\"false\"),\"\")","v":""},"","","","","","","","",4200]
[132,10580,{"$error":"#VALUE!"},{"$error":"#VALUE!"},2375,3000,1980,3960,1763.3333333333333,833.41377617708702,"","",8315.880000000001,"","","","","","","","","",4232]
[133,10660,{"$error":"#VALUE!"},{"$error":"#VALUE!"},2375,3000,1980,3960,1776.6666666666667,835.37988119759495,"","",8378.76,"","","","","","","","","",4264]
[134,10740,{"$error":"#VALUE!"},{"$error":"#VALUE!"},2375,3000,1980,3960,1790,837.33587254963481,"","",8441.6400000000012,"","","","","","","","","",4296]
[135,10820,{"$error":"#VALUE!"},{"$error":"#VALUE!"},2375,3000,1980,3960,1803.3333333333333,839.28187701531294,"","",8504.52,"","","","","","","","","",4328]
[136,10900,{"$error":"#VALUE!"},{"$error":"#VALUE!"},2375,3000,1980,3960,1816.6666666666667,841.2180188641056,"","",8567.4,"","","","","","","","","",4360]
[137,10980,{"$error":"#VALUE!"},{"$error":"#VALUE!"},2375,3000,1980,3960,1830,843.14441992068964,"","",8630.2800000000007,"","","","","","","","","",4392]
[138,11060,{"$error":"#VALUE!"},{"$error":"#VALUE!"},2375,3000,1980,3960,1843.3333333333333,845.06119963045626,"","",8693.16,"","","","","","","","","",4424]
[139,11140,{"$error":"#VALUE!"},{"$error":"#VALUE!"},2375,3000,1980,3960,1856.6666666666667,846.96847512281317,"","",8756.0400000000009,"","","","","","","","","",4456]
[140,11220,{"$error":"#VALUE!"},{"$error":"#VALUE!"},2375,3000,1980,3960,1870,848.86636127236136,"","",8818.92,"","","","","","","","","",4488]
[141,11300,{"$error":"#VALUE!"},{"$error":"#VALUE!"},2375,3000,1980,3960,1883.3333333333333,850.75497075802843,"","",8881.8000000000011,{"$f":"IF(N$3=1,3.28*VLOOKUP(N$39,OFFSETOdorFreeab,2,\"false\")*($M$29*$B180*$M$27)^VLOOKUP(N$39,OFFSETOdorFreeab,3,\"false\"),\"\")","v":""},"","","","","","","","",4520]
[142,11380,{"$error":"#VALUE!"},{"$error":"#VALUE!"},2375,3000,1980,3960,1896.6666666666667,852.63441412025099,"","",8944.68,"","","","","","","","","",4552]
[143,11460,{"$error":"#VALUE!"},{"$error":"#VALUE!"},2375,3000,1980,3960,1910,854.50479981626916,"","",9007.56,"","","","","","","","","",4584]
[144,11540,{"$error":"#VALUE!"},{"$error":"#VALUE!"},2375,3000,1980,3960,1923.3333333333333,856.36623427362304,"","",9070.44,"","","","","","","","","",4616]
[145,11620,{"$error":"#VALUE!"},{"$error":"#VALUE!"},2375,3000,1980,3960,1936.6666666666667,858.2188219419113,"","",9133.32,"","","","","","","","","",4648]
[146,11700,{"$error":"#VALUE!"},{"$error":"#VALUE!"},2375,3000,1980,3960,1950,860.06266534288443,"","",9196.2000000000007,"","","","","","","","","",4680]
[147,11780,{"$error":"#VALUE!"},{"$error":"#VALUE!"},2375,3000,1980,3960,1963.3333333333333,861.89786511893601,"","",9259.08,"","","","","","","","","",4712]
[148,11860,{"$error":"#VALUE!"},{"$error":"#VALUE!"},2375,3000,1980,3960,1976.6666666666667,863.72452008005519,"","",9321.9600000000009,"","","","","","","","","",4744]
[149,11940,{"$error":"#VALUE!"},{"$error":"#VALUE!"},2375,3000,1980,3960,1990,865.54272724929478,"","",9384.84,"","","","","","","","","",4776]
[150,12020,{"$error":"#VALUE!"},{"$error":"#VALUE!"},2375,3000,1980,3960,2003.3333333333333,867.35258190681907,"","",9447.7200000000012,"","","","","","","","","",4808]
[151,12100,{"$error":"#VALUE!"},{"$error":"#VALUE!"},2375,3000,1980,3960,2016.6666666666667,869.15417763257824,"","",9510.6,{"$f":"IF(N$3=1,3.28*VLOOKUP(N$39,OFFSETOdorFreeab,2,\"false\")*($M$29*$B190*$M$27)^VLOOKUP(N$39,OFFSETOdorFreeab,3,\"false\"),\"\")","v":""},"","","","","","","","",4840]
[152,12180,{"$error":"#VALUE!"},{"$error":"#VALUE!"},2375,3000,1980,3960,2030,870.94760634766101,"","",9573.48,"","","","","","","","","",4872]
[153,12260,{"$error":"#VALUE!"},{"$error":"#VALUE!"},2375,3000,1980,3960,2043.3333333333333,872.73295835438387,"","",9636.36,"","","","","","","","","",4904]
[154,12340,{"$error":"#VALUE!"},{"$error":"#VALUE!"},2375,3000,1980,3960,2056.6666666666665,874.51032237514778,"","",9699.24,"","","","","","","","","",4936]
[155,12420,{"$error":"#VALUE!"},{"$error":"#VALUE!"},2375,3000,1980,3960,2070,876.27978559012445,"","",9762.1200000000008,"","","","","","","","","",4968]
[156,12500,{"$error":"#VALUE!"},{"$error":"#VALUE!"},2375,3000,2200,4400,2083.3333333333335,878.04143367380436,"","",9825,"","","","","","","","","",5000]
[157,12580,{"$error":"#VALUE!"},{"$error":"#VALUE!"},2375,3000,2200,4400,2096.6666666666665,879.79535083044857,"","",9887.880000000001,"","","","","","","","","",5032]
[158,12660,{"$error":"#VALUE!"},{"$error":"#VALUE!"},2375,3000,2200,4400,2110,881.54161982849041,"","",9950.76,"","","","","","","","","",5064]
[159,12740,{"$error":"#VALUE!"},{"$error":"#VALUE!"},2375,3000,2200,4400,2123.3333333333335,883.28032203391695,"","",10013.640000000001,"","","","","","","","","",5096]
[160,12820,{"$error":"#VALUE!"},{"$error":"#VALUE!"},2375,3000,2200,4400,2136.6666666666665,885.01153744267162,"","",10076.52,"","","","","","","","","",5128]
[161,12900,{"$error":"#VALUE!"},{"$error":"#VALUE!"},2375,3000,{"$f":"IF($H$2=1,VLOOKUP($B200*$G$10,IDAtable,2),\"\")","v":2200},{"$f":"IF($H$3=1,VLOOKUP($B200*$G$10,IDAtable,3),\"\")","v":4400},2150,886.73534471211212,"","",10139.4,{"$f":"IF(N$3=1,3.28*VLOOKUP(N$39,OFFSETOdorFreeab,2,\"false\")*($M$29*$B200*$M$27)^VLOOKUP(N$39,OFFSETOdorFreeab,3,\"false\"),\"\")","v":""},"","","","","","","","",5160]
[162,12980,{"$error":"#VALUE!"},{"$error":"#VALUE!"},2375,3000,2200,4400,2163.3333333333335,888.45182119155129,"","",10202.280000000001,"","","","","","","","","",5192]
[163,13060,{"$error":"#VALUE!"},{"$error":"#VALUE!"},2375,3000,2200,4400,2176.6666666666665,890.16104295192508,"","",10265.16,"","","","","","","","","",5224]
[164,13140,{"$error":"#VALUE!"},{"$error":"#VALUE!"},2375,3000,2200,4400,2190,891.8630848146023,"","",10328.040000000001,"","","","","","","","","",5256]
[165,13220,{"$error":"#VALUE!"},{"$error":"#VALUE!"},2375,3000,2200,4400,2203.3333333333335,893.55802037937929,"","",10390.92,"","","","","","","","","",5288]
[166,13300,{"$error":"#VALUE!"},{"$error":"#VALUE!"},2375,3000,2200,4400,2216.6666666666665,895.24592205168233,"","",10453.800000000001,"","","","","","","","","",5320]
[167,13380,{"$error":"#VALUE!"},{"$error":"#VALUE!"},2375,3000,2200,4400,2230,896.92686106899976,"","",10516.68,"","","","","","","","","",5352]
[168,13460,{"$error":"#VALUE!"},{"$error":"#VALUE!"},2375,3000,2200,4400,2243.3333333333335,898.60090752657993,"","",10579.560000000001,"","","","","","","","","",5384]
[169,13540,{"$error":"#VALUE!"},{"$error":"#VALUE!"},2375,3000,2200,4400,2256.6666666666665,900.26813040241393,"","",10642.44,"","","","","","","","","",5416]
[170,13620,{"$error":"#VALUE!"},{"$error":"#VALUE!"},2375,3000,2200,4400,2270,901.92859758152338,"","",10705.32,"","","","","","","","","",5448]
[171,13700,{"$error":"#VALUE!"},{"$error":"#VALUE!"},2375,3000,2200,4400,2283.3333333333335,903.58237587958831,"","",10768.2,{"$f":"IF(N$3=1,3.28*VLOOKUP(N$39,OFFSETOdorFreeab,2,\"false\")*($M$29*$B210*$M$27)^VLOOKUP(N$39,OFFSETOdorFreeab,3,\"false\"),\"\")","v":""},"","","","","","","","",5480]
[172,13780,{"$error":"#VALUE!"},{"$error":"#VALUE!"},2375,3000,2200,4400,2296.6666666666665,905.22953106592206,"","",10831.08,"","","","","","","","","",5512]
[173,13860,{"$error":"#VALUE!"},{"$error":"#VALUE!"},2375,3000,2200,4400,2310,906.87012788582786,"","",10893.960000000001,"","","","","","","","","",5544]
[174,13940,{"$error":"#VALUE!"},{"$error":"#VALUE!"},2375,3000,2200,4400,2323.3333333333335,908.50423008234827,"","",10956.84,"","","","","","","","","",5576]
[175,14020,{"$error":"#VALUE!"},{"$error":"#VALUE!"},2375,3000,2200,4400,2336.6666666666665,910.13190041743417,"","",11019.720000000001,"","","","","","","","","",5608]
[176,14100,{"$error":"#VALUE!"},{"$error":"#VALUE!"},2375,3000,2200,4400,2350,911.75320069254292,"","",11082.6,"","","","","","","","","",5640]
[177,14180,{"$error":"#VALUE!"},{"$error":"#VALUE!"},2375,3000,2200,4400,2363.3333333333335,913.36819176869744,"","",11145.48,"","","","","","","","","",5672]
[178,14260,{"$error":"#VALUE!"},{"$error":"#VALUE!"},2375,3000,2200,4400,2376.6666666666665,914.97693358600895,"","",11208.36,"","","","","","","","","",5704]
[179,{"$f":"(A218-$A$40)*B$38+$B$37","v":14340},{"$error":"#VALUE!"},{"$error":"#VALUE!"},{"$f":"IF($F$2=1,VLOOKUP(B218*$E$10,IDNRtable,2),\"\")","v":2375},{"$f":"IF($F$3=1,VLOOKUP(B218*$E$10,IDNRtable,3),\"\")","v":3000},2200,4400,{"$f":"B218/VLOOKUP(I$7,MDS2AUtable,2,\"false\")","v":2390},{"$f":"80.428*I218^0.3128","v":916.57948518269086},{"$f":"IF($K$2=1,3.28*I$23*I$24*I$26*J218,\"\")","v":""},{"$f":"IF($K$3=1,2*3.28*I$23*I$24*I$26*J218,\"\")","v":""},{"$f":"$M$27*B218","v":11271.24},"","","","","","","","","",5736]
[180,14420,{"$error":"#VALUE!"},{"$error":"#VALUE!"},2375,3000,2200,4400,2403.3333333333335,918.17590471357778,"","",11334.12,"","","","","","","","","",5768]
[181,14500,{"$error":"#VALUE!"},{"$error":"#VALUE!"},2375,3000,2200,4400,2416.6666666666665,919.76624946815775,"","",11397,{"$f":"IF(N$3=1,3.28*VLOOKUP(N$39,OFFSETOdorFreeab,2,\"false\")*($M$29*$B220*$M$27)^VLOOKUP(N$39,OFFSETOdorFreeab,3,\"false\"),\"\")","v":""},"","","","","","","","",5800]
[182,14580,{"$error":"#VALUE!"},{"$error":"#VALUE!"},2375,3000,2200,4400,2430,921.35057588814755,"","",11459.880000000001,"","","","","","","","","",5832]
[183,14660,{"$error":"#VALUE!"},{"$error":"#VALUE!"},2375,3000,2200,4400,2443.3333333333335,922.92893958460888,"","",11522.76,"","","","","","","","","",5864]
[184,14740,{"$error":"#VALUE!"},{"$error":"#VALUE!"},2375,3000,2200,4400,2456.6666666666665,924.50139535463359,"","",11585.640000000001,"","","","","","","","","",5896]
[185,14820,{"$error":"#VALUE!"},{"$error":"#VALUE!"},2375,3000,2200,4400,2470,926.06799719760102,"","",11648.52,"","","","","","","","","",5928]
[186,14900,{"$error":"#VALUE!"},{"$error":"#VALUE!"},2375,3000,2200,4400,2483.3333333333335,927.62879833102772,"","",11711.4,"","","","","","","","","",5960]
[187,14980,{"$error":"#VALUE!"},{"$error":"#VALUE!"},2375,3000,2200,4400,2496.6666666666665,929.18385120601693,"","",11774.28,"","","","","","","","","",5992]
[188,15060,{"$error":"#VALUE!"},{"$error":"#VALUE!"},2375,3000,2420,4840,2510,930.73320752232212,"","",11837.16,"","","","","","","","","",6024]
[189,15140,{"$error":"#VALUE!"},{"$error":"#VALUE!"},2375,3000,2420,4840,2523.3333333333335,932.27691824303929,"","",11900.04,"","","","","","","","","",6056]
[190,15220,{"$error":"#VALUE!"},{"$error":"#VALUE!"},2375,3000,2420,4840,2536.6666666666665,933.81503360893112,"","",11962.92,"","","","","","","","","",6088]
[191,15300,{"$error":"#VALUE!"},{"$error":"#VALUE!"},2375,3000,2420,4840,2550,935.34760315240271,"","",12025.800000000001,{"$f":"IF(N$3=1,3.28*VLOOKUP(N$39,OFFSETOdorFreeab,2,\"false\")*($M$29*$B230*$M$27)^VLOOKUP(N$39,OFFSETOdorFreeab,3,\"false\"),\"\")","v":""},"","","","","","","","",6120]
[192,15380,{"$error":"#VALUE!"},{"$error":"#VALUE!"},2375,3000,2420,4840,2563.3333333333335,936.87467571113405,"","",12088.68,"","","","","","","","","",6152]
[193,15460,{"$f":"IF($C$37=1,20*$C$12*$C$13*$C$16*$C$18*(B232*$C$9*$C$23*($C$20-$C$21))^PowerExpo,\"\")","v":{"$error":"#VALUE!"}},{"$f":"IF(D$37=1,20*$C$11*$C$14*$C$15*$C$17*(B232*$C$9*$C$23*($C$20-$C$21))^PowerExpo,\"\")","v":{"$error":"#VALUE!"}},2375,3000,2420,4840,2576.6666666666665,938.39629944137937,"","",12151.560000000001,"","","","","","",{"$f":"IF($U$2=1,VLOOKUP($B232*$T$10,Randolphtable,2),\"\")","v":""},{"$f":"IF($U$3=1,VLOOKUP($B232*$T$10,Randolphtable,3),\"\")","v":""},{"$f":"IF($U$4=1,1.5*VLOOKUP($B232*$T$10,Randolphtable,2),\"\")","v":""},6184]
[194,15540,{"$error":"#VALUE!"},{"$error":"#VALUE!"},2375,3000,2420,4840,2590,939.91252183094798,"","",12214.44,"","","","","","","","","",{"$f":"$B233*$G$10","v":6216}]
[195,15620,{"$error":"#VALUE!"},{"$error":"#VALUE!"},2375,3000,2420,4840,2603.3333333333335,941.42338971186825,"","",12277.32,"","","","","","","","","",6248]
[196,15700,{"$error":"#VALUE!"},{"$error":"#VALUE!"},2375,3000,2420,4840,2616.6666666666665,942.92894927275142,"","",12340.2,"","","","","","","","","",6280]
[197,15780,{"$error":"#VALUE!"},{"$error":"#VALUE!"},2375,3000,2420,4840,2630,944.42924607085865,"","",12403.08,"","","","","","","","","",6312]
[198,15860,{"$error":"#VALUE!"},{"$error":"#VALUE!"},2375,3000,2420,4840,2643.3333333333335,945.92432504388296,"","",12465.960000000001,"","","","","","","","","",6344]
[199,15940,{"$error":"#VALUE!"},{"$error":"#VALUE!"},2375,3000,2420,4840,2656.6666666666665,947.41423052145137,"","",12528.84,"","","","","","","","","",6376]
[200,16020,{"$error":"#VALUE!"},{"$error":"#VALUE!"},2375,3000,2420,4840,2670,948.89900623636106,"","",12591.720000000001,"","","","","","","","","",6408]
[201,16100,{"$error":"#VALUE!"},{"$error":"#VALUE!"},2375,3000,2420,4840,2683.3333333333335,950.37869533554669,"","",12654.6,{"$f":"IF(N$3=1,3.28*VLOOKUP(N$39,OFFSETOdorFreeab,2,\"false\")*($M$29*$B240*$M$27)^VLOOKUP(N$39,OFFSETOdorFreeab,3,\"false\"),\"\")","v":""},"","","","","","","","",6440]
[202,16180,{"$error":"#VALUE!"},{"$error":"#VALUE!"},2375,3000,2420,4840,2696.6666666666665,951.85334039079817,"","",12717.480000000001,"","","","","","","","","",6472]
[203,16260,{"$error":"#VALUE!"},{"$error":"#VALUE!"},2375,3000,2420,4840,2710,953.32298340922796,"","",12780.36,"","","","","","","","","",6504]
[204,16340,{"$error":"#VALUE!"},{"$error":"#VALUE!"},2375,3000,2420,4840,2723.3333333333335,954.7876658434983,"","",12843.24,"","","","","","","","","",6536]
[205,16420,{"$error":"#VALUE!"},{"$error":"#VALUE!"},2375,3000,2420,4840,2736.6666666666665,956.24742860181198,"","",12906.12,"","","","","","","","","",6568]
[206,16500,{"$error":"#VALUE!"},{"$error":"#VALUE!"},2375,3000,2420,4840,2750,957.70231205767925,"","",12969,"","","","","","","","","",6600]
[207,16580,{"$error":"#VALUE!"},{"$error":"#VALUE!"},2375,3000,2420,4840,2763.3333333333335,959.15235605945918,"","",13031.880000000001,"","","","","","","","","",6632]
[208,16660,{"$error":"#VALUE!"},{"$error":"#VALUE!"},2375,3000,2420,4840,2776.6666666666665,960.59759993968896,"","",13094.76,"","","","","","","","","",6664]
[209,16740,{"$error":"#VALUE!"},{"$error":"#VALUE!"},2375,3000,2420,4840,2790,962.03808252419981,"","",13157.640000000001,"","","","","","","","","",6696]
[210,16820,{"$error":"#VALUE!"},{"$error":"#VALUE!"},2375,3000,2420,4840,2803.3333333333335,963.47384214103351,"","",13220.52,"","","","","","","","","",6728]
[211,16900,{"$error":"#VALUE!"},{"$error":"#VALUE!"},2375,3000,2420,4840,2816.6666666666665,964.90491662915531,"","",13283.4,{"$f":"IF(N$3=1,3.28*VLOOKUP(N$39,OFFSETOdorFreeab,2,\"false\")*($M$29*$B250*$M$27)^VLOOKUP(N$39,OFFSETOdorFreeab,3,\"false\"),\"\")","v":""},"","","","","","","","",6760]
[212,16980,{"$error":"#VALUE!"},{"$error":"#VALUE!"},2375,3000,2420,4840,2830,966.33134334697922,"","",13346.28,"","","","","","","","","",6792]
[213,17060,{"$error":"#VALUE!"},{"$error":"#VALUE!"},2375,3000,2420,4840,2843.3333333333335,967.75315918070214,"","",13409.16,"","","","","","","","","",6824]
[214,17140,{"$error":"#VALUE!"},{"$error":"#VALUE!"},2375,3000,2420,4840,2856.6666666666665,969.17040055245445,"","",13472.04,"","","","","","","","","",6856]
[215,17220,{"$error":"#VALUE!"},{"$error":"#VALUE!"},2375,3000,2420,4840,2870,970.58310342827394,"","",13534.92,"","","","","","","","","",6888]
[216,17300,{"$error":"#VALUE!"},{"$error":"#VALUE!"},2375,3000,2420,4840,2883.3333333333335,971.99130332590892,"","",13597.800000000001,"","","","","","","","","",6920]
[217,17380,{"$error":"#VALUE!"},{"$error":"#VALUE!"},2375,3000,2420,4840,2896.6666666666665,973.39503532244544,"","",13660.68,"","","","","","","","","",6952]
[218,17460,{"$error":"#VALUE!"},{"$error":"#VALUE!"},2375,3000,2420,4840,2910,974.79433406177884,"","",13723.560000000001,"","","","","","","","","",6984]
[219,17540,{"$error":"#VALUE!"},{"$error":"#VALUE!"},2375,3000,2640,5280,2923.3333333333335,976.18923376191765,"","",13786.44,"","","","","","","","","",7016]
[220,17620,{"$error":"#VALUE!"},{"$error":"#VALUE!"},2375,3000,2640,5280,2936.6666666666665,977.57976822213641,"","",13849.32,"","","","","","","","","",7048]
[221,17700,{"$error":"#VALUE!"},{"$error":"#VALUE!"},2375,3000,2640,5280,2950,978.96597082997425,"","",13912.2,{"$f":"IF(N$3=1,3.28*VLOOKUP(N$39,OFFSETOdorFreeab,2,\"false\")*($M$29*$B260*$M$27)^VLOOKUP(N$39,OFFSETOdorFreeab,3,\"false\"),\"\")","v":""},"","","","","","","","",7080]
[222,17780,{"$error":"#VALUE!"},{"$error":"#VALUE!"},2375,3000,2640,5280,2963.3333333333335,980.34787456808624,"","",13975.08,"","","","","","","","","",7112]
[223,17860,{"$error":"#VALUE!"},{"$error":"#VALUE!"},2375,3000,2640,5280,2976.6666666666665,981.72551202094974,"","",14037.960000000001,"","","","","","","","","",7144]
[224,17940,{"$error":"#VALUE!"},{"$error":"#VALUE!"},2375,3000,2640,5280,2990,983.09891538143245,"","",14100.84,"","","","","","","","","",7176]
[225,18020,{"$error":"#VALUE!"},{"$error":"#VALUE!"},2375,3000,{"$f":"IF($H$2=1,VLOOKUP($B264*$G$10,IDAtable,2),\"\")","v":2640},{"$f":"IF($H$3=1,VLOOKUP($B264*$G$10,IDAtable,3),\"\")","v":5280},3003.3333333333335,984.46811645721743,"","",14163.720000000001,"","","","","","","","","",7208]
[226,18100,{"$error":"#VALUE!"},{"$error":"#VALUE!"},2375,3000,2640,5280,3016.6666666666665,985.83314667710556,"","",14226.6,"","","","","","","","","",7240]
[227,18180,{"$error":"#VALUE!"},{"$error":"#VALUE!"},2375,3000,2640,5280,3030,987.19403709717346,"","",14289.480000000001,"","","","","","","","","",7272]
[228,18260,{"$error":"#VALUE!"},{"$error":"#VALUE!"},2375,3000,2640,5280,3043.3333333333335,988.55081840681714,"","",14352.36,"","","","","","","","","",7304]
[229,18340,{"$error":"#VALUE!"},{"$error":"#VALUE!"},2375,3000,2640,5280,3056.6666666666665,989.90352093466458,"","",14415.24,"","","","","","","","","",7336]
[230,18420,{"$error":"#VALUE!"},{"$error":"#VALUE!"},2375,3000,2640,5280,3070,991.25217465437026,"","",14478.12,"","","","","","","","","",7368]
[231,{"$f":"(A270-$A$40)*B$38+$B$37","v":18500},{"$error":"#VALUE!"},{"$error":"#VALUE!"},{"$f":"IF($F$2=1,VLOOKUP(B270*$E$10,IDNRtable,2),\"\")","v":2375},{"$f":"IF($F$3=1,VLOOKUP(B270*$E$10,IDNRtable,3),\"\")","v":3000},2640,5280,{"$f":"B270/VLOOKUP(I$7,MDS2AUtable,2,\"false\")","v":3083.3333333333335},{"$f":"80.428*I270^0.3128","v":992.59680919028972},{"$f":"IF($K$2=1,3.28*I$23*I$24*I$26*J270,\"\")","v":""},{"$f":"IF($K$3=1,2*3.28*I$23*I$24*I$26*J270,\"\")","v":""},{"$f":"$M$27*B270","v":14541},{"$f":"IF(N$3=1,3.28*VLOOKUP(N$39,OFFSETOdorFreeab,2,\"false\")*($M$29*$B270*$M$27)^VLOOKUP(N$39,OFFSETOdorFreeab,3,\"false\"),\"\")","v":""},"","","","","","","","",7400]
[232,18580,{"$error":"#VALUE!"},{"$error":"#VALUE!"},2375,3000,2640,5280,3096.6666666666665,993.93745382304428,"","",14603.880000000001,"","","","","","","","","",7432]
[233,18660,{"$error":"#VALUE!"},{"$error":"#VALUE!"},2375,3000,2640,5280,3110,995.27413749496588,"","",14666.76,"","","","","","","","","",7464]
[234,18740,{"$error":"#VALUE!"},{"$error":"#VALUE!"},2375,3000,2640,5280,3123.3333333333335,996.60688881543888,"","",14729.640000000001,"","","","","","","","","",7496]
[235,18820,{"$error":"#VALUE!"},{"$error":"#VALUE!"},2375,3000,2640,5280,3136.6666666666665,997.93573606613495,"","",14792.52,"","","","","","","","","",7528]
[236,18900,{"$error":"#VALUE!"},{"$error":"#VALUE!"},2375,3000,2640,5280,3150,999.26070720613939,"","",14855.400000000001,"","","","","","","","","",7560]
[237,18980,{"$error":"#VALUE!"},{"$error":"#VALUE!"},2375,3000,2640,5280,3163.3333333333335,1000.5818298769785,"","",14918.28,"","","","","","","","","",7592]
[238,19060,{"$error":"#VALUE!"},{"$error":"#VALUE!"},2375,3000,2640,5280,3176.6666666666665,1001.8991314075506,"","",14981.16,"","","","","","","","","",7624]
[239,19140,{"$error":"#VALUE!"},{"$error":"#VALUE!"},2375,3000,2640,5280,3190,1003.2126388189539,"","",15044.04,"","","","","","","","","",7656]
[240,19220,{"$error":"#VALUE!"},{"$error":"#VALUE!"},2375,3000,2640,5280,3203.3333333333335,1004.5223788292263,"","",15106.92,"","","","","","","","","",7688]
[241,19300,{"$error":"#VALUE!"},{"$error":"#VALUE!"},2375,3000,2640,5280,3216.6666666666665,1005.8283778579874,"","",15169.800000000001,{"$f":"IF(N$3=1,3.28*VLOOKUP(N$39,OFFSETOdorFreeab,2,\"false\")*($M$29*$B280*$M$27)^VLOOKUP(N$39,OFFSETOdorFreeab,3,\"false\"),\"\")","v":""},"","","","","","","","",7720]
[242,19380,{"$error":"#VALUE!"},{"$error":"#VALUE!"},2375,3000,2640,5280,3230,1007.1306620309964,"","",15232.68,"","","","","","","","","",7752]
[243,19460,{"$error":"#VALUE!"},{"$error":"#VALUE!"},2375,3000,2640,5280,3243.3333333333335,1008.429257184614,"","",15295.560000000001,"","","","","","","","","",7784]
[244,19540,{"$error":"#VALUE!"},{"$error":"#VALUE!"},2375,3000,2640,5280,3256.6666666666665,1009.7241888701875,"","",15358.44,"","","","","","","","","",7816]
[245,19620,{"$error":"#VALUE!"},{"$error":"#VALUE!"},2375,3000,2640,5280,3270,1011.0154823583439,"","",15421.320000000002,"","","","","","","","","",7848]
[246,19700,{"$error":"#VALUE!"},{"$error":"#VALUE!"},2375,3000,2640,5280,3283.3333333333335,1012.3031626432062,"","",15484.2,"","","","","","","","","",7880]
[247,19780,{"$error":"#VALUE!"},{"$error":"#VALUE!"},2375,3000,2640,5280,3296.6666666666665,1013.5872544465284,"","",15547.08,"","","","","","","","","",7912]
[248,19860,{"$error":"#VALUE!"},{"$error":"#VALUE!"},2375,3000,2640,5280,3310,1014.8677822217501,"","",15609.960000000001,"","","","","","","","","",7944]
[249,{"$f":"(A288-$A$40)*B$38+$B$37","v":19940},{"$error":"#VALUE!"},{"$error":"#VALUE!"},{"$f":"IF($F$2=1,VLOOKUP(B288*$E$10,IDNRtable,2),\"\")","v":2375},{"$f":"IF($F$3=1,VLOOKUP(B288*$E$10,IDNRtable,3),\"\")","v":3000},2640,5280,{"$f":"B288/VLOOKUP(I$7,MDS2AUtable,2,\"false\")","v":3323.3333333333335},{"$f":"80.428*I288^0.3128","v":1016.1447701579775},{"$f":"IF($K$2=1,3.28*I$23*I$24*I$26*J288,\"\")","v":""},{"$f":"IF($K$3=1,2*3.28*I$23*I$24*I$26*J288,\"\")","v":""},{"$f":"$M$27*B288","v":15672.84},"","","","","","","","","",7976]
[250,20020,{"$error":"#VALUE!"},{"$error":"#VALUE!"},2375,3000,2640,5280,3336.6666666666665,1017.4182421838871,"","",15735.720000000001,"","","","","","","","","",8008]

{"sheet":"OFFSET","index":20,"n_rows":71,"n_cols":13,"rows_kept":71,"cut":false,"hidden":true,"merged":[]}
["Jacobson et al Dev OFFSET ASAE Trans 2005"]
["Guo Dev OFFSET Model Part II ASAE Trans 2005"]
["The separation distance and the total odor emission factor are correlated by D = a E^b"]
["  where D is m, and a,b are weather influence factors for various odor frequency requirements."]
[]
["Animal type","Finishing pigs"]
["Inventory",100000]
["Typical space per animal",{"$f":"VLOOKUP(B6,A43:D54,4,\"false\")","v":0.78600000000000003}]
["Barn floor area, m2",{"$f":"B7*B8","v":78600}]
["OEN/m2-s",{"$f":"VLOOKUP(B6,OFFSETOENtable,2,\"false\")","v":240}]
["OEN/s",{"$f":"B9*B10","v":18864000}]
["OU/m2-s",{"$f":"VLOOKUP(B6,OFFSETOENtable,3,\"false\")","v":6.8571428571428568}]
["OU/s-hd",{"$f":"B12*B8","v":5.3897142857142857}]
[]
["Rural Distance, m",{"$f":"C25*B11^D25","v":1828.5924707790991}]
["City Distance, m",{"$f":"C20*B11^D20","v":9099.1335292610856}]
[]
[null,"[\"OFFSETodorfreeab\"]"]
[null,"OFP","a","b","Stability"]
[null,99,1.6850000000000001,0.51300000000000001,"F"]
[null,98,0.72899999999999998,0.53700000000000003,"F"]
[null,97,0.44600000000000001,0.54,"E"]
[null,96,0.18,0.58399999999999996,"E"]
[null,94,0.13100000000000001,0.58299999999999996,"D"]
[null,91,5.0999999999999997E-2,0.626,"D"]
["Animal type","Swine primary lagoon",null,"Problem with OFFSET is that you can't size the manure storage from the number of animals.  It has to already be known.  This sucks."]
["Inventory",534]
["Shape of storage","Circle"]
["Radius, ft",500]
["Length, ft",200]
["Width, ft",300]
["Storage area, m2",{"$f":"IF(B28=\"circle\",PI()*B29^2/10.76,B30*B31/10.76)","v":72992.394367792585}]
["OEN/m2-s",{"$f":"VLOOKUP(B26,OFFSETstorageOENtable,2,\"false\")","v":40}]
["OEN/s",{"$f":"B32*B33","v":2919695.7747117034}]
["OU/m2-s",{"$f":"VLOOKUP(B26,OFFSETstorageOENtable,3,\"false\")","v":4}]
["OU/s",{"$f":"B27*B35","v":2136}]
[]
["Rural Distance, m",{"$f":"C25*B34^D25","v":568.68466134863854}]
["City Distance, m",{"$f":"C20*B34^D20","v":3493.9613353105947}]
[]
["[\"OFFSETbarnstable\"]",null,null,"[\"OFFSETOENtable\"]",null,"[\"OFFSETspaceperhdtable\"]"]
["Buildings","OEN/m2-s","OU/m2-s","Space/d, m2","Space, ft2","OU/s-hd","Number","91%, ft","94%, ft","96%, ft","97%, ft","98%, ft","99%, ft"]
["Beef",44,{"$f":"B43/35","v":1.2571428571428571},8.6,{"$f":"D43*10.76","v":92.536000000000001},{"$f":"C43*D43","v":10.811428571428571},1000,{"$f":"3.28*$C$25*($G43*$D43*$B43)^$D$25","v":519.08852179867256},{"$f":"3.28*$C$24*($G43*$D43*$B43)^$D$24","v":767.52167133994863},{"$f":"3.28*$C$23*($G43*$D43*$B43)^$D$23","v":1068.2423894053443},{"$f":"3.28*$C$22*($G43*$D43*$B43)^$D$22","v":1504.1886640425439},{"$f":"3.28*$C$21*($G43*$D43*$B43)^$D$21","v":2365.7079406795001},{"$f":"3.28*$C$20*($G43*$D43*$B43)^$D$20","v":4017.5628308918131}]
["Dairy freestall",70,{"$f":"B44/35","v":2},8.6,{"$f":"D44*10.76","v":92.536000000000001},{"$f":"C44*D44","v":17.2},1000,{"$f":"3.28*$C$25*($G44*$D44*$B44)^$D$25","v":694.17892310057869},{"$f":"3.28*$C$24*($G44*$D44*$B44)^$D$24","v":1006.1202586096786},{"$f":"3.28*$C$23*($G44*$D44*$B44)^$D$23","v":1400.9760136185423},{"$f":"3.28*$C$22*($G44*$D44*$B44)^$D$22","v":1932.817315666693},{"$f":"3.28*$C$21*($G44*$D44*$B44)^$D$21","v":3035.6010042891457},{"$f":"3.28*$C$20*($G44*$D44*$B44)^$D$20","v":5098.0812057995536}]
["Dairy Tiestall",25,0.7142857142857143,8.6,{"$f":"D45*10.76","v":92.536000000000001},6.1428571428571423,1000,364.37661392401168,552.02247700501789,767.87478973447355,1108.4738975897676,1746.307925416713,3006.1779076634157]
["Dairy open lot",40,1.1428571428571428,8.6,92.536000000000001,9.8285714285714274,1000,489.02335951184955,726.03692942691953,1010.4073093605493,1428.7303204715233,2247.6736573232579,3825.8525662112097]
["Layer annual cleanout",105,3,2.6700000000000002E-2,0.28729199999999999,8.0100000000000005E-2,100000,430.23384382125266,644.39856718911983,896.60978903275748,1279.2841085688217,2013.8010964628168,3444.6423478103843]
["Layer weekly cleanout",35,1,{"$f":"0.00975","v":9.75E-3},0.10491,9.75E-3,1000,6.4438809013655742,12.880315473032045,17.801671487111058,34.124629030452041,54.810200464357166,110.13871964317157]
["Broilers",16,0.45714285714285713,7.2599999999999998E-2,0.78117599999999998,3.3188571428571428E-2,1000,13.872970203988332,26.307109901480228,36.403186879369891,66.120977940495536,105.81244946344304,206.46563985630308]
["Turkeys",11,0.31428571428571428,0.09,0.96839999999999993,2.8285714285714286E-2,1000,12.551963035745384,23.966270558464103,33.15868525939333,60.652919114316681,97.108550476688421,190.21055105069837]
["Gestation sows",441,12.6,1.92,20.659199999999998,24.192,1000,859.42730179333262,1227.4885602929496,1709.8042908266173,2323.7435870430631,3645.8404108378286,6073.0139069626302]
["Farrowing sows",168,4.8,5.7,61.332000000000001,27.36,1000,928.25070944361232,1318.7895327103654,1837.2061268084169,2483.4083476979627,3894.9084481663099,6468.7625752459517]
["Nursery pigs",303,8.6571428571428566,{"$f":"2.9/10.76","v":0.2695167286245353},2.9,2.3332448220924054,1000,198.78049607281977,313.94796359202218,436.28562936839461,657.20977481598413,1038.3902429462548,1829.5500513845989]
["Finishing pigs",240,6.8571428571428568,0.78600000000000003,8.4573599999999995,5.3897142857142857,1000,335.73047966214654,511.49293291827473,711.40429174697204,1032.8825678295957,1627.8587416858772,2811.0843804152837]
[]
["[\"OFFSETstoragetable\"]","[\"OFFSETstorageOENtable\"]"]
["Manure Storage","OEN/m2-s","OU/m2-s"]
["Beef concrete tank",72,7.32]
["Dairy concrete tank",322,32.200000000000003]
["Dairy single basin",269,26.9]
["Dairy primary basin",63,6.33]
["Dairy secondary basin",51,5.07]
["Swine concrete tank",498,49.8]
["Swine single basin",141,14.1]
["Swine primary basin",155,15.5]
["Swine secondary basin",113,11.27]
["Swine primary lagoon",40,4]
["Swine secondary lagoon",12,1.2]
["Swine settling tank",530,53]
["Swine crusted stockpile",25,2.46]
["Swine manure stack",25,2.46]

{"sheet":"Illinois","index":21,"n_rows":40,"n_cols":10,"rows_kept":40,"cut":false,"hidden":true,"merged":[]}
[]
["Illinois Department of Agriculture","http://www.agr.state.il.us/Environment/LMFA/"]
[null,null,null,null,"Confinement buildings & covered formed manure storage"]
["Computing Animal Units",null,null,null,"Occupied rural residence",null,null,"Populated area"]
["Type of Animal","AU/head","# animals","Total AU","Dist., ft","Dist. m","Dist., mi.","Dist., ft","Dist. m","Dist., mi."]
["Cattle",1,20000,{"$f":"B6*C6","v":20000},{"$f":"VLOOKUP($D6,IDAtable,2)","v":2640},{"$f":"E6/3.28","v":804.8780487804878},{"$f":"E6/5280","v":0.5},{"$f":"VLOOKUP($D6,IDAtable,3)","v":5280},{"$f":"H6/3.28","v":1609.7560975609756},{"$f":"H6/5280","v":1}]
["Young dairy stock",0.6,500,{"$f":"B7*C7","v":300},1320,{"$f":"E7/3.28","v":402.4390243902439},{"$f":"E7/5280","v":0.25},2640,{"$f":"H7/3.28","v":804.8780487804878},0.5]
["Dairy cattle",1.4,3000,4200,1980,603.65853658536594,0.375,3960,1207.3170731707319,0.75]
["Swine > 55 lb",0.4,2000,800,1320,402.4390243902439,0.25,2640,804.8780487804878,0.5]
["Swine < 55 lb",0.03,500,15,0,0,0,0,0,0]
["Sheep, lambs, goats",0.1,500,50,1320,402.4390243902439,0.25,2640,804.8780487804878,0.5]
["Horses",2,50,100,1320,402.4390243902439,0.25,2640,804.8780487804878,0.5]
["Turkeys",0.02,300000,6000,2420,737.80487804878055,0.45833333333333331,4840,1475.6097560975611,0.91666666666666663]
["Laying hens or broilers with continuous overflow watering",0.01,400000,4000,1980,603.65853658536594,0.375,3960,1207.3170731707319,0.75]
["Laying hens or broilers at facilities with liquid manure handling systems",0.03,250000,7500,2640,804.8780487804878,0.5,5280,1609.7560975609756,1]
["Ducks",0.02,{"$f":"16*20000","v":320000},6400,2420,737.80487804878055,0.45833333333333331,4840,1475.6097560975611,0.91666666666666663]
[]
["Table 6 (567 IAC 65.11(455B)","[\"IDAtable\"]"]
[null,"Buildings and cov form"]
["Confinement Buildings","Uninc.","Incorp."]
["Number of AU","Dist., ft.","Dist., ft."]
[0,0,0]
[50,{"$f":"5280/4","v":1320},{"$f":"5280/2","v":2640}]
[1000,1320,{"$f":"C23","v":2640}]
[2000,{"$f":"B24+220","v":1540},{"$f":"C24+440","v":3080}]
[3000,1760,3520]
[4000,1980,3960]
[5000,2200,4400]
[6000,2420,4840]
[7000,2640,5280]
[]
["Randolph County Ordinance","[\"Randolphtable\"]"]
[null,"Distance, ft",null,null,"Open","Open"]
["Confinement Buildings","Uninc.","Incorp.","Pig NV/ Lagoon","Storage","Storage"]
["Number of AU","Dist., ft.","Dist., ft.","Dist., ft.","Residence","School"]
[0,100,5280,{"$f":"B36","v":100},1320,2640]
[340,870,5280,{"$f":"1.5*B37","v":1305},1320,2640]
[520,1000,{"$f":"C37","v":5280},{"$f":"1.5*B38","v":1500},1320,2640]
[700,1500,5280,2250,1320,2640]
[1400,2000,5280,3000,1320,2640]

{"sheet":"IOWA","index":22,"n_rows":29,"n_cols":34,"rows_kept":29,"cut":false,"hidden":true,"merged":[]}
[]
["Iowa Department of Natural Resources","http://www.iowadnr.gov/portals/idnr/uploads/afo/fs_distreq_constrctn.pdf"]
[null,null,null,null,"Confinement buildings & covered formed manure storage",null,null,null,null,null,"Anaerobic lagoons and uncovered earthen manure basins",null,null,null,null,null,"Covered earthen manure storage basins",null,null,null,null,null,"Uncovered formed manure storage structures",null,null,null,null,null,"Egg washwater storage structures"]
["Worksheet 1 (>3/1/03)",null,null,null,"Unincorporated areas",null,null,"Incorporated areas",null,null,"Unincorporated areas",null,null,"Incorporated areas",null,null,"Unincorporated areas",null,null,"Incorporated areas",null,null,"Unincorporated areas",null,null,"Incorporated areas",null,null,"Unincorporated areas",null,null,"Incorporated areas"]
["Type of Animal","AU/head","# animals","Total AU","Dist., ft","Dist. m","Dist., mi.","Dist., ft","Dist. m","Dist., mi.","Dist., ft","Dist. m","Dist., mi.","Dist., ft","Dist. m","Dist., mi.","Dist., ft","Dist. m","Dist., mi.","Dist., ft","Dist. m","Dist., mi.","Dist., ft","Dist. m","Dist., mi.","Dist., ft","Dist. m","Dist., mi.","Dist., ft","Dist. m","Dist., mi.","Dist., ft","Dist. m","Dist., mi."]
["Beef cattle",1,20000,{"$f":"B6*C6","v":20000},{"$f":"VLOOKUP($D6,IDNRtable,2)","v":2375},{"$f":"E6/3.28","v":724.08536585365857},{"$f":"E6/5280","v":0.44981060606060608},{"$f":"VLOOKUP($D6,IDNRtable,3)","v":3000},{"$f":"H6/3.28","v":914.63414634146352},{"$f":"H6/5280","v":0.56818181818181823},{"$f":"VLOOKUP($D6,IDNRtable,4)","v":3000},{"$f":"K6/3.28","v":914.63414634146352},{"$f":"K6/5280","v":0.56818181818181823},{"$f":"VLOOKUP($D6,IDNRtable,5)","v":3000},{"$f":"N6/3.28","v":914.63414634146352},{"$f":"N6/5280","v":0.56818181818181823},{"$f":"VLOOKUP($D6,IDNRtable,6)","v":2375},{"$f":"Q6/3.28","v":724.08536585365857},{"$f":"Q6/5280","v":0.44981060606060608},{"$f":"VLOOKUP($D6,IDNRtable,7)","v":3000},{"$f":"T6/3.28","v":914.63414634146352},{"$f":"T6/5280","v":0.56818181818181823},{"$f":"VLOOKUP($D6,IDNRtable,8)","v":2500},{"$f":"W6/3.28","v":762.19512195121956},{"$f":"W6/5280","v":0.47348484848484851},"Beef cattle",39999,59998,{"$f":"AA6*AB6","v":2399860002},{"$f":"VLOOKUP($D6,IDNRtable,2)","v":2375},{"$f":"AD6/3.28","v":724.08536585365857},{"$f":"AD6/5280","v":0.44981060606060608},{"$f":"VLOOKUP($D6,IDNRtable,3)","v":3000},{"$f":"AG6/3.28","v":914.63414634146352}]
["Immature dairy cattle",1,500,{"$f":"B7*C7","v":500},1250,{"$f":"E7/3.28","v":381.09756097560978},{"$f":"E7/5280","v":0.23674242424242425},1875,{"$f":"H7/3.28","v":571.64634146341461},0.35511363636363635,1875,{"$f":"K7/3.28","v":571.64634146341461},{"$f":"K7/5280","v":0.35511363636363635},1875,{"$f":"N7/3.28","v":571.64634146341461},0.35511363636363635,1250,{"$f":"Q7/3.28","v":381.09756097560978},{"$f":"Q7/5280","v":0.23674242424242425},1875,{"$f":"T7/3.28","v":571.64634146341461},0.35511363636363635,1500,{"$f":"W7/3.28","v":457.31707317073176},{"$f":"W7/5280","v":0.28409090909090912},"Immature dairy cattle",999,1498,{"$f":"AA7*AB7","v":1496502},1250,{"$f":"AD7/3.28","v":381.09756097560978},{"$f":"AD7/5280","v":0.23674242424242425},1875,{"$f":"AG7/3.28","v":571.64634146341461}]
["Mature dairy cattle",1.4,3000,4200,2375,724.08536585365857,0.44981060606060608,3000,914.63414634146352,0.56818181818181823,3000,914.63414634146352,0.56818181818181823,3000,914.63414634146352,0.56818181818181823,2375,724.08536585365857,0.44981060606060608,3000,914.63414634146352,0.56818181818181823,2500,762.19512195121956,0.47348484848484851,"Mature dairy cattle",5998.6,8997.2000000000007,53970603.920000009,2375,724.08536585365857,0.44981060606060608,3000,914.63414634146352]
["Gestating sows",0.4,2000,800,1250,381.09756097560978,0.23674242424242425,1875,571.64634146341461,0.35511363636363635,1875,571.64634146341461,0.35511363636363635,1875,571.64634146341461,0.35511363636363635,1250,381.09756097560978,0.23674242424242425,1875,571.64634146341461,0.35511363636363635,1500,457.31707317073176,0.28409090909090912,"Gestating sows",3999.6,5999.2,23994400.32,1250,381.09756097560978,0.23674242424242425,1875,571.64634146341461]
["Farrowing sows and litter",0.4,500,200,0,0,0,0,0,0,1875,571.64634146341461,0.35511363636363635,1875,571.64634146341461,0.35511363636363635,1250,381.09756097560978,0.23674242424242425,1875,571.64634146341461,0.35511363636363635,0,0,0,"Farrowing sows and litter",999.6,1499.2,1498600.32,0,0,0,0,0]
["Boars",0.4,10,4,0,0,0,0,0,0,1875,571.64634146341461,0.35511363636363635,1875,571.64634146341461,0.35511363636363635,1250,381.09756097560978,0.23674242424242425,1875,571.64634146341461,0.35511363636363635,0,0,0,"Boars",19.600000000000001,29.2,572.32000000000005,0,0,0,0,0]
["Gilts",0.4,800,320,0,0,0,0,0,0,1875,571.64634146341461,0.35511363636363635,1875,571.64634146341461,0.35511363636363635,1250,381.09756097560978,0.23674242424242425,1875,571.64634146341461,0.35511363636363635,0,0,0,"Gilts",1599.6,2399.1999999999998,3837760.3199999994,0,0,0,0,0]
["Finished (market) hogs",0.4,7500,3000,2375,724.08536585365857,0.44981060606060608,3000,914.63414634146352,0.56818181818181823,3000,914.63414634146352,0.56818181818181823,3000,914.63414634146352,0.56818181818181823,2375,724.08536585365857,0.44981060606060608,3000,914.63414634146352,0.56818181818181823,2500,762.19512195121956,0.47348484848484851,"Finished (market) hogs",14999.6,22499.200000000001,337479000.31999999,2375,724.08536585365857,0.44981060606060608,3000,914.63414634146352]
["Nursery pigs 15 to 55 lb",0.1,20000,2000,1875,571.64634146341461,0.35511363636363635,2500,762.19512195121956,0.47348484848484851,2500,762.19512195121956,0.47348484848484851,2500,762.19512195121956,0.47348484848484851,1875,571.64634146341461,0.35511363636363635,2500,762.19512195121956,0.47348484848484851,2000,609.7560975609756,0.37878787878787878,"Nursery pigs 15 to 55 lb",39999.9,59999.8,2399986000.02,1875,571.64634146341461,0.35511363636363635,2500,762.19512195121956]
["Sheep and lambs",0.1,500,50,0,0,0,0,0,0,1875,571.64634146341461,0.35511363636363635,1875,571.64634146341461,0.35511363636363635,1250,381.09756097560978,0.23674242424242425,1875,571.64634146341461,0.35511363636363635,0,0,0,"Sheep and lambs",999.9,1499.8,1499650.02,0,0,0,0,0]
["Horses",2,50,100,0,0,0,0,0,0,1875,571.64634146341461,0.35511363636363635,1875,571.64634146341461,0.35511363636363635,1250,381.09756097560978,0.23674242424242425,1875,571.64634146341461,0.35511363636363635,0,0,0,"Horses",98,146,14308,0,0,0,0,0]
["Turkeys >7 lb",1.7999999999999999E-2,30000,540,1250,381.09756097560978,0.23674242424242425,1875,571.64634146341461,0.35511363636363635,1875,571.64634146341461,0.35511363636363635,1875,571.64634146341461,0.35511363636363635,1250,381.09756097560978,0.23674242424242425,1875,571.64634146341461,0.35511363636363635,1500,457.31707317073176,0.28409090909090912,"Turkeys >7 lb",59999.982000000004,89999.964000000007,5399996220.0006485,1250,381.09756097560978,0.23674242424242425,1875,571.64634146341461]
["Turkeys < 7 lb",8.5000000000000006E-3,30000,255.00000000000003,0,0,0,0,0,0,1875,571.64634146341461,0.35511363636363635,1875,571.64634146341461,0.35511363636363635,1250,381.09756097560978,0.23674242424242425,1875,571.64634146341461,0.35511363636363635,0,0,0,"Turkeys < 7 lb",59999.991499999996,89999.982999999993,5399998215.000144,0,0,0,0,0]
["Broiler/Layer Chickens > 3 lb",0.01,400000,4000,2375,724.08536585365857,0.44981060606060608,3000,914.63414634146352,0.56818181818181823,3000,914.63414634146352,0.56818181818181823,3000,914.63414634146352,0.56818181818181823,2375,724.08536585365857,0.44981060606060608,3000,914.63414634146352,0.56818181818181823,2500,762.19512195121956,0.47348484848484851,"Broiler/Layer Chickens > 3 lb",799999.99,1199999.98,959999972000.00012,2375,724.08536585365857,0.44981060606060608,3000,914.63414634146352]
["Broiler/Layer Chickens < 3 lb",2.5000000000000001E-3,{"$f":"16*20000","v":320000},800,1250,381.09756097560978,0.23674242424242425,1875,571.64634146341461,0.35511363636363635,1875,571.64634146341461,0.35511363636363635,1875,571.64634146341461,0.35511363636363635,1250,381.09756097560978,0.23674242424242425,1875,571.64634146341461,0.35511363636363635,1500,457.31707317073176,0.28409090909090912,"Broiler/Layer Chickens < 3 lb",2.5000000000000001E-3,{"$f":"16*20000","v":320000},800,1250,381.09756097560978,0.23674242424242425,1875,571.64634146341461]
[]
["Table 6 (567 IAC 65.11(455B)","[\"IDNRtable\"]"]
[null,"Buildings and cov form",null,"Lagoons/unc basins",null,"Covered basins",null,"Uncov  form man struct",null,"Egg wash storage"]
["Confinement Buildings","Uninc.","Incorp.","Uninc.","Incorp.","Uninc.","Incorp.","Uninc.","Incorp.","Uninc.","Incorp."]
["Number of AU","Dist., ft.","Dist., ft.","Dist., ft.","Dist., ft.","Dist., ft.","Dist., ft.","Dist., ft.","Dist., ft.","Dist., ft.","Dist., ft."]
[0,0,0,1875,1875,1250,1875,0,0,0,0,null,null,{"$f":"2000/5280","v":0.37878787878787878}]
[500,1250,1875,1875,1875,1250,1875,1500,1875,1000,1875]
[1000,1875,2500,2500,2500,1875,2500,2000,2500,1500,2500]
[3000,2375,3000,3000,3000,2375,3000,2500,3000,2000,3000]

{"sheet":"NSW","index":23,"n_rows":133,"n_cols":13,"rows_kept":133,"cut":false,"hidden":true,"merged":[]}
["New South Wales, Australia Separation Guidelines in Level 1","http://www.epa.nsw.gov.au/air/odour.htm"]
["Level 1 is simple screening-level technique and results in a large setbacks and is suitable most for sparsely populated areas"]
["Level 2 is a screening-lvel dispersion modelling technique."]
["Level 3 is a refined-level dispersion modelling technique that uses site-specific input data."]
["Nice write up in framework document on source, pathway and receptor management.","http://www.epa.nsw.gov.au/resources/air/20060440framework.pdf"]
["Technical Notes has chapters on broilers, swine and cattle farms","http://www.epa.nsw.gov.au/resources/air/20060441notes.pdf"]
["Broilers"]
["Per shed"]
["100x13 m"]
["D=(N^0.71)/S"]
["N=number of sheds"]
["S=S1xS2xS3xS4xS5"]
["Number or Broilers",100000]
["Number of 22,000 bird shed equivalents",{"$f":"B13/22000","v":4.5454545454545459}]
["Separation Distance for Selected Factors, m",{"$f":"C20*C25*C34*C41*C48*B14^0.71","v":1938.2497880002011},"m"]
[null,{"$f":"B15*3.28","v":6357.459304640659},"ft"]
[]
["When working out separation distances, all waste and manure/litter stockpile areas should be regarded\nas part of the broiler shed complex until evidence dictates otherwise."]
[]
["Table 5.1 Broiler Shed Factor, S1 [strange factor because it sets the distance that is modified by the number of sheds]",null,980]
["Controlled fan ventilation without barriers",980]
["Controlled fan ventilation with barriers",690]
["Natural ventilation",690]
[]
["Table 5.2. Receptor factor, S2",null,0.75]
["Large towns, > 2000 persons",1.05]
["Medium towns, 500-2000 persons",0.75]
["Medium towns, 125-500 persons",0.55000000000000004]
["Small towns, 30-125 persons",0.45]
["Small towns, 10-30 persons",0.35]
["Single rural residence",0.3]
["Public area (occasional use)",0.05]
[]
["Table 5.3. Terrain factor, S3",null,1]
["Valley drainage zone (Low relief with significant confining sidewalls)",2]
["Low relief (>2% falling slope)",1.2]
["Flat (<10% upslope, <2% downslope, not in valley drainage zone)",1]
["Undulating country between farm and receptor",0.9]
["High relief or significant hills/valleys between farm and receptor (or >10% rising slope)",0.7]
[]
["Table 5.4 Vegetation factor, S4",null,0.9]
["Crops only, no tree cover",1]
["Few trees, long grass",0.9]
["Wooded country",0.7]
["Heavy timber",0.6]
["Heavy forest (both upper and lower storey)",0.5]
[]
["Table 5.5 Wind frequency factor, S5",null,1]
["High frequency towards receptor (>60%)",1.5]
["Normal wind conditions",1]
["Low frequency towards receptor (<5%0",0.7]
[]
[]
["Swine"]
["Per standard pig unit (SPU)"]
["grower pig 26 to 60 kg (57 to 132 lb)"]
["D=50 S (N^0.5)"]
["N=number of SPU"]
["S=S1xS2xS3xS4xS5"]
[]
["For a piggery growing from farrow to finish, multiply the number of sows by 10."]
[]
["New South Wales Pig Odor Factors"]
["Table 6.1 Standard pig units conversion table",null,null,null,null,"S=1"]
["Type of pig","Wt (kg)","SPU","N","S","D (m)","D (ft)","kg","kg","lb","lb","avg","Total SPU"]
["Lactating sows","160-250",2.5,null,1,{"$f":"(50*E66*D66*C66)^0.5","v":0},{"$f":"F66*3.28","v":0},160,250,{"$f":"H66*2.2","v":352},{"$f":"I66*2.2","v":550},null,{"$f":"C66*D66","v":0}]
["Gestating sow","160-250",1.8,null,1,0,0,160,250,352,550,null,{"$f":"C67*D67","v":0}]
["Gilt","100-160",1.8,null,1,0,0,100,160,220.00000000000003,352,null,0]
["Heavy finisher","100-125",1.8,null,1,0,0,100,125,220.00000000000003,275,null,0]
["Boar","100-250",1.6,null,1,0,0,100,250,220.00000000000003,550,null,0]
["Finisher","61-100",1.6,2000,1,400,1312,61,100,134.20000000000002,220.00000000000003,{"$f":"75*2.2","v":165},3200]
["Grower","26-60",1,3000,1,387.29833462074168,1270.3385375560326,26,60,57.2,132,{"$f":"40*2.2","v":88},3000]
["Weaners","8-25",0.5,null,1,0,0,8,25,17.600000000000001,55.000000000000007,{"$f":"16*2.2","v":35.200000000000003},0]
["Suckers/early weaners","1.4-8",0.1,null,1,0,0,1.4,8,3.08,17.600000000000001,null,0]
[]
["Separation Distance for Selected Factors",{"$f":"C82*C107*C116*C123*C130*50*(SUM(M66:M74)^0.5)","v":531.4955314957972}]
[]
["Table 6.2. Odor potential factor"]
["Litter Systems (See Table 6.3 for litter-based stocking densities)"]
["  Good management and recommended stocking rates",0.5]
["  Poor management and higher stocking rates",0.75]
["Liquid Manure Systems (S1=ABCDE)",null,{"$f":"IF(C83*C88*C92*C95*C102<0.5,0.5,C83*C88*C92*C95*C102)","v":0.5}]
["A. Type of building",null,0.6]
["  Slatted floor and deep pit",1]
["Partly slatted floor and shallow pit or open drain with regular flushing",0.9]
["Partly slatted floor and sloping floor and regular flushing",0.8]
["Partly slatted floor and \"pull plug\" and recharge system",0.6]
["B. Ventilation of buildings",null,0.9]
["Limited ridge and side-ventilators or limited forced ventilation",1]
["Ridge ventilators > 90% of length and <10% of width and side ventilator < 90% of length and 30% of wall height. Insulated barn.",0.9]
["Fan forced ventilated shed with well designed uniform ventilation throughout shed",0.9]
["C. Effluent collection frequency within all pig buildings",null,0.9]
["Manure removed every 24 h or less",1]
["Manure removed > 24 h",0.9]
["D. Effluent treatment system (within piggery compound)",null,1]
["  Anaerobic lagoon",1]
["Series lagoons and evaporative lagoons",1]
["Facultative lagoons",0.95]
["Aerated lagoons",0.75]
["Aerobic lagoons",0.6]
["No effluent storage within 500 m of the piggery.",0.6]
["E. Feeding",null,0.9]
["  Conventional feeding",1]
["Phase feeding",0.9]
["Phase feeding with optimal protein",0.8]
[]
["Table 6.4. Receptor factor, S2",null,0.3]
["Large towns, > 2000 persons",1.6]
["Medium towns, 500-2000 persons",1.2]
["Medium towns, 125-500 persons",1.1000000000000001]
["Small towns, 30-125 persons",1]
["Small towns, 10-30 persons",0.6]
["Single rural residence",0.3]
["Public area (occasional use)",0.05]
[]
["Table 6.5 Terrain factor, S3",null,1]
["Valley drainage zone (Low relief with significant confining sidewalls)",2]
["Low relief (>2% falling slope)",1.2]
["Flat (<10% upslope, <2% downslope, not in valley drainage zone)",1]
["Undulating country between farm and receptor",0.9]
["High relief or significant hills/valleys between farm and receptor (or >10% rising slope)",0.7]
[]
["Table 6.6 Vegetation factor, S4",null,0.9]
["Crops only, no tree cover",1]
["Few trees, long grass",0.9]
["Wooded country",0.7]
["Heavy timber",0.6]
["Heavy forest (both upper and lower storey)",0.5]
[]
["Table 6.7 Wind frequency factor, S5",null,1]
["High frequency towards receptor (>60%)",1.5]
["Normal wind conditions",1]
["Low frequency towards receptor (<5%0",0.7]

{"sheet":"Ontario MDS","index":24,"n_rows":70,"n_cols":5,"rows_kept":70,"cut":false,"hidden":true,"merged":[[7,0,8,0]]}
["Ontario Ministry of Agriculture and Food"]
[]
["http://www.omafra.gov.on.ca/english/landuse/guide_p7.htm"]
["http://www.omafra.gov.on.ca/english/landuse/guide_p6.htm"]
["http://www.brant.ca/ourcounty/development_services/planning/zoning/MDSI-II-SchedulesAug.pdf"]
["http://www.get.on.ca/uploads/userfiles/files/zoning%20by-law/appendixa.pdf"]
[]
["F (Building Base Distance) = (Factor A) x (Factor D) x (Factor B) x (Factor C)"]
[]
[]
["Number animals per NU","MSD2NperNU",350]
["Number of animals","MSD2NUMBER",400000]
["Total number of NU's","MSD2NUTUNITS",{"$f":"C12/MSD2NperNU","v":1142.8571428571429}]
["Factor A (odor potential of \"nutrient unit\")","MSD2FactorA",0.7]
["Factor B","MSD2FactorB",{"$f":"80.428*MSD2NUTUNITS^0.3128","v":727.69124566805772}]
["Factor C (Orderly Expansion Factor)","MSD2FactorC",1.1399999999999999]
["Factor D (Manure Form Factor)","MSD2FactorD",{"$f":"IF(MSD2manureform=\"solid\",0.7,0.8)","v":0.7}]
["Building Base Distance, F, m","MSD2FactorF",{"$f":"MSD2FactorA*MSD2FactorB*MSD2FactorC*MSD2FactorD","v":406.48832983017695}]
["Building Base Distance, F, ft",null,{"$f":"MSD2FactorF*3.28","v":1333.2817218429802}]
[]
[]
["Manure Form (solid or liquid)","MSD2manureform","solid"]
[null,null,"solid"]
[null,null,"liquid"]
[]
[]
["Selected odor emission factors from MSD2","MDS2","MDS2","MDS2","DNR"]
["Numbers per NU and Factor A","Number per NU","Factor A","Odor factor","Number per AU"]
["Swine"]
["Sows with litter, dry sows/boars SEW",3.33,1,{"$f":"C30/B30","v":0.3003003003003003},0.4]
["Sows with litter, dry sows or boars non-SEW",3.5,1,{"$f":"C31/B31","v":0.2857142857142857}]
["Breeder gilts",5,1,{"$f":"C32/B32","v":0.2},0.4]
["Weaners (7-27 kg)",20,1.1000000000000001,{"$f":"C33/B33","v":5.5000000000000007E-2},0.1]
["Feeders (27-105 kg)",6,1.2,{"$f":"C34/B34","v":0.19999999999999998},0.4]
["Dairy"]
["Dairy cows (Holstein - dry or wet)",0.7,0.7,{"$f":"C36/B36","v":1},1.4]
["Dairy heifers (Holstein - 182 to 545 kg)",2,0.7,{"$f":"C37/B37","v":0.35},1]
["Dairy replacement calves (Holstein - < 5 months)",6,0.7,{"$f":"C38/B38","v":0.11666666666666665},1]
["Dairy veal calves (milk-fed)",6,1.1000000000000001,{"$f":"C39/B39","v":0.18333333333333335}]
["Dairy veal calves (grain-fed)",6,0.8,{"$f":"C40/B40","v":0.13333333333333333}]
["Poultry"]
["Layer hens",150,1,{"$f":"C42/B42","v":6.6666666666666671E-3},0.01]
["Layer pullets (day old to layer house)",500,0.7,1.4E-3,2.5000000000000001E-3]
["Broilers on 8 week cycle",350,0.7,2E-3,0.01]
["Broilers on 9 week cycle",300,0.7,2.3333333333333331E-3,0.01]
["Broilers on 10 week cycle",250,0.7,2.8E-3,0.01]
["Broilers on 12 week cycle",200,0.7,3.4999999999999996E-3,0.01]
["Ducks",105,0.8,7.619047619047619E-3]
[]
["Manure Storage Information is Available"]
[]
["Factor B"]
[]
[]
["Final NU","Factor B (Type A)","Type B"]
[5,150,{"$f":"2*B56","v":300}]
[10,167,{"$f":"2*B57","v":334}]
[20,200,400]
[40,240,480]
[80,298,596]
[160,372,744]
[320,474,948]
[640,605,1210]
[1000,707,1414]
[1200,753,1506]
[1500,815,1630]
[2000,870,1740]
[3000,980,1960]
[4000,1090,2180]
[5000,1200,2400]

{"sheet":"NamedRanges1","index":25,"n_rows":746,"n_cols":3,"rows_kept":746,"cut":false,"hidden":true,"merged":[]}
[]
[]
[]
[]
[]
[]
[]
[]
["Name","Refers To","Scope"]
["Abatementflag","=ListsFlags!$C$46:$D$51","Workbook"]
["albanymo","=ListsFlags!$A$155","Workbook"]
["BAbate","=ListsFlags!$C$31:$C$34","Workbook"]
["BARNABATETABLE","=Swine!$B$35:$C$41","Workbook"]
["Blank_shape","=ListsFlags!$A$14","Workbook"]
["Center_Site_Geo_E","=Plotdata!$M$28","Workbook"]
["Center_Site_Geo_N","=Plotdata!$L$28","Workbook"]
["Center_Site_Mass_E","=Plotdata!$M$29","Workbook"]
["Center_Site_Mass_N","=Plotdata!$L$29","Workbook"]
["charlestonmo","=ListsFlags!$A$156","Workbook"]
["circle_shape","=ListsFlags!$A$13","Workbook"]
["circleplot","=Model!$H$10","Workbook"]
["circleradius","=Model!$F$10","Workbook"]
["columbiamo","=ListsFlags!$A$157","Workbook"]
["columbusin","=ListsFlags!$A$62","Workbook"]
["com_diff_E","=Plotdata!$M$30","Workbook"]
["com_diff_N","=Plotdata!$L$30","Workbook"]
["com_easterlies","=SrcFactors!$AE$6:$AE$15","Workbook"]
["com_northerlies","=SrcFactors!$AD$6:$AD$15","Workbook"]
["DAIRY","=Dairy!$B$6:$B$13","Workbook"]
["DAIRYBARNABATETABLE","=Dairy!$B$30:$C$36","Workbook"]
["DAIRYDIL","=Dairy!$B$17:$B$20","Workbook"]
["DAIRYDRTABLE","=Dairy!$B$17:$C$19","Workbook"]
["DAIRYMBABE","=Dairy!$B$41:$B$44","Workbook"]
["DAIRYMRTABLE","=Dairy!$B$24:$C$25","Workbook"]
["DAIRYREMOVE","=Dairy!$B$24:$B$26","Workbook"]
["DAIRYSBABE","=Dairy!$B$30:$B$37","Workbook"]
["DAIRYSTORAGEABATETABLE","=Dairy!$B$41:$C$43","Workbook"]
["DAIRYTABLE","=Dairy!$B$6:$D$12","Workbook"]
["DRTable","=Swine!$B$15:$C$19","Workbook"]
["e","=Model!$B$87","Workbook"]
["East_max","=SrcFactors!$CB$10","Workbook"]
["East_min","=SrcFactors!$CB$14","Workbook"]
["eastwest","=ListsFlags!$A$7","Workbook"]
["emax","=SrcFactors!$CB$8","Workbook"]
["ene","=Model!$B$86","Workbook"]
["ese","=Model!$B$88","Workbook"]
["evansvillein","=ListsFlags!$A$63","Workbook"]
["exposure_east","=Inputs!$D$35","Workbook"]
["exposure_ne","=Inputs!$C$35","Workbook"]
["exposure_north","=Inputs!$B$35","Workbook"]
["exposure_nw","=Inputs!$I$35","Workbook"]
["exposure_se","=Inputs!$E$35","Workbook"]
["exposure_south","=Inputs!$F$35","Workbook"]
["exposure_sw","=Inputs!$G$35","Workbook"]
["exposure_west","=Inputs!$H$35","Workbook"]
["exposureall","=Inputs!#REF!","Workbook"]
["farmlat","=Setback!$H$6","Workbook"]
["farmlong","=Setback!$I$6","Workbook"]
["ftwaynein","=ListsFlags!$A$64","Workbook"]
["IDAtable","=Illinois!$A$22:$C$30","Workbook"]
["IDNRtable","=IOWA!$A$26:$K$29","Workbook"]
["ILLINOIS","=ListsFlags!$A$79:$A$93","Workbook"]
["illinoisAUtable","=Illinois!$A$6:$B$16","Workbook"]
["illinoistypes","=Illinois!$A$6:$A$16","Workbook"]
["INDIANA","=ListsFlags!$A$62:$A$75","Workbook"]
["indyin","=ListsFlags!$A$65","Workbook"]
["IowaAUtable","=IOWA!$A$6:$B$20","Workbook"]
["Iowatypes","=IOWA!$A$6:$A$20","Workbook"]
["kancitymo","=ListsFlags!$A$158","Workbook"]
["KENTUCKY","=ListsFlags!$A$141:$A$151","Workbook"]
["kirksvillemo","=ListsFlags!$A$159","Workbook"]
["LANDA","=ListsFlags!$C$21","Workbook"]
["LANDAFCTR","=ListsFlags!$D$21","Workbook"]
["LANDB","=ListsFlags!$C$22","Workbook"]
["LANDBFCTR","=ListsFlags!$D$22","Workbook"]
["LANDC","=ListsFlags!$C$23","Workbook"]
["LANDCFCTR","=ListsFlags!$D$23","Workbook"]
["LANDD","=ListsFlags!$C$24","Workbook"]
["LANDDFCTR","=ListsFlags!$D$24","Workbook"]
["LANDE","=ListsFlags!$C$25","Workbook"]
["LANDEFCTR","=ListsFlags!$D$25","Workbook"]
["LANDF","=ListsFlags!$C$26","Workbook"]
["LANDFFCTR","=ListsFlags!$D$26","Workbook"]
["landflag","=ListsFlags!$G$19","Workbook"]
["LANDLIST","=ListsFlags!$G$18","Workbook"]
["LANDTYPE","=ListsFlags!$C$21:$C$27","Workbook"]
["LANDUSE","=ListsFlags!$D$21:$D$27","Workbook"]
["landusetable","=ListsFlags!$C$21:$D$26","Workbook"]
["Layerdil","=Poultry!$B$15:$B$21","Workbook"]
["layerdrtable","=Poultry!$B$15:$C$20","Workbook"]
["LAYERSBARNABATETABLE","=Poultry!$B$44:$C$50","Workbook"]
["LAYERSMBABE","=Poultry!$B$55:$B$58","Workbook"]
["LAYERSMRTABLE","=Poultry!$B$26:$C$38","Workbook"]
["LAYERSREMOVE","=Poultry!$B$26:$B$39","Workbook"]
["LAYERSSBABE","=Poultry!$B$44:$B$51","Workbook"]
["layersstorageabatetable","=Poultry!$B$55:$C$57","Workbook"]
["LAYERTABLE","=Poultry!$B$5:$D$10","Workbook"]
["LIVESTOCK","=ListsFlags!$F$5:$F$8","Workbook"]
["MAbate","=ListsFlags!$C$38:$C$43","Workbook"]
["ManFLagTable","=ListsFlags!$F$5:$H$7","Workbook"]
["MDS2AUtable","='Ontario MDS'!$A$29:$D$48","Workbook"]
["MDS2FactorBtable","='Ontario MDS'!$A$56:$B$70","Workbook"]
["mds2types","='Ontario MDS'!$A$29:$A$48","Workbook"]
["MICHIGAN","=ListsFlags!$A$97:$A$121","Workbook"]
["MISSOURI","=ListsFlags!$A$155:$A$169","Workbook"]
["MRTable","=Swine!$B$24:$C$29","Workbook"]
["MSD2FactorA","='Ontario MDS'!$C$14","Workbook"]
["MSD2FactorB","='Ontario MDS'!$C$15","Workbook"]
["MSD2FactorC","='Ontario MDS'!$C$16","Workbook"]
["MSD2FactorD","='Ontario MDS'!$C$17","Workbook"]
["MSD2FactorDtable","='Ontario MDS'!$C$23:$C$24","Workbook"]
["MSD2FactorE","='Ontario MDS'!#REF!","Workbook"]
["MSD2FactorF","='Ontario MDS'!$C$18","Workbook"]
["MSD2manureform","='Ontario MDS'!$C$22","Workbook"]
["MSD2NperNU","='Ontario MDS'!$C$11","Workbook"]
["MSD2NUTUNITS","='Ontario MDS'!$C$13","Workbook"]
["n","=Model!$B$83","Workbook"]
["ne","=Model!$B$85","Workbook"]
["nmax","=SrcFactors!$CB$9","Workbook"]
["nne","=Model!$B$84","Workbook"]
["nnw","=Model!$B$98","Workbook"]
["North_max","=SrcFactors!$CB$11","Workbook"]
["North_min","=SrcFactors!$CB$15","Workbook"]
["northsouth","=ListsFlags!$A$6","Workbook"]
["Number_of_Sources","=Inputs!$L$3","Workbook"]
["nw","=Model!$B$97","Workbook"]
["OFFSETbarnstable","=OFFSET!$A$43:$A$54","Workbook"]
["OFFSETOdorFreeab","=OFFSET!$B$20:$D$25","Workbook"]
["OFFSETOENtable","=OFFSET!$A$43:$F$54","Workbook"]
["OFFSETspaceperhdtable","=OFFSET!$A$43:$F$54","Workbook"]
["OFFSETstorageOENtable","=OFFSET!$A$58:$C$71","Workbook"]
["OFFSETstoragetable","=OFFSET!$A$58:$A$71","Workbook"]
["OHIO","=ListsFlags!$A$125:$A$137","Workbook"]
["ORIENTATION","=ListsFlags!$A$6:$A$8","Workbook"]
["OTHERLAND","=ListsFlags!$D$22:$D$25","Workbook"]
["paducahky","=ListsFlags!$A$141","Workbook"]
["pallexp","=Model!$D$55","Workbook"]
["pallland","=Model!$C$55","Workbook"]
["pallterrain","=Model!$A$55","Workbook"]
["palltype","=Model!$B$55","Workbook"]
["pL","=SrcFactors!$CB$16","Workbook"]
["PLOT","=ListsFlags!#REF!","Workbook"]
["POULTRY","=Poultry!$B$5:$B$11","Workbook"]
["PowerExpo","=ListsFlags!$G$14","Workbook"]
["pshape_east","=Inputs!$E$28","Workbook"]
["pshape_ne","=Inputs!$D$28","Workbook"]
["pshape_north","=Inputs!$C$28","Workbook"]
["pshape_nw","=Inputs!$J$28","Workbook"]
["pshape_se","=Inputs!$F$28","Workbook"]
["pshape_south","=Inputs!$G$28","Workbook"]
["pshape_sw","=Inputs!$H$28","Workbook"]
["pshape_west","=Inputs!$I$28","Workbook"]
["pvfctr","=SrcFactors!$CB$18","Workbook"]
["pW","=SrcFactors!$CB$17","Workbook"]
["RadiusEarth","=ListsFlags!$G$11","Workbook"]
["rectangle_shape","=ListsFlags!$A$12","Workbook"]
["ROSEILLINOIS","=Wind!$A$26:$I$40","Workbook"]
["ROSEINDIANA","=Wind!$A$43:$I$55","Workbook"]
["ROSEKENTUCKY","=Wind!$A$58:$I$67","Workbook"]
["ROSEMICHIGAN","=Wind!$A$70:$I$93","Workbook"]
["ROSEMISSOURI","=Wind!$A$96:$I$109","Workbook"]
["ROSEOHIO","=Wind!$A$112:$I$123","Workbook"]
["ROSETENNESSEE","=Wind!$A$127:$I$128","Workbook"]
["s","=Model!$B$91","Workbook"]
["s10abate","=Inputs!$H$13","Workbook"]
["s10abfctr","=SrcFactors!$AB$15","Workbook"]
["s10dil","=Model!$F$38","Workbook"]
["s10dilfctr","=SrcFactors!$W$15","Workbook"]
["s10emission","=Inputs!$G$13","Workbook"]
["s10emission_abated","=Inputs!$I$13","Workbook"]
["s10emsn","=SrcFactors!$U$15","Workbook"]
["s10L","=Model!$F$24","Workbook"]
["s10mandil","=SrcFactors!$AG$15","Workbook"]
["s10manrmv","=SrcFactors!$AF$15","Workbook"]
["s10name","=Model!$A$24","Workbook"]
["s10number","=Model!$D$38","Workbook"]
["s10ofctr","=SrcFactors!$AA$15","Workbook"]
["s10ORNT","=Model!$E$24","Workbook"]
["s10other","=Model!$E$51","Workbook"]
["s10plot","=Model!$G$38","Workbook"]
["s10rad","=Model!$H$24","Workbook"]
["s10rate","=SrcFactors!$T$15","Workbook"]
["s10rmvl","=Model!$E$38","Workbook"]
["s10rmvlfctr","=SrcFactors!$V$15","Workbook"]
["s10SA","=Model!$G$38","Workbook"]
["s10shape","=Model!$B$24","Workbook"]
["s10shape_east","=Inputs!$E$27","Workbook"]
["s10shape_ne","=Inputs!$D$27","Workbook"]
["s10shape_north","=Inputs!$C$27","Workbook"]
["s10shape_nw","=Inputs!$J$27","Workbook"]
["s10shape_se","=Inputs!$F$27","Workbook"]
["s10shape_south","=Inputs!$G$27","Workbook"]
["s10shape_sw","=Inputs!$H$27","Workbook"]
["s10shape_west","=Inputs!$I$27","Workbook"]
["s10source","=Model!$C$38","Workbook"]
["s10SWx","=Model!$D$24","Workbook"]
["s10SWy","=Model!$C$24","Workbook"]
["s10t1","=Model!$B$51","Workbook"]
["s10t1fctr","=SrcFactors!$X$15","Workbook"]
["s10t2","=Model!$C$51","Workbook"]
["s10t2fctr","=SrcFactors!$Y$15","Workbook"]
["s10t3","=Model!$D$51","Workbook"]
["s10t3fctr","=SrcFactors!$Z$15","Workbook"]
["s10type","=Model!$B$38","Workbook"]
["s10vfctr","=SrcFactors!$AL$15","Workbook"]
["s10W","=Model!$G$24","Workbook"]
["s1abate","=Inputs!$H$4","Workbook"]
["s1abfctr","=SrcFactors!$AB$6","Workbook"]
["s1dil","=Model!$F$29","Workbook"]
["s1dilfctr","=SrcFactors!$W$6","Workbook"]
["s1emission","=Inputs!$G$4","Workbook"]
["s1emission_abated","=Inputs!$I$4","Workbook"]
["s1emsn","=SrcFactors!$U$6","Workbook"]
["s1L","=Model!$F$15","Workbook"]
["s1mandil","=SrcFactors!$AG$6","Workbook"]
["s1manrmv","=SrcFactors!$AF$6","Workbook"]
["s1name","=Model!$A$15","Workbook"]
["s1number","=Model!$D$29","Workbook"]
["s1ofctr","=SrcFactors!$AA$6","Workbook"]
["s1ORNT","=Model!$E$15","Workbook"]
["s1other","=Model!$E$42","Workbook"]
["s1plot","=Model!$G$29","Workbook"]
["s1rad","=Model!$H$15","Workbook"]
["s1rate","=SrcFactors!$T$6","Workbook"]
["s1rmvl","=Model!$E$29","Workbook"]
["s1rmvlfctr","=SrcFactors!$V$6","Workbook"]
["s1SA","=Model!$G$29","Workbook"]
["s1shape","=Model!$B$15","Workbook"]
["s1shape_east","=Inputs!$E$18","Workbook"]
["s1shape_ne","=Inputs!$D$18","Workbook"]
["s1shape_north","=Inputs!$C$18","Workbook"]
["s1shape_nw","=Inputs!$J$18","Workbook"]
["s1shape_se","=Inputs!$F$18","Workbook"]
["s1shape_south","=Inputs!$G$18","Workbook"]
["s1shape_sw","=Inputs!$H$18","Workbook"]
["s1shape_west","=Inputs!$I$18","Workbook"]
["s1source","=Model!$C$29","Workbook"]
["s1SWx","=Model!$D$15","Workbook"]
["s1SWy","=Model!$C$15","Workbook"]
["s1t1","=Model!$B$42","Workbook"]
["s1t1fctr","=SrcFactors!$X$6","Workbook"]
["s1t2","=Model!$C$42","Workbook"]
["s1t2fctr","=SrcFactors!$Y$6","Workbook"]
["s1t3","=Model!$D$42","Workbook"]
["s1t3fctr","=SrcFactors!$Z$6","Workbook"]
["s1type","=Model!$B$29","Workbook"]
["s1vfctr","=SrcFactors!$AL$6","Workbook"]
["s1W","=Model!$G$15","Workbook"]
["s2abate","=Inputs!$H$5","Workbook"]
["s2abfctr","=SrcFactors!$AB$7","Workbook"]
["s2dil","=Model!$F$30","Workbook"]
["s2dilfctr","=SrcFactors!$W$7","Workbook"]
["s2emission","=Inputs!$G$5","Workbook"]
["s2emission_abated","=Inputs!$I$5","Workbook"]
["s2emsn","=SrcFactors!$U$7","Workbook"]
["s2L","=Model!$F$16","Workbook"]
["s2mandil","=SrcFactors!$AG$7","Workbook"]
["s2manrmv","=SrcFactors!$AF$7","Workbook"]
["s2name","=Model!$A$16","Workbook"]
["s2number","=Model!$D$30","Workbook"]
["s2ofctr","=SrcFactors!$AA$7","Workbook"]
["s2ORNT","=Model!$E$16","Workbook"]
["s2other","=Model!$E$43","Workbook"]
["s2plot","=Model!$G$30","Workbook"]
["s2rad","=Model!$H$16","Workbook"]
["s2rate","=SrcFactors!$T$7","Workbook"]
["s2rmvl","=Model!$E$30","Workbook"]
["s2rmvlfctr","=SrcFactors!$V$7","Workbook"]
["s2SA","=Model!$G$30","Workbook"]
["s2shape","=Model!$B$16","Workbook"]
["s2shape_east","=Inputs!$E$19","Workbook"]
["s2shape_ne","=Inputs!$D$19","Workbook"]
["s2shape_north","=Inputs!$C$19","Workbook"]
["s2shape_nw","=Inputs!$J$19","Workbook"]
["s2shape_se","=Inputs!$F$19","Workbook"]
["s2shape_south","=Inputs!$G$19","Workbook"]
["s2shape_sw","=Inputs!$H$19","Workbook"]
["s2shape_west","=Inputs!$I$19","Workbook"]
["s2source","=Model!$C$30","Workbook"]
["s2SWx","=Model!$D$16","Workbook"]
["s2SWy","=Model!$C$16","Workbook"]
["s2t1","=Model!$B$43","Workbook"]
["s2t1fctr","=SrcFactors!$X$7","Workbook"]
["s2t2","=Model!$C$43","Workbook"]
["s2t2fctr","=SrcFactors!$Y$7","Workbook"]
["s2t3","=Model!$D$43","Workbook"]
["s2t3fctr","=SrcFactors!$Z$7","Workbook"]
["s2type","=Model!$B$30","Workbook"]
["s2vfctr","=SrcFactors!$AL$7","Workbook"]
["s2W","=Model!$G$16","Workbook"]
["s3abate","=Inputs!$H$6","Workbook"]
["s3abfctr","=SrcFactors!$AB$8","Workbook"]
["s3dil","=Model!$F$31","Workbook"]
["s3dilfctr","=SrcFactors!$W$8","Workbook"]
["s3emission","=Inputs!$G$6","Workbook"]
["s3emission_abated","=Inputs!$I$6","Workbook"]
["s3emsn","=SrcFactors!$U$8","Workbook"]
["s3L","=Model!$F$17","Workbook"]
["s3mandil","=SrcFactors!$AG$8","Workbook"]
["s3manrmv","=SrcFactors!$AF$8","Workbook"]
["s3name","=Model!$A$17","Workbook"]
["s3number","=Model!$D$31","Workbook"]
["s3ofctr","=SrcFactors!$AA$8","Workbook"]
["s3ORNT","=Model!$E$17","Workbook"]
["s3other","=Model!$E$44","Workbook"]
["s3plot","=Model!$G$31","Workbook"]
["s3rad","=Model!$H$17","Workbook"]
["s3rate","=SrcFactors!$T$8","Workbook"]
["s3rmvl","=Model!$E$31","Workbook"]
["s3rmvlfctr","=SrcFactors!$V$8","Workbook"]
["s3SA","=Model!$G$31","Workbook"]
["s3shape","=Model!$B$17","Workbook"]
["s3shape_east","=Inputs!$E$20","Workbook"]
["s3shape_ne","=Inputs!$D$20","Workbook"]
["s3shape_north","=Inputs!$C$20","Workbook"]
["s3shape_nw","=Inputs!$J$20","Workbook"]
["s3shape_se","=Inputs!$F$20","Workbook"]
["s3shape_south","=Inputs!$G$20","Workbook"]
["s3shape_sw","=Inputs!$H$20","Workbook"]
["s3shape_west","=Inputs!$I$20","Workbook"]
["s3source","=Model!$C$31","Workbook"]
["s3SWx","=Model!$D$17","Workbook"]
["s3SWy","=Model!$C$17","Workbook"]
["s3t1","=Model!$B$44","Workbook"]
["s3t1fctr","=SrcFactors!$X$8","Workbook"]
["s3t2","=Model!$C$44","Workbook"]
["s3t2fctr","=SrcFactors!$Y$8","Workbook"]
["s3t3","=Model!$D$44","Workbook"]
["s3t3fctr","=SrcFactors!$Z$8","Workbook"]
["s3type","=Model!$B$31","Workbook"]
["s3vfctr","=SrcFactors!$AL$8","Workbook"]
["s3W","=Model!$G$17","Workbook"]
["s4abate","=Inputs!$H$7","Workbook"]
["s4abfctr","=SrcFactors!$AB$9","Workbook"]
["s4dil","=Model!$F$32","Workbook"]
["s4dilfctr","=SrcFactors!$W$9","Workbook"]
["s4emission","=Inputs!$G$7","Workbook"]
["s4emission_abated","=Inputs!$I$7","Workbook"]
["s4emsn","=SrcFactors!$U$9","Workbook"]
["s4L","=Model!$F$18","Workbook"]
["s4mandil","=SrcFactors!$AG$9","Workbook"]
["s4manrmv","=SrcFactors!$AF$9","Workbook"]
["s4name","=Model!$A$18","Workbook"]
["s4number","=Model!$D$32","Workbook"]
["s4ofctr","=SrcFactors!$AA$9","Workbook"]
["s4ORNT","=Model!$E$18","Workbook"]
["s4other","=Model!$E$45","Workbook"]
["s4plot","=Model!$G$32","Workbook"]
["s4rad","=Model!$H$18","Workbook"]
["s4rate","=SrcFactors!$T$9","Workbook"]
["s4rmvl","=Model!$E$32","Workbook"]
["s4rmvlfctr","=SrcFactors!$V$9","Workbook"]
["s4SA","=Model!$G$32","Workbook"]
["s4shape","=Model!$B$18","Workbook"]
["s4shape_east","=Inputs!$E$21","Workbook"]
["s4shape_ne","=Inputs!$D$21","Workbook"]
["s4shape_north","=Inputs!$C$21","Workbook"]
["s4shape_nw","=Inputs!$J$21","Workbook"]
["s4shape_se","=Inputs!$F$21","Workbook"]
["s4shape_south","=Inputs!$G$21","Workbook"]
["s4shape_sw","=Inputs!$H$21","Workbook"]
["s4shape_west","=Inputs!$I$21","Workbook"]
["s4source","=Model!$C$32","Workbook"]
["s4SWx","=Model!$D$18","Workbook"]
["s4SWy","=Model!$C$18","Workbook"]
["s4t1","=Model!$B$45","Workbook"]
["s4t1fctr","=SrcFactors!$X$9","Workbook"]
["s4t2","=Model!$C$45","Workbook"]
["s4t2fctr","=SrcFactors!$Y$9","Workbook"]
["s4t3","=Model!$D$45","Workbook"]
["s4t3fctr","=SrcFactors!$Z$9","Workbook"]
["s4type","=Model!$B$32","Workbook"]
["s4vfctr","=SrcFactors!$AL$9","Workbook"]
["s4W","=Model!$G$18","Workbook"]
["s5abate","=Inputs!$H$8","Workbook"]
["s5abfctr","=SrcFactors!$AB$10","Workbook"]
["s5dil","=Model!$F$33","Workbook"]
["s5dilfctr","=SrcFactors!$W$10","Workbook"]
["s5emission","=Inputs!$G$8","Workbook"]
["s5emission_abated","=Inputs!$I$8","Workbook"]
["s5emsn","=SrcFactors!$U$10","Workbook"]
["s5L","=Model!$F$19","Workbook"]
["s5mandil","=SrcFactors!$AG$10","Workbook"]
["s5manrmv","=SrcFactors!$AF$10","Workbook"]
["s5name","=Model!$A$19","Workbook"]
["s5number","=Model!$D$33","Workbook"]
["s5ofctr","=SrcFactors!$AA$10","Workbook"]
["s5ORNT","=Model!$E$19","Workbook"]
["s5other","=Model!$E$46","Workbook"]
["s5plot","=Model!$G$33","Workbook"]
["s5rad","=Model!$H$19","Workbook"]
["s5rate","=SrcFactors!$T$10","Workbook"]
["s5rmvl","=Model!$E$33","Workbook"]
["s5rmvlfctr","=SrcFactors!$V$10","Workbook"]
["s5SA","=Model!$G$33","Workbook"]
["s5shape","=Model!$B$19","Workbook"]
["s5shape_east","=Inputs!$E$22","Workbook"]
["s5shape_ne","=Inputs!$D$22","Workbook"]
["s5shape_north","=Inputs!$C$22","Workbook"]
["s5shape_nw","=Inputs!$J$22","Workbook"]
["s5shape_se","=Inputs!$F$22","Workbook"]
["s5shape_south","=Inputs!$G$22","Workbook"]
["s5shape_sw","=Inputs!$H$22","Workbook"]
["s5shape_west","=Inputs!$I$22","Workbook"]
["s5source","=Model!$C$33","Workbook"]
["s5SWx","=Model!$D$19","Workbook"]
["s5SWy","=Model!$C$19","Workbook"]
["s5t1","=Model!$B$46","Workbook"]
["s5t1fctr","=SrcFactors!$X$10","Workbook"]
["s5t2","=Model!$C$46","Workbook"]
["s5t2fctr","=SrcFactors!$Y$10","Workbook"]
["s5t3","=Model!$D$46","Workbook"]
["s5t3fctr","=SrcFactors!$Z$10","Workbook"]
["s5type","=Model!$B$33","Workbook"]
["s5vfctr","=SrcFactors!$AL$10","Workbook"]
["s5W","=Model!$G$19","Workbook"]
["s6abate","=Inputs!$H$9","Workbook"]
["s6abfctr","=SrcFactors!$AB$11","Workbook"]
["s6dil","=Model!$F$34","Workbook"]
["s6dilfctr","=SrcFactors!$W$11","Workbook"]
["s6emission","=Inputs!$G$9","Workbook"]
["s6emission_abated","=Inputs!$I$9","Workbook"]
["s6emsn","=SrcFactors!$U$11","Workbook"]
["s6L","=Model!$F$20","Workbook"]
["s6mandil","=SrcFactors!$AG$11","Workbook"]
["s6manrmv","=SrcFactors!$AF$11","Workbook"]
["s6name","=Model!$A$20","Workbook"]
["s6number","=Model!$D$34","Workbook"]
["s6ofctr","=SrcFactors!$AA$11","Workbook"]
["s6ORNT","=Model!$E$20","Workbook"]
["s6other","=Model!$E$47","Workbook"]
["s6plot","=Model!$G$34","Workbook"]
["s6rad","=Model!$H$20","Workbook"]
["s6rate","=SrcFactors!$T$11","Workbook"]
["s6rmvl","=Model!$E$34","Workbook"]
["s6rmvlfctr","=SrcFactors!$V$11","Workbook"]
["s6SA","=Model!$G$34","Workbook"]
["s6shape","=Model!$B$20","Workbook"]
["s6shape_east","=Inputs!$E$23","Workbook"]
["s6shape_ne","=Inputs!$D$23","Workbook"]
["s6shape_north","=Inputs!$C$23","Workbook"]
["s6shape_nw","=Inputs!$J$23","Workbook"]
["s6shape_se","=Inputs!$F$23","Workbook"]
["s6shape_south","=Inputs!$G$23","Workbook"]
["s6shape_sw","=Inputs!$H$23","Workbook"]
["s6shape_west","=Inputs!$I$23","Workbook"]
["s6source","=Model!$C$34","Workbook"]
["s6SWx","=Model!$D$20","Workbook"]
["s6SWy","=Model!$C$20","Workbook"]
["s6t1","=Model!$B$47","Workbook"]
["s6t1fctr","=SrcFactors!$X$11","Workbook"]
["s6t2","=Model!$C$47","Workbook"]
["s6t2fctr","=SrcFactors!$Y$11","Workbook"]
["s6t3","=Model!$D$47","Workbook"]
["s6t3fctr","=SrcFactors!$Z$11","Workbook"]
["s6type","=Model!$B$34","Workbook"]
["s6vfctr","=SrcFactors!$AL$11","Workbook"]
["s6W","=Model!$G$20","Workbook"]
["s7abate","=Inputs!$H$10","Workbook"]
["s7abfctr","=SrcFactors!$AB$12","Workbook"]
["s7dil","=Model!$F$35","Workbook"]
["s7dilfctr","=SrcFactors!$W$12","Workbook"]
["s7emission","=Inputs!$G$10","Workbook"]
["s7emission_abated","=Inputs!$I$10","Workbook"]
["s7emsn","=SrcFactors!$U$12","Workbook"]
["s7L","=Model!$F$21","Workbook"]
["s7mandil","=SrcFactors!$AG$12","Workbook"]
["s7manrmv","=SrcFactors!$AF$12","Workbook"]
["s7name","=Model!$A$21","Workbook"]
["s7number","=Model!$D$35","Workbook"]
["s7ofctr","=SrcFactors!$AA$12","Workbook"]
["s7ORNT","=Model!$E$21","Workbook"]
["s7other","=Model!$E$48","Workbook"]
["s7plot","=Model!$G$35","Workbook"]
["s7rad","=Model!$H$21","Workbook"]
["s7rate","=SrcFactors!$T$12","Workbook"]
["s7rmvl","=Model!$E$35","Workbook"]
["s7rmvlfctr","=SrcFactors!$V$12","Workbook"]
["s7SA","=Model!$G$35","Workbook"]
["s7shape","=Model!$B$21","Workbook"]
["s7shape_east","=Inputs!$E$24","Workbook"]
["s7shape_ne","=Inputs!$D$24","Workbook"]
["s7shape_north","=Inputs!$C$24","Workbook"]
["s7shape_nw","=Inputs!$J$24","Workbook"]
["s7shape_se","=Inputs!$F$24","Workbook"]
["s7shape_south","=Inputs!$G$24","Workbook"]
["s7shape_sw","=Inputs!$H$24","Workbook"]
["s7shape_west","=Inputs!$I$24","Workbook"]
["s7source","=Model!$C$35","Workbook"]
["s7SWx","=Model!$D$21","Workbook"]
["s7SWy","=Model!$C$21","Workbook"]
["s7t1","=Model!$B$48","Workbook"]
["s7t1fctr","=SrcFactors!$X$12","Workbook"]
["s7t2","=Model!$C$48","Workbook"]
["s7t2fctr","=SrcFactors!$Y$12","Workbook"]
["s7t3","=Model!$D$48","Workbook"]
["s7t3fctr","=SrcFactors!$Z$12","Workbook"]
["s7type","=Model!$B$35","Workbook"]
["s7vfctr","=SrcFactors!$AL$12","Workbook"]
["s7W","=Model!$G$21","Workbook"]
["s8abate","=Inputs!$H$11","Workbook"]
["s8abfctr","=SrcFactors!$AB$13","Workbook"]
["s8dil","=Model!$F$36","Workbook"]
["s8dilfctr","=SrcFactors!$W$13","Workbook"]
["s8emission","=Inputs!$G$11","Workbook"]
["s8emission_abated","=Inputs!$I$11","Workbook"]
["s8emsn","=SrcFactors!$U$13","Workbook"]
["s8L","=Model!$F$22","Workbook"]
["s8mandil","=SrcFactors!$AG$13","Workbook"]
["s8manrmv","=SrcFactors!$AF$13","Workbook"]
["s8name","=Model!$A$22","Workbook"]
["s8number","=Model!$D$36","Workbook"]
["s8ofctr","=SrcFactors!$AA$13","Workbook"]
["s8ORNT","=Model!$E$22","Workbook"]
["s8other","=Model!$E$49","Workbook"]
["s8plot","=Model!$G$36","Workbook"]
["s8rad","=Model!$H$22","Workbook"]
["s8rate","=SrcFactors!$T$13","Workbook"]
["s8rmvl","=Model!$E$36","Workbook"]
["s8rmvlfctr","=SrcFactors!$V$13","Workbook"]
["s8SA","=Model!$G$36","Workbook"]
["s8shape","=Model!$B$22","Workbook"]
["s8shape_east","=Inputs!$E$25","Workbook"]
["s8shape_ne","=Inputs!$D$25","Workbook"]
["s8shape_north","=Inputs!$C$25","Workbook"]
["s8shape_nw","=Inputs!$J$25","Workbook"]
["s8shape_se","=Inputs!$F$25","Workbook"]
["s8shape_south","=Inputs!$G$25","Workbook"]
["s8shape_sw","=Inputs!$H$25","Workbook"]
["s8shape_west","=Inputs!$I$25","Workbook"]
["s8source","=Model!$C$36","Workbook"]
["s8SWx","=Model!$D$22","Workbook"]
["s8SWy","=Model!$C$22","Workbook"]
["s8t1","=Model!$B$49","Workbook"]
["s8t1fctr","=SrcFactors!$X$13","Workbook"]
["s8t2","=Model!$C$49","Workbook"]
["s8t2fctr","=SrcFactors!$Y$13","Workbook"]
["s8t3","=Model!$D$49","Workbook"]
["s8t3fctr","=SrcFactors!$Z$13","Workbook"]
["s8type","=Model!$B$36","Workbook"]
["s8vfctr","=SrcFactors!$AL$13","Workbook"]
["s8W","=Model!$G$22","Workbook"]
["s9abate","=Inputs!$H$12","Workbook"]
["s9abfctr","=SrcFactors!$AB$14","Workbook"]
["s9dil","=Model!$F$37","Workbook"]
["s9dilfctr","=SrcFactors!$W$14","Workbook"]
["s9emission","=Inputs!$G$12","Workbook"]
["s9emission_abated","=Inputs!$I$12","Workbook"]
["s9emsn","=SrcFactors!$U$14","Workbook"]
["s9L","=Model!$F$23","Workbook"]
["s9mandil","=SrcFactors!$AG$14","Workbook"]
["s9manrmv","=SrcFactors!$AF$14","Workbook"]
["s9name","=Model!$A$23","Workbook"]
["s9number","=Model!$D$37","Workbook"]
["s9ofctr","=SrcFactors!$AA$14","Workbook"]
["s9ORNT","=Model!$E$23","Workbook"]
["s9other","=Model!$E$50","Workbook"]
["s9plot","=Model!$G$37","Workbook"]
["s9rad","=Model!$H$23","Workbook"]
["s9rate","=SrcFactors!$T$14","Workbook"]
["s9rmvl","=Model!$E$37","Workbook"]
["s9rmvlfctr","=SrcFactors!$V$14","Workbook"]
["s9SA","=Model!$G$37","Workbook"]
["s9shape","=Model!$B$23","Workbook"]
["s9shape_east","=Inputs!$E$26","Workbook"]
["s9shape_ne","=Inputs!$D$26","Workbook"]
["s9shape_north","=Inputs!$C$26","Workbook"]
["s9shape_nw","=Inputs!$J$26","Workbook"]
["s9shape_se","=Inputs!$F$26","Workbook"]
["s9shape_south","=Inputs!$G$26","Workbook"]
["s9shape_sw","=Inputs!$H$26","Workbook"]
["s9shape_west","=Inputs!$I$26","Workbook"]
["s9source","=Model!$C$37","Workbook"]
["s9SWx","=Model!$D$23","Workbook"]
["s9SWy","=Model!$C$23","Workbook"]
["s9t1","=Model!$B$50","Workbook"]
["s9t1fctr","=SrcFactors!$X$14","Workbook"]
["s9t2","=Model!$C$50","Workbook"]
["s9t2fctr","=SrcFactors!$Y$14","Workbook"]
["s9t3","=Model!$D$50","Workbook"]
["s9t3fctr","=SrcFactors!$Z$14","Workbook"]
["s9type","=Model!$B$37","Workbook"]
["s9vfctr","=SrcFactors!$AL$14","Workbook"]
["s9W","=Model!$G$23","Workbook"]
["SBABE","=Swine!$B$35:$B$42","Workbook"]
["sbendin","=ListsFlags!$A$66","Workbook"]
["scalefctr","=SrcFactors!$CB$5","Workbook"]
["se","=Model!$B$89","Workbook"]
["SHAPE","=ListsFlags!$A$12:$A$14","Workbook"]
["shape_east","=Inputs!$E$18","Workbook"]
["shape_ne","=Inputs!$D$18","Workbook"]
["shape_north","=Inputs!$C$18","Workbook"]
["shape_nw","=Inputs!$J$18","Workbook"]
["shape_se","=Inputs!$F$18","Workbook"]
["shape_south","=Inputs!$G$18","Workbook"]
["shape_sw","=Inputs!$H$18","Workbook"]
["shape_west","=Inputs!$I$18","Workbook"]
["ShapeFactorTable","=ListsFlags!$C$5:$D$8","Workbook"]
["site_emission","=Inputs!$G$14","Workbook"]
["site_emission_abated","=Inputs!$I$14","Workbook"]
["Site_Setback_E","=Setback!$D$15","Workbook"]
["Site_Setback_Ecom","=Setback!$Q$6","Workbook"]
["Site_Setback_N","=Setback!$B$15","Workbook"]
["Site_Setback_Ncom","=Setback!$Q$4","Workbook"]
["Site_Setback_NE","=Setback!$C$15","Workbook"]
["Site_Setback_NEcom","=Setback!$Q$5","Workbook"]
["Site_Setback_NW","=Setback!$I$15","Workbook"]
["Site_Setback_NWcom","=Setback!$Q$11","Workbook"]
["Site_Setback_S","=Setback!$F$15","Workbook"]
["Site_Setback_Scom","=Setback!$Q$8","Workbook"]
["Site_Setback_Se","=Setback!$E$15","Workbook"]
["Site_Setback_SEcom","=Setback!$Q$7","Workbook"]
["Site_Setback_SW","=Setback!$G$15","Workbook"]
["Site_Setback_SWcom","=Setback!$Q$9","Workbook"]
["Site_Setback_W","=Setback!$H$15","Workbook"]
["Site_Setback_Wcom","=Setback!$Q$10","Workbook"]
["sitelatitude","=Model!$B$10","Workbook"]
["sitelongitude","=Model!$D$10","Workbook"]
["SMABE","=Swine!$B$46:$B$48","Workbook"]
["Poultry!solver_adj","=Poultry!$C$7","Workbook"]
["Poultry!solver_cvg","=0.0001","Workbook"]
["Setback!solver_cvg","=0.0001","Workbook"]
["Poultry!solver_drv","=1","Workbook"]
["Setback!solver_drv","=1","Workbook"]
["Poultry!solver_eng","=1","Workbook"]
["Setback!solver_eng","=1","Workbook"]
["Poultry!solver_est","=1","Workbook"]
["Setback!solver_est","=1","Workbook"]
["Poultry!solver_itr","=2147483647","Workbook"]
["Setback!solver_itr","=2147483647","Workbook"]
["Poultry!solver_mip","=2147483647","Workbook"]
["Setback!solver_mip","=2147483647","Workbook"]
["Poultry!solver_mni","=30","Workbook"]
["Setback!solver_mni","=30","Workbook"]
["Poultry!solver_mrt","=0.075","Workbook"]
["Setback!solver_mrt","=0.075","Workbook"]
["Poultry!solver_msl","=2","Workbook"]
["Setback!solver_msl","=2","Workbook"]
["Poultry!solver_neg","=1","Workbook"]
["Setback!solver_neg","=1","Workbook"]
["Poultry!solver_nod","=2147483647","Workbook"]
["Setback!solver_nod","=2147483647","Workbook"]
["Poultry!solver_num","=0","Workbook"]
["Setback!solver_num","=0","Workbook"]
["Poultry!solver_nwt","=1","Workbook"]
["Setback!solver_nwt","=1","Workbook"]
["Poultry!solver_opt","=Poultry!$G$11","Workbook"]
["Setback!solver_opt","=Setback!$F$16","Workbook"]
["Poultry!solver_pre","=0.000001","Workbook"]
["Setback!solver_pre","=0.000001","Workbook"]
["Poultry!solver_rbv","=1","Workbook"]
["Setback!solver_rbv","=1","Workbook"]
["Poultry!solver_rlx","=2","Workbook"]
["Setback!solver_rlx","=2","Workbook"]
["Poultry!solver_rsd","=0","Workbook"]
["Setback!solver_rsd","=0","Workbook"]
["Poultry!solver_scl","=1","Workbook"]
["Setback!solver_scl","=1","Workbook"]
["Poultry!solver_sho","=2","Workbook"]
["Setback!solver_sho","=2","Workbook"]
["Poultry!solver_ssz","=100","Workbook"]
["Setback!solver_ssz","=100","Workbook"]
["Poultry!solver_tim","=2147483647","Workbook"]
["Setback!solver_tim","=2147483647","Workbook"]
["Poultry!solver_tol","=0.01","Workbook"]
["Setback!solver_tol","=0.01","Workbook"]
["Poultry!solver_typ","=3","Workbook"]
["Setback!solver_typ","=3","Workbook"]
["Poultry!solver_val","=0","Workbook"]
["Setback!solver_val","=2004","Workbook"]
["Poultry!solver_ver","=3","Workbook"]
["Setback!solver_ver","=3","Workbook"]
["springfieldmo","=ListsFlags!$A$160","Workbook"]
["sse","=Model!$B$90","Workbook"]
["ssw","=Model!$B$92","Workbook"]
["STATE","=ListsFlags!$A$52:$A$59","Workbook"]
["STATETABLE","=Wind!$A$17:$I$23","Workbook"]
["stlouismo","=ListsFlags!$A$168","Workbook"]
["STORAGEABATETABLE","=Swine!$B$46:$C$47","Workbook"]
["sw","=Model!$B$93","Workbook"]
["SWINE","=Swine!$B$5:$B$12","Workbook"]
["SWINEDIL","=Swine!$B$15:$B$20","Workbook"]
["SWINEREMOVE","=Swine!$B$24:$B$30","Workbook"]
["SWINETABLE","=Swine!$B$5:$D$11","Workbook"]
["Tennessee","=ListsFlags!$A$173:$A$175","Workbook"]
["terrain_east","=Inputs!$D$32","Workbook"]
["terrain_ne","=Inputs!$C$32","Workbook"]
["terrain_north","=Inputs!$B$32","Workbook"]
["terrain_nw","=Inputs!$I$32","Workbook"]
["terrain_se","=Inputs!$E$32","Workbook"]
["terrain_south","=Inputs!$F$32","Workbook"]
["terrain_sw","=Inputs!$G$32","Workbook"]
["terrain_west","=Inputs!$H$32","Workbook"]
["terraineast","=Inputs!$D$32","Workbook"]
["terrainne","=Inputs!$C$32","Workbook"]
["terrainnorth","=Inputs!$B$32","Workbook"]
["terrainnw","=Inputs!$I$32","Workbook"]
["terrainse","=Inputs!$E$32","Workbook"]
["terrainsouth","=Inputs!$F$32","Workbook"]
["terrainsw","=Inputs!$G$32","Workbook"]
["terrainwest","=Inputs!$H$32","Workbook"]
["terrehautein","=ListsFlags!$A$67","Workbook"]
["TOPOA","=ListsFlags!$C$12","Workbook"]
["TOPOAFCTR","=ListsFlags!$D$12","Workbook"]
["TOPOB","=ListsFlags!$C$13","Workbook"]
["TOPOBFCTR","=ListsFlags!$D$13","Workbook"]
["TOPOC","=ListsFlags!$C$14","Workbook"]
["TOPOCFCTR","=ListsFlags!$D$14","Workbook"]
["TOPOD","=ListsFlags!$C$15","Workbook"]
["TOPODFCTR","=ListsFlags!$D$15","Workbook"]
["TOPOE","=ListsFlags!$C$16","Workbook"]
["topoeastdir","=Model!$C$60","Workbook"]
["TOPOEFCTR","=ListsFlags!$D$16","Workbook"]
["topofactorall","=Inputs!#REF!","Workbook"]
["topofactorn","=Inputs!#REF!","Workbook"]
["topoflag","=ListsFlags!$F$19","Workbook"]
["TOPOLIST","=ListsFlags!$F$18","Workbook"]
["toponorthdir","=Model!$A$60","Workbook"]
["toponortheastdir","=Model!$B$60","Workbook"]
["toponorthwestdir","=Model!$H$60","Workbook"]
["toposouthdir","=Model!$E$60","Workbook"]
["toposoutheastdir","=Model!$D$60","Workbook"]
["toposouthwestdir","=Model!$F$60","Workbook"]
["topotable","=ListsFlags!$C$12:$D$16","Workbook"]
["TOPOTYPE","=ListsFlags!$C$12:$C$17","Workbook"]
["topowestdir","=Model!$G$60","Workbook"]
["w","=Model!$B$95","Workbook"]
["windchoice","=Model!$E$55","Workbook"]
["windchoiceflag","=ListsFlags!#REF!","Workbook"]
["windflag","=ListsFlags!$H$18","Workbook"]
["WINDFREQ","=ListsFlags!$A$27:$A$48","Workbook"]
["windfreq_east","=Inputs!$D$38","Workbook"]
["windfreq_ne","=Inputs!$C$38","Workbook"]
["windfreq_north","=Inputs!$B$38","Workbook"]
["windfreq_nw","=Inputs!$I$38","Workbook"]
["windfreq_se","=Inputs!$E$38","Workbook"]
["windfreq_south","=Inputs!$F$38","Workbook"]
["windfreq_sw","=Inputs!$G$38","Workbook"]
["windfreq_west","=Inputs!$H$38","Workbook"]
["windfreqflag","=ListsFlags!$G$12","Workbook"]
["windstate","=Model!$F$55","Workbook"]
["windstation","=Model!$G$55","Workbook"]
["wlafin","=ListsFlags!$A$74","Workbook"]
["wnw","=Model!$B$96","Workbook"]
["wsw","=Model!$B$94","Workbook"]
["YESNO","=ListsFlags!$A$21:$A$23","Workbook"]